BEGIN:VCALENDAR
VERSION:2.0
PRODID:-//Pôle 9 - ECPv6.5.1//NONSGML v1.0//EN
CALSCALE:GREGORIAN
METHOD:PUBLISH
X-WR-CALNAME:Pôle 9
X-ORIGINAL-URL:https://pole9.fr
X-WR-CALDESC:évènements pour Pôle 9
REFRESH-INTERVAL;VALUE=DURATION:PT1H
X-Robots-Tag:noindex
X-PUBLISHED-TTL:PT1H
BEGIN:VTIMEZONE

END:VTIMEZONE
BEGIN:VEVENT
DTSTART;TZID=Europe/Paris:20260420T135126
DTEND;TZID=Europe/Paris:20250709T000000
DTSTAMP:20260420T135126
CREATED:20250627T135300Z
LAST-MODIFIED:20250627T135300Z
UID:248459-0-1752019200@pole9.fr
SUMMARY:mercredi de l'été #1
DESCRIPTION:SPECTACLES ET INITIATION BMX – JORIS BRETAGNOLLES\nANIMATIONS SPORT\, NATURE\, INITIATION AUX ECHECS\, JEUX POUR TOUTE LA FAMILLE\nATELIER FRESQUE AVEC L’IMPRÉVISIBLE FABRIQUE\nPRÉVENTION SANTÉ SOLEIL\n21H MUSIQUE BRÉSILIENNE DIOGO CADAVAL\nbuvette et petite restauration sur place X autofinancement jeunes
URL:https://pole9.fr/event/mercredi-de-lete-1-2/
END:VEVENT
BEGIN:VEVENT
DTSTART;TZID=Europe/Paris:20241107T180000
DTEND;TZID=Europe/Paris:20241107T210000
DTSTAMP:20260420T135126
CREATED:20241105T130924Z
LAST-MODIFIED:20241105T130924Z
UID:247753-1731002400-1731013200@pole9.fr
SUMMARY:Jeudi au Bar du Pôle 9 / SOS oiseaux
DESCRIPTION:Vous aimez les oiseaux et souhaitez apprendre à les protéger ?\nAprès le projet “martinets” initié au printemps dernier avec la Ligue de Protection pour les Oiseaux\, on fait le point sur les projets de la saison 2024/2025. \nOuvert à toutes et à tous !
URL:https://pole9.fr/event/jeudi-au-bar-du-pole-9-sos-oiseaux/
LOCATION:Pôle 9 – MJC Centre Social\, 4 rue Sylvain Simondan\, Lyon\, 69009\, France
CATEGORIES:Eco-citoyenneté,Tout public
END:VEVENT
BEGIN:VEVENT
DTSTART;TZID=Europe/Paris:20241113T143000
DTEND;TZID=Europe/Paris:20241113T180000
DTSTAMP:20260420T135126
CREATED:20241105T131136Z
LAST-MODIFIED:20241105T131136Z
UID:247756-1731508200-1731520800@pole9.fr
SUMMARY:Mikado et Jeu de Go
DESCRIPTION:Le rendez-vous ludique à ne pas manquer où la ludothèque prend un format XXL !\nRetrouvez plusieurs espaces pour jouer pour tous les âges de la vie !\nUn temps en famille ou entre ami.e.s à partager autour des nouvelles actualités ludiques et culturelles.\nGilles\, joueur de Go vous accueillera et pourra vous faire découvrir cet art martial de l’esprit en quelques minutes. \nGratuit – Ouvert aux adhérent.es du Pôle 9
URL:https://pole9.fr/event/mikado-et-jeu-de-go-2/
LOCATION:Pôle 9 – MJC Centre Social\, 4 rue Sylvain Simondan\, Lyon\, 69009\, France
CATEGORIES:En famille,jeux pour tous
ATTACH;FMTTYPE=image/jpeg:https://pole9.fr/wp-content/uploads/2024/11/le-jeu-de-go-japon-4845-1024x683-1.jpg
END:VEVENT
BEGIN:VEVENT
DTSTART;TZID=Europe/Paris:20241114T180000
DTEND;TZID=Europe/Paris:20241114T210000
DTSTAMP:20260420T135126
CREATED:20241105T131504Z
LAST-MODIFIED:20241105T131504Z
UID:247759-1731607200-1731618000@pole9.fr
SUMMARY:Jeudi au Bar du Pôle 9 / Soirée Années 80
DESCRIPTION:On s’enflamme sur un dancefloor spécial années 80 ! C’est LA soirée où revivre sa folle jeunesse. \nOuvert à toutes et à tous.
URL:https://pole9.fr/event/jeudi-au-bar-du-pole-9-soiree-annees-80/
LOCATION:Pôle 9 – MJC Centre Social\, 4 rue Sylvain Simondan\, Lyon\, 69009\, France
CATEGORIES:Danse,Tout public
END:VEVENT
BEGIN:VEVENT
DTSTART;TZID=Europe/Paris:20241115T193000
DTEND;TZID=Europe/Paris:20241115T193000
DTSTAMP:20260420T135126
CREATED:20241105T131743Z
LAST-MODIFIED:20241105T131743Z
UID:247762-1731699000-1731699000@pole9.fr
SUMMARY:Festival Inclusif Vocamix 
DESCRIPTION:L’équipe de Léthé Musicale s’associe avec le Pôle Musique du Pôle 9 pour organiser une soirée concerts où enfants et adultes\, valides et en situation de handicap\, artistes et public se rencontrent en musique.\nAu programme :\n– Cem et Fred\, duo guitares chant de Léthé musicale\n– Le duo Omar et Gaétan\, performance d’improvisation au handpan\n– Les Darons de l’apocalypse \nBuvette sur place\nRéservation conseillée au Pôle 9 
URL:https://pole9.fr/event/festival-inclusif-vocamix/
LOCATION:Pôle 9 – MJC Centre Social\, 4 rue Sylvain Simondan\, Lyon\, 69009\, France
CATEGORIES:Concert,Gratuit,Tout public
END:VEVENT
BEGIN:VEVENT
DTSTART;TZID=Europe/Paris:20241120T090000
DTEND;TZID=Europe/Paris:20241120T180000
DTSTAMP:20260420T135126
CREATED:20241120T085333Z
LAST-MODIFIED:20241120T085333Z
UID:247780-1732093200-1732125600@pole9.fr
SUMMARY:Fermeture exceptionnelle de la ludothèque
DESCRIPTION:Ce sera aussi le cas ce samedi 23 novembre.
URL:https://pole9.fr/event/fermeture-exceptionnelle-de-la-ludotheque/
ATTACH;FMTTYPE=image/jpeg:https://pole9.fr/wp-content/uploads/2024/11/fermeture.jpg
END:VEVENT
BEGIN:VEVENT
DTSTART;TZID=Europe/Paris:20241121T180000
DTEND;TZID=Europe/Paris:20241121T210000
DTSTAMP:20260420T135126
CREATED:20241105T132204Z
LAST-MODIFIED:20241105T132204Z
UID:247765-1732212000-1732222800@pole9.fr
SUMMARY:Jeudi au Bar du Pôle 9 / Tournoi Mario Kart
DESCRIPTION:Venez tester vos talents de pilote entre ami(e)s sur le cultissime jeu vidéo Mario Kart.\nRigolade et bonne ambiance assurées ! \nOuvert à toutes et à tous.
URL:https://pole9.fr/event/jeudi-au-bar-du-pole-9-tournoi-mario-kart/
LOCATION:Pôle 9 – MJC Centre Social\, 4 rue Sylvain Simondan\, Lyon\, 69009\, France
CATEGORIES:En famille,Gratuit,jeux pour tous
END:VEVENT
BEGIN:VEVENT
DTSTART;TZID=Europe/Paris:20241122T200000
DTEND;TZID=Europe/Paris:20241122T200000
DTSTAMP:20260420T135126
CREATED:20241105T133004Z
LAST-MODIFIED:20241105T133522Z
UID:247767-1732305600-1732305600@pole9.fr
SUMMARY:Théâtre : "Post Scriptum"- Compagnie La Tête Ailleurs
DESCRIPTION:Hier ils fêtaient la fin d’année scolaire\, aujourd’hui ils célèbrent un mariage\, demain ils se retrouvent pour passer une semaine de vacances. L’amitié n’est pas un long fleuve tranquille… Amour\, promesses et espoir… Mais aussi trahisons\, oublis et mensonges.\nNe comptez par sur Lulu\, Vir\, Steph et Jo pour rendre la vie plus simple à Thierry et JB\, leurs amis d’enfance…\nUne comédie hilarante sur l’amour et l’amitié. \nTarif à prix libre – Billetterie :\nhttps://www.helloasso.com/associations/pole-9-mjc-centre-social/evenements/theatre-post-scriptum
URL:https://pole9.fr/event/theatre-post-scriptum-compagnie-la-tete-ailleurs/
LOCATION:Pôle 9 – MJC Centre Social\, 4 rue Sylvain Simondan\, Lyon\, 69009\, France
CATEGORIES:Théâtre
ATTACH;FMTTYPE=image/jpeg:https://pole9.fr/wp-content/uploads/2024/11/post-scriptum.jpg
END:VEVENT
BEGIN:VEVENT
DTSTART;TZID=Europe/Paris:20241128T180000
DTEND;TZID=Europe/Paris:20241128T210000
DTSTAMP:20260420T135126
CREATED:20241105T133407Z
LAST-MODIFIED:20241105T133407Z
UID:247772-1732816800-1732827600@pole9.fr
SUMMARY:Jeudi au Bar du Pôle 9 / DIY Tetrapak
DESCRIPTION:Apprenez à réutiliser votre brique de lait en carton\, en fabriquant un portefeuille avec. \nGratuit\, ouvert à toutes et tous. \n 
URL:https://pole9.fr/event/jeudi-au-bar-du-pole-9-diy-tetrapak/
LOCATION:Pôle 9 – MJC Centre Social\, 4 rue Sylvain Simondan\, Lyon\, 69009\, France
ATTACH;FMTTYPE=image/jpeg:https://pole9.fr/wp-content/uploads/2024/11/Upcycling-Tetra-Pak_2.jpg
END:VEVENT
END:VCALENDAR