BEGIN:VCALENDAR
VERSION:2.0
PRODID:-//Pôle 9 - ECPv6.5.1//NONSGML v1.0//EN
CALSCALE:GREGORIAN
METHOD:PUBLISH
X-WR-CALNAME:Pôle 9
X-ORIGINAL-URL:https://pole9.fr
X-WR-CALDESC:évènements pour Pôle 9
REFRESH-INTERVAL;VALUE=DURATION:PT1H
X-Robots-Tag:noindex
X-PUBLISHED-TTL:PT1H
BEGIN:VTIMEZONE

END:VTIMEZONE
BEGIN:VEVENT
DTSTART;TZID=Europe/Paris:20260420T150615
DTEND;TZID=Europe/Paris:20250709T000000
DTSTAMP:20260420T150615
CREATED:20250627T135300Z
LAST-MODIFIED:20250627T135300Z
UID:248459-0-1752019200@pole9.fr
SUMMARY:mercredi de l'été #1
DESCRIPTION:SPECTACLES ET INITIATION BMX – JORIS BRETAGNOLLES\nANIMATIONS SPORT\, NATURE\, INITIATION AUX ECHECS\, JEUX POUR TOUTE LA FAMILLE\nATELIER FRESQUE AVEC L’IMPRÉVISIBLE FABRIQUE\nPRÉVENTION SANTÉ SOLEIL\n21H MUSIQUE BRÉSILIENNE DIOGO CADAVAL\nbuvette et petite restauration sur place X autofinancement jeunes
URL:https://pole9.fr/event/mercredi-de-lete-1-2/
END:VEVENT
BEGIN:VEVENT
DTSTART;TZID=Europe/Paris:20241005T200000
DTEND;TZID=Europe/Paris:20241005T203000
DTSTAMP:20260420T150615
CREATED:20240919T081941Z
LAST-MODIFIED:20240928T134536Z
UID:247635-1728158400-1728160200@pole9.fr
SUMMARY:Soirée poésie et guitare
DESCRIPTION:Bienvenue pour une soirée poésie avec la lecture musicale de « Non Lieu » par Clément Bollenot et le guitariste Lucas Mendez.\n« Non-lieu est le récit d’une parenthèse d’espace et de temps dans laquelle les réalités se mêlent\, se suspendent\, se superposent. À travers une lecture musicale du recueil initialement publié aux éditions L’Ail des ours\, le poète Clément Bollenot et le guitariste Lucas Mendez vous invitent à embarquer pour un étrange voyage dont vous ne sortirez pas indemne.  Le narrateur prend place dans un train qui attend sur le quai d’une gare qui n’existe que par sa présence. Le train démarre et se transforme en monstre aux yeux jaunes qui traverse tunnels\, villes fantômes\, marges et périphéries. De l’autre côté de la fenêtre\, le monde défile\, s’efface\, se brouille alors qu’un funambule marche sur le rail. Seule dans une ville au cœur d’un immeuble perforé par la voie ferrée\, une femme vit au rythme du passage des trains. Quand ils font trembler les murs\, elle trouve refuge dans sa salle de bain. Jusqu’au jour où elle osera sortir sur le palier. »\nDurée 30 minutes – Tarif à prix libre\nBar du Pôle 9 ouvert \nAccueil à partir de 18H30\nNous aimerions vous présenter en images les spectacles et soirées culturelles qui jalonneront la saison.\nUne soirée conviviale pour ne rien manquer des temps culture du Pôle 9.
URL:https://pole9.fr/event/soiree-poesie/
LOCATION:Pôle 9 – MJC Centre Social\, 4 rue Sylvain Simondan\, Lyon\, 69009\, France
CATEGORIES:Sortie familles,Tout public
END:VEVENT
BEGIN:VEVENT
DTSTART;TZID=Europe/Paris:20241008T200000
DTEND;TZID=Europe/Paris:20241008T200000
DTSTAMP:20260420T150615
CREATED:20240919T082541Z
LAST-MODIFIED:20241002T080934Z
UID:247638-1728417600-1728417600@pole9.fr
SUMMARY:Conférence - La Ferme de Lyon et Saint-Cyr-Au-Mont-d'Or
DESCRIPTION:A l’occasion de cette soirée\, Simon Pascault – repreneur de la Ferme suite à la retraite de « Pierrot » Perraud présentera :  \n\nle fonctionnement de la ferme aujourd’hui\nles productions de la ferme aujourd’hui et les évolutions prévues pour des productions plus locales et plus respectueuses de l’environnement \nune “ ferme de quartier” encore plus ancrée dans Saint Rambert et Saint Cyr au mont d’or\nUne organisation pour permettre à chacun de s’approprier cette ferme\n\nEntrée gratuite. Réservation conseillée au 04 78 83 29 68 ou par email : accueil@pole9.fr ou sur place. 
URL:https://pole9.fr/event/conference-la-ferme-de-lyon-et-saint-cyr-au-mont-dor/
LOCATION:Pôle 9 – MJC Centre Social\, 4 rue Sylvain Simondan\, Lyon\, 69009\, France
CATEGORIES:Conférence,Gratuit
ATTACH;FMTTYPE=image/jpeg:https://pole9.fr/wp-content/uploads/2024/09/ferme.jpg
END:VEVENT
BEGIN:VEVENT
DTSTART;TZID=Europe/Paris:20241011T090000
DTEND;TZID=Europe/Paris:20241012T160000
DTSTAMP:20260420T150615
CREATED:20240919T083128Z
LAST-MODIFIED:20240919T084228Z
UID:247641-1728637200-1728748800@pole9.fr
SUMMARY:Bourse aux vêtements enfants et objets de puériculture
DESCRIPTION:La vente aura lieu :\nVen. 11/10 9h à 17h\nSam. 12/10  9h à 16h \nPour les personnes désirant vendre des articles\, des kits sont disponibles à l’accueil du Pôle 9 avec caution de 2 euros (1 kit par famille). Il faut être adhérent de l’association pour la saison 2024-2025 (12 €).\n==> Dépôt des vêtements et objets destinés à la vente : jeudi 10/10 de 9h à 19h en continu.\nRécupération des invendus et recette uniquement le mardi 15 octobre de 9h30 à 18h30.
URL:https://pole9.fr/event/bourse-aux-vetements-enfants-et-objets-de-puericulture/
LOCATION:Pôle 9 – MJC Centre Social\, 4 rue Sylvain Simondan\, Lyon\, 69009\, France
CATEGORIES:Bourse
END:VEVENT
BEGIN:VEVENT
DTSTART;TZID=Europe/Paris:20241012T093000
DTEND;TZID=Europe/Paris:20241012T120000
DTSTAMP:20260420T150615
CREATED:20240919T084129Z
LAST-MODIFIED:20240919T084129Z
UID:247644-1728725400-1728734400@pole9.fr
SUMMARY:Samedi du "fait maison" #1 : le savon
DESCRIPTION:Un samedi par mois\, venez partager une compétence\, un savoir-faire avec les habitant(e)s du quartier. \n1er RDV : Atelier « Faire son savon » (saponification à froid) avec Jacqueline et Pascaline.\nParticipation aux frais : 10 euros. \nApportez un moule à savon ou une boîte de « Pringles » vide ! \nRéservation à l’accueil du Pôle 9 ou https://www.helloasso.com/associations/pole-9-mjc-centre-social/evenements/atelier-diy-fais-ton-savon
URL:https://pole9.fr/event/samedi-du-fait-maison-1-le-savon/
LOCATION:Pôle 9 – MJC Centre Social\, 4 rue Sylvain Simondan\, Lyon\, 69009\, France
CATEGORIES:Eco-citoyenneté,Partage d'expérience
ATTACH;FMTTYPE=image/jpeg:https://pole9.fr/wp-content/uploads/2024/09/savon.jpg
END:VEVENT
BEGIN:VEVENT
DTSTART;TZID=Europe/Paris:20241016T143000
DTEND;TZID=Europe/Paris:20241016T180000
DTSTAMP:20260420T150615
CREATED:20240927T095707Z
LAST-MODIFIED:20240927T095716Z
UID:247667-1729089000-1729101600@pole9.fr
SUMMARY:Mikado et Jeu de Go
DESCRIPTION:Le rendez-vous ludique à ne pas manquer où la ludothèque prend un format XXL !Retrouvez plusieurs espaces pour jouer\, pour tous les âges !\nUn temps en famille ou entre ami.e.s à partager autour des nouvelles actualités ludiques et culturelles.==> Gilles\, joueur de Go vous accueillera et pourra vous faire découvrir cet art martial de l’esprit en quelques minutes !\nGratuit – Ouvert aux http://xn--adhrent-dya.es/ du Pôle 9 à jour d’inscription.
URL:https://pole9.fr/event/mikado-et-jeu-de-go/
LOCATION:Pôle 9 – MJC Centre Social\, 4 rue Sylvain Simondan\, Lyon\, 69009\, France
CATEGORIES:En famille,Gratuit,jeux pour tous,ludothèque
ATTACH;FMTTYPE=image/jpeg:https://pole9.fr/wp-content/uploads/2023/11/jeux-societe-quebec.jpg
END:VEVENT
BEGIN:VEVENT
DTSTART;TZID=Europe/Paris:20241017T180000
DTEND;TZID=Europe/Paris:20241017T210000
DTSTAMP:20260420T150615
CREATED:20241012T075126Z
LAST-MODIFIED:20241012T075126Z
UID:247720-1729188000-1729198800@pole9.fr
SUMMARY:Bar du Pôle 9 ouvert
DESCRIPTION:Au programme :\nVenez découvrir l’équipe du futur Café de St Rambert !
URL:https://pole9.fr/event/bar-du-pole-9-ouvert/
LOCATION:Pôle 9 – MJC Centre Social\, 4 rue Sylvain Simondan\, Lyon\, 69009\, France
END:VEVENT
BEGIN:VEVENT
DTSTART;TZID=Europe/Paris:20241018T203000
DTEND;TZID=Europe/Paris:20241018T203000
DTSTAMP:20260420T150615
CREATED:20241007T120953Z
LAST-MODIFIED:20241007T123608Z
UID:247700-1729283400-1729283400@pole9.fr
SUMMARY:Théâtre d’improvisation - Chaussettes sur cour 
DESCRIPTION:Venez retrouver la troupe des Chaussettes Trouées pour une nouvelle soirée entre émotions et fous rires. De bons moments à vivre en famille ou entre amis en perspective ! \nEntrée à prix libre.
URL:https://pole9.fr/event/theatre-dimprovisation-chaussettes-sur-cour/
LOCATION:Pôle 9 – MJC Centre Social\, 4 rue Sylvain Simondan\, Lyon\, 69009\, France
CATEGORIES:En famille,Impro,Théâtre
END:VEVENT
BEGIN:VEVENT
DTSTART;TZID=Europe/Paris:20241019T140000
DTEND;TZID=Europe/Paris:20241019T170000
DTSTAMP:20260420T150615
CREATED:20241012T070707Z
LAST-MODIFIED:20241012T074933Z
UID:247718-1729346400-1729357200@pole9.fr
SUMMARY:Stage danse africaine
DESCRIPTION:Animé par Yvon Serge Bissadissi \nÉnergie\, partage\, convivialité \nTous niveaux. \nA partir de 16 ans / adultes \n30€ par stage\, sur inscription au Pôle 9
URL:https://pole9.fr/event/stage-danse-africaine-2/
LOCATION:Pôle 9 – MJC Centre Social\, 4 rue Sylvain Simondan\, Lyon\, 69009\, France
CATEGORIES:Danse,Stages
ATTACH;FMTTYPE=image/png:https://pole9.fr/wp-content/uploads/2022/10/danseafricaine.png
END:VEVENT
BEGIN:VEVENT
DTSTART;TZID=Europe/Paris:20241021T143000
DTEND;TZID=Europe/Paris:20241021T143000
DTSTAMP:20260420T150615
CREATED:20240919T084655Z
LAST-MODIFIED:20240928T132806Z
UID:247647-1729521000-1729521000@pole9.fr
SUMMARY:Spectacle “Je suis tous les dieux” / Danse
DESCRIPTION:C’est une première ! les Subsistances programme en salle polyvalente un spectacle de danse pour tous les publics à partir de 6 ans pendant les vacances d’automne 2024.\n“Je suis tous les dieux” nous invite dans un monde fantasmagorique où se mêlent mots\, gestes et musique. Au fil de ses métamorphoses et de ses récits\, elle laisse apparaître des personnages magiques et des figures sacrées. Dans son décor merveilleux qui fait se rencontrer des allégories de nuages et de montagnes\, elle évolue pour incarner en voix et en pas les signes de cette danse. Elle est l’amante\, l’idole\, les dieux du Panthéon indien\, un monstre\, des animaux…\nJe suis tous les Dieux est un conte chorégraphique qui tisse des liens magnifiques entre écriture contemporaine et danse traditionnelle indienne. \nDurée 35 minutes – Tous publics – A partir de 6 ans\nTarifs : 12€ / 8€ / 5€ \nBilletterie directement sur le site des Subsistances : https://les-subs.notre-billetterie.com/ \n 
URL:https://pole9.fr/event/spectacle-je-suis-tous-les-dieux-danse/
LOCATION:Pôle 9 – MJC Centre Social\, 4 rue Sylvain Simondan\, Lyon\, 69009\, France
CATEGORIES:dès 6 ans,Spectacle,Tout public
ATTACH;FMTTYPE=image/jpeg:https://pole9.fr/wp-content/uploads/2024/09/SpectacleJesuistouslesdieux.jpg
END:VEVENT
BEGIN:VEVENT
DTSTART;TZID=Europe/Paris:20241021T183000
DTEND;TZID=Europe/Paris:20241021T183000
DTSTAMP:20260420T150615
CREATED:20240928T133408Z
LAST-MODIFIED:20240928T133752Z
UID:247687-1729535400-1729535400@pole9.fr
SUMMARY:Spectacle "Je suis tous les dieux" / danse
DESCRIPTION:C’est une première\, les Subsistances programme en salle polyvalente un spectacle de danse pour tous les publics à partir de 6 ans pendant les vacances d’automne 2024.  \n“Je suis tous les dieux” nous invite dans un monde fantasmagorique où se mêlent mots\, gestes et musique. Au fil de ses métamorphoses et de ses récits\, elle laisse apparaître des personnages magiques et des figures sacrées. Dans son décor merveilleux qui fait se rencontrer des allégories de nuages et de montagnes\, elle évolue pour incarner en voix et en pas les signes de cette danse. Elle est l’amante\, l’idole\, les dieux du Panthéon indien\, un monstre\, des animaux… Je suis tous les Dieux est un conte chorégraphique qui tisse des liens magnifiques entre écriture contemporaine et danse traditionnelle indienne. \nDurée 35 minutes – Tous publics – A partir de 6 ans \nTarifs : 12/8/5€(5 euros étant un tarif réduit pour les adhérents du Pôle 9)\n \nBilletterie directement sur le site des Subsistances https://les-subs.notre-billetterie.com/
URL:https://pole9.fr/event/spectacle-je-suis-tous-les-dieux/
LOCATION:Pôle 9 – MJC Centre Social\, 4 rue Sylvain Simondan\, Lyon\, 69009\, France
CATEGORIES:dès 6 ans,En famille,Spectacle,Tout public
ATTACH;FMTTYPE=image/jpeg:https://pole9.fr/wp-content/uploads/2024/09/SpectacleJesuistouslesdieux.jpg
END:VEVENT
BEGIN:VEVENT
DTSTART;TZID=Europe/Paris:20241022T143000
DTEND;TZID=Europe/Paris:20241022T170000
DTSTAMP:20260420T150615
CREATED:20240919T093540Z
LAST-MODIFIED:20240919T095132Z
UID:247657-1729607400-1729616400@pole9.fr
SUMMARY:Ateliers parents / enfants : “les veilleuses d’halloween” 
DESCRIPTION:Bricoler à 4 mains des petites lampes d’Halloween qui aideront à apprivoiser nos peurs. \nSur inscription à l’accueil à partir du 1/10. \n3 euros par enfant à partir de 5 ans.  
URL:https://pole9.fr/event/ateliers-parents-enfants-les-veilleuses-dhalloween/
LOCATION:Pôle 9 – MJC Centre Social\, 4 rue Sylvain Simondan\, Lyon\, 69009\, France
CATEGORIES:Atelier parents/enfants
END:VEVENT
BEGIN:VEVENT
DTSTART;TZID=Europe/Paris:20241023T133000
DTEND;TZID=Europe/Paris:20241023T133000
DTSTAMP:20260420T150615
CREATED:20240927T100239Z
LAST-MODIFIED:20240927T100355Z
UID:247670-1729690200-1729690200@pole9.fr
SUMMARY:Sortie au Musée des miniatures et du cinéma à Lyon 5è
DESCRIPTION:Visite de l’exposition « Beetlejuice » et de l’exposition permanente.\nSortons entre familles et découvrons ensemble ce musée qui fait la part belle au cinéma et ses effets spéciaux (décors\, masques et véritables accessoires issus de nombreux tournages… une collection incroyable !) ; toute une partie est consacré à des décors réalisés en miniatures. \nDépart du Pôle 9 à 13h30 \nTarifs : 4 euros pour les enfants et 5 euros pour les adultes (prévoir le titre de transports en commun) – Inscriptions à l’accueil à partir du 1/10
URL:https://pole9.fr/event/sortie-au-musee-des-miniatures-et-du-cinema-a-lyon-5e-2/
LOCATION:Extérieur
CATEGORIES:Sortie familles
END:VEVENT
BEGIN:VEVENT
DTSTART;TZID=Europe/Paris:20241024T180000
DTEND;TZID=Europe/Paris:20241024T210000
DTSTAMP:20260420T150615
CREATED:20241012T075247Z
LAST-MODIFIED:20241012T075247Z
UID:247723-1729792800-1729803600@pole9.fr
SUMMARY:Bar du Pôle 9 ouvert
DESCRIPTION:Au programme :\nLoto pour s’amuser et gagner des petits lots !
URL:https://pole9.fr/event/bar-du-pole-9-ouvert-2/
LOCATION:Pôle 9 – MJC Centre Social\, 4 rue Sylvain Simondan\, Lyon\, 69009\, France
END:VEVENT
BEGIN:VEVENT
DTSTART;TZID=Europe/Paris:20241030T093000
DTEND;TZID=Europe/Paris:20241030T140000
DTSTAMP:20260420T150615
CREATED:20240919T095334Z
LAST-MODIFIED:20240919T095334Z
UID:247662-1730280600-1730296800@pole9.fr
SUMMARY:Atelier Parents / enfants : Cuisine d'Halloween et repas tous ensemble
DESCRIPTION:Cuisiner à 4 mains un festin d’Halloween\, et le déguster tous ensemble. \nSur inscription à l’accueil à partir du 1/10. \n2 euros par participant – à partir de 5 ans
URL:https://pole9.fr/event/atelier-parents-enfants-cuisine-dhalloween-et-repas-tous-ensemble/
LOCATION:Pôle 9 – MJC Centre Social\, 4 rue Sylvain Simondan\, Lyon\, 69009\, France
CATEGORIES:Atelier parents/enfants,Ateliers cuisine,dès 5 ans
END:VEVENT
BEGIN:VEVENT
DTSTART;TZID=Europe/Paris:20241031T180000
DTEND;TZID=Europe/Paris:20241031T180000
DTSTAMP:20260420T150615
CREATED:20240919T085120Z
LAST-MODIFIED:20241030T095019Z
UID:247650-1730397600-1730397600@pole9.fr
SUMMARY:Soirée Halloween
DESCRIPTION:La traditionnelle soirée d’Halloween du Pôle 9 est bien évidemment de retour cette saison ! \nAu programme : \n> Dès 18h : spectacle de feu de la Cie « Cessez le feu »\n> Animations de 18h30 à 20h :\n– atelier guirlandes fantômes\n– atelier photophores effrayants\n– stand de maquillage\n– Cheesebox vient te prendre en photo \n> Escape Game sur inscription à l’accueil > 3 départs : 18h30 / 19h30 / 20h30\n> Contes qui font peur par Luluberlue à 19h30\n> Bal déguisé à 21h \nCôté bar : mocktails sanglants\, soupe faite par groupe d’ados et petite restauration par l’association Ubuntu. \nGratuit et ouvert à tous !
URL:https://pole9.fr/event/soiree-halloween-3/
LOCATION:Pôle 9 – MJC Centre Social\, 4 rue Sylvain Simondan\, Lyon\, 69009\, France
CATEGORIES:En famille,évènement
END:VEVENT
END:VCALENDAR