BEGIN:VCALENDAR
VERSION:2.0
PRODID:-//Pôle 9 - ECPv6.5.1//NONSGML v1.0//EN
CALSCALE:GREGORIAN
METHOD:PUBLISH
X-WR-CALNAME:Pôle 9
X-ORIGINAL-URL:https://pole9.fr
X-WR-CALDESC:évènements pour Pôle 9
REFRESH-INTERVAL;VALUE=DURATION:PT1H
X-Robots-Tag:noindex
X-PUBLISHED-TTL:PT1H
BEGIN:VTIMEZONE

END:VTIMEZONE
BEGIN:VEVENT
DTSTART;TZID=Europe/Paris:20260420T174324
DTEND;TZID=Europe/Paris:20250709T000000
DTSTAMP:20260420T174324
CREATED:20250627T135300Z
LAST-MODIFIED:20250627T135300Z
UID:248459-0-1752019200@pole9.fr
SUMMARY:mercredi de l'été #1
DESCRIPTION:SPECTACLES ET INITIATION BMX – JORIS BRETAGNOLLES\nANIMATIONS SPORT\, NATURE\, INITIATION AUX ECHECS\, JEUX POUR TOUTE LA FAMILLE\nATELIER FRESQUE AVEC L’IMPRÉVISIBLE FABRIQUE\nPRÉVENTION SANTÉ SOLEIL\n21H MUSIQUE BRÉSILIENNE DIOGO CADAVAL\nbuvette et petite restauration sur place X autofinancement jeunes
URL:https://pole9.fr/event/mercredi-de-lete-1-2/
END:VEVENT
BEGIN:VEVENT
DTSTART;TZID=Europe/Paris:20240821T180000
DTEND;TZID=Europe/Paris:20240821T220000
DTSTAMP:20260420T174324
CREATED:20240719T143016Z
LAST-MODIFIED:20240719T143100Z
UID:247572-1724263200-1724277600@pole9.fr
SUMMARY:Les mercredis de l’été au Vergoin - "Calme et fraîcheur sous les cerisiers"
DESCRIPTION:18h/20h : espace livres – jeux / ludothèque – Découverte et initiation au handpan\nEspace chill : coussins /tapis & Mr Freeze \n20h30 : concert Le piano vagabond \nGRATUIT
URL:https://pole9.fr/event/les-mercredis-de-lete-au-vergoin-calme-et-fraicheur-sous-les-cerisiers-2/
LOCATION:Cerisaie\, LYON\, 69009\, France
CATEGORIES:Concert,En famille,Gratuit
ATTACH;FMTTYPE=image/jpeg:https://pole9.fr/wp-content/uploads/2024/07/mer4-marianne-schoendorff-a-installe-son-piano-vagabond.jpg
END:VEVENT
BEGIN:VEVENT
DTSTART;TZID=Europe/Paris:20240823T050000
DTEND;TZID=Europe/Paris:20240823T235900
DTSTAMP:20260420T174324
CREATED:20240719T143648Z
LAST-MODIFIED:20240719T144050Z
UID:247575-1724389200-1724457540@pole9.fr
SUMMARY:Sortie en famille aux Saintes Maries de la Mer 
DESCRIPTION:Départ devant le Pôle 9 à 5h du matin\, retour prévu pour minuit \nPrévoir 2 Piques-niques tirés du sac  \nTarifs selon QF :-\n– Adultes 9 à 18 euros\n– Enfants 5 à 12 euros
URL:https://pole9.fr/event/sortie-en-famille-aux-saintes-maries-de-la-mer/
LOCATION:Extérieur
CATEGORIES:Sortie familles
END:VEVENT
BEGIN:VEVENT
DTSTART;TZID=Europe/Paris:20240828T180000
DTEND;TZID=Europe/Paris:20240828T230000
DTSTAMP:20260420T174324
CREATED:20240702T085115Z
LAST-MODIFIED:20240702T085115Z
UID:247550-1724868000-1724886000@pole9.fr
SUMMARY:Les mercredis de l’été à la Maison de l’Enfance - "Alors on danse !"
DESCRIPTION:18h : spectacle déambulatoire de l’Imprévisible Fabrique au départ du Vergoin\n19h : kermesse – maquillage – jeux / ludothèque\n21h : Bal années 80 avec le groupe Cover Club \nGRATUIT – Buvette et restauration payante sur place X Mieux Vivre au Vergoin
URL:https://pole9.fr/event/les-mercredis-de-lete-a-la-maison-de-lenfance-alors-on-danse/
LOCATION:La Maison de l’Enfance\, 91 montée des Balmes\, LYON\, 69009\, France
CATEGORIES:En famille,Gratuit,Journée spéciale
END:VEVENT
END:VCALENDAR