BEGIN:VCALENDAR
VERSION:2.0
PRODID:-//Pôle 9 - ECPv6.5.1//NONSGML v1.0//EN
CALSCALE:GREGORIAN
METHOD:PUBLISH
X-WR-CALNAME:Pôle 9
X-ORIGINAL-URL:https://pole9.fr
X-WR-CALDESC:évènements pour Pôle 9
REFRESH-INTERVAL;VALUE=DURATION:PT1H
X-Robots-Tag:noindex
X-PUBLISHED-TTL:PT1H
BEGIN:VTIMEZONE

END:VTIMEZONE
BEGIN:VEVENT
DTSTART;TZID=Europe/Paris:20260420T190042
DTEND;TZID=Europe/Paris:20250709T000000
DTSTAMP:20260420T190042
CREATED:20250627T135300Z
LAST-MODIFIED:20250627T135300Z
UID:248459-0-1752019200@pole9.fr
SUMMARY:mercredi de l'été #1
DESCRIPTION:SPECTACLES ET INITIATION BMX – JORIS BRETAGNOLLES\nANIMATIONS SPORT\, NATURE\, INITIATION AUX ECHECS\, JEUX POUR TOUTE LA FAMILLE\nATELIER FRESQUE AVEC L’IMPRÉVISIBLE FABRIQUE\nPRÉVENTION SANTÉ SOLEIL\n21H MUSIQUE BRÉSILIENNE DIOGO CADAVAL\nbuvette et petite restauration sur place X autofinancement jeunes
URL:https://pole9.fr/event/mercredi-de-lete-1-2/
END:VEVENT
BEGIN:VEVENT
DTSTART;TZID=Europe/Paris:20240703T190000
DTEND;TZID=Europe/Paris:20240703T190000
DTSTAMP:20260420T190042
CREATED:20240702T081643Z
LAST-MODIFIED:20240702T081643Z
UID:247526-1720033200-1720033200@pole9.fr
SUMMARY:Sortie observation Martinets
DESCRIPTION:Avec la Ligue de protection des oiseaux \nIls passent les trois quarts de leur vie à voler et ils nichent peut-être sous votre toit… Connaissez-vous vos voisins du dessus\, les martinets ? Partons ensemble à leur découverte.\nCette balade dans le quartier du Vergoin (St Rambert\, Lyon 9)\, sur les traces des martinets\, sera l’occasion d’évoquer le plan de sauvegarde hirondelles et martinets de la métropole de Lyon\, de découvrir les caractéristiques de ces oiseaux si particuliers\, d’observer les martinets et peut-être même de repérer certains de leurs sites de nidification. Jumelles bienvenues !\nInfos pratiques :\nRDV devant le local associatif du Vergoin dit «la Chaufferie»\nGRATUIT – A partir de 10 ans\, si enfant non accompagné par un adulte.
URL:https://pole9.fr/event/sortie-observation-martinets/
LOCATION:La Chaufferie du Vergoin\, 7 rue Albert Falsan\, Lyon\, 69009\, France
CATEGORIES:Eco-citoyenneté,Gratuit
END:VEVENT
BEGIN:VEVENT
DTSTART;TZID=Europe/Paris:20240707T150000
DTEND;TZID=Europe/Paris:20240707T220000
DTSTAMP:20260420T190042
CREATED:20240702T082143Z
LAST-MODIFIED:20240702T082251Z
UID:247528-1720364400-1720389600@pole9.fr
SUMMARY:Festival Les Dimanches de l’Ile Barbe (1ère journée)
DESCRIPTION:15h/18h : Ateliers création d’une broche musique et tatoo éphémère tribal \nPrêt de jeux de pétanque et mölkky \n15/19h Ludothèque XXL en plein air pour toutes et tous sans limite d’âge \n16h30 : RONDE[s] et MOMENTUM (danse)*\nLa ronde est une tradition\, la plus ancienne forme de danse collective qui nous soit parvenue. Une ode à la communauté et à l’égalité\, où l’individu peut sentir qu’il fait partie de quelque chose de plus grand que lui. Du folklore à la contemporanéité\, la danse du Jeune Ballet Calabash célèbre l’expression de la joie\, un élan de vie. Momentum est un voyage à couper le souffle\, un moment de bonheur partagé. \n18h : Arba Canté – Chants polyphoniques\nLa rencontre de quatre femmes\, quatre voix qui s’entremêlent. Elles visitent a cappella des chants traditionnels du monde\, en passant par la méditerranée\, les pays de l’Est\, l’Afrique mais aussi des compositions originales inspirées de sonorités d’origines multiples. \n19h45 : Chicharron – Chicha & Rock fusion\nLe quintet propose une véritable fusion entre la Chicha péruvienne des 60’\, le Rock progressif 70’\, les musiques afro-péruviennes et les belles mélodies andines en y ajoutant toujours une touche de Rock et de Cumbia\, le cocktail est explosif\, baroque et surprenant. \nLe Pont des arts\, expo de dessins d’enfants des  accueils périscolaires des Écoles des St Rambert \nSpectacles gratuits\nBoissons artisanales et locale à la vente\nCrêpes et galettes bretonnes bio / Madamann\nEsquimaux de la Conserverie Les Cousins
URL:https://pole9.fr/event/festival-les-dimanches-de-lile-barbe-1ere-journee/
LOCATION:L’Ile Barbe\, Lyon\, 69009\, France
CATEGORIES:Festival Les Dimanches de l'Ile Barbe,Gratuit
END:VEVENT
BEGIN:VEVENT
DTSTART;TZID=Europe/Paris:20240710T100000
DTEND;TZID=Europe/Paris:20240710T100000
DTSTAMP:20260420T190042
CREATED:20240702T083845Z
LAST-MODIFIED:20240702T083845Z
UID:247544-1720605600-1720605600@pole9.fr
SUMMARY:Sortie observation Martinets
DESCRIPTION:Avec la Ligue de protection des oiseaux \nIls passent les trois quarts de leur vie à voler et ils nichent peut-être sous votre toit… Connaissez-vous vos voisins du dessus\, les martinets ? Partons ensemble à leur découverte.\nCette balade dans le quartier du Vergoin (St Rambert\, Lyon 9)\, sur les traces des martinets\, sera l’occasion d’évoquer le plan de sauvegarde hirondelles et martinets de la métropole de Lyon\,  de découvrir les caractéristiques de ces oiseaux si particuliers\, d’observer les martinets et peut-être même de repérer certains de leurs sites de nidification. Jumelles bienvenues ! \nInfos pratiques :\nRDV à la Dargoire – 31 avenue Douaumont\nGRATUIT – A partir de 10 ans\, si enfant non accompagné par un adulte.
URL:https://pole9.fr/event/sortie-observation-martinets-2/
LOCATION:La Dargoire\, LYON\, 69009\, France
CATEGORIES:Eco-citoyenneté,En famille,Gratuit
END:VEVENT
BEGIN:VEVENT
DTSTART;TZID=Europe/Paris:20240710T180000
DTEND;TZID=Europe/Paris:20240710T230000
DTSTAMP:20260420T190042
CREATED:20240702T083619Z
LAST-MODIFIED:20240702T083635Z
UID:247541-1720634400-1720652400@pole9.fr
SUMMARY:Les mercredis de l’été au Vergoin - "Faites du sport"
DESCRIPTION:– Pour les enfants 18h/20h : atelier cirque – olympiades parent-enfants – jeux / ludothèque\n– Pour les ados 18h/20h : Lyon boxe united ring – Pong Ball – zumba by Dim’Fit\n– Pour les adultes 18h : zumba by Dim’Fit – quizz santé\n– Pour toutes et tous 21h : Projection Demi-finale de l’EURO de foot 2024 et/ou LOTO en famille \nGRATUIT – buvette et petite restauration payante sur place X Ubuntu
URL:https://pole9.fr/event/les-mercredis-de-lete-au-vergoin-faites-du-sport/
LOCATION:La Chaufferie du Vergoin\, 7 rue Albert Falsan\, Lyon\, 69009\, France
CATEGORIES:En famille,Gratuit,Journée spéciale
ATTACH;FMTTYPE=image/jpeg:https://pole9.fr/wp-content/uploads/2024/07/mer1-demifinalefoot.jpg
END:VEVENT
BEGIN:VEVENT
DTSTART;TZID=Europe/Paris:20240717T180000
DTEND;TZID=Europe/Paris:20240717T220000
DTSTAMP:20260420T190042
CREATED:20240702T083015Z
LAST-MODIFIED:20240702T083144Z
UID:247534-1721239200-1721253600@pole9.fr
SUMMARY:Les mercredis de l’été à la Dargoire - "Brésil Brésil"
DESCRIPTION:18h : batucada des enfants de la Maison de l’Enfance avec les ados du Pôle 9. \n– atelier aménagement d’abreuvoirs ET NICHOIRS pour les oiseauX\n– ateliers fabrication de masques et de maracas – jeux / ludothèque18h/20h Cuisinons ensemble des tartines d’été \n21h : concert musique brésilienne Diogo Cadaval \nGRATUIT – buvette et tartines sur place
URL:https://pole9.fr/event/les-mercredis-de-lete-a-la-dargoire-bresil-bresil/
LOCATION:La Dargoire\, LYON\, 69009\, France
CATEGORIES:En famille,Gratuit,Journée spéciale
END:VEVENT
BEGIN:VEVENT
DTSTART;TZID=Europe/Paris:20240721T150000
DTEND;TZID=Europe/Paris:20240721T220000
DTSTAMP:20260420T190042
CREATED:20240702T082539Z
LAST-MODIFIED:20240721T083450Z
UID:247531-1721574000-1721599200@pole9.fr
SUMMARY:Festival Les Dimanches de l’Ile Barbe ANNULATION
DESCRIPTION:En raison de conditions météo défavorables et ce jusque 15h\, nous sommes dans l’obligation d’annuler cette journée de festival.\nNous sommes tristes de ne pas pouvoir vous retrouver.\nNous vous donnons rendez-vous en 2025 pour une édition ensoleillée !
URL:https://pole9.fr/event/festival-les-dimanches-de-lile-barbe-2eme-journee/
LOCATION:L’Ile Barbe\, Lyon\, 69009\, France
CATEGORIES:Festival Les Dimanches de l'Ile Barbe,Gratuit
ATTACH;FMTTYPE=image/jpeg:https://pole9.fr/wp-content/uploads/2024/07/nuage-triste-1.jpg
END:VEVENT
BEGIN:VEVENT
DTSTART;TZID=Europe/Paris:20240724T180000
DTEND;TZID=Europe/Paris:20240724T233000
DTSTAMP:20260420T190042
CREATED:20240719T142726Z
LAST-MODIFIED:20240719T142726Z
UID:247570-1721844000-1721863800@pole9.fr
SUMMARY:Les mercredis de l’été au Vergoin - "Ciné Cinéma"
DESCRIPTION:18h/20h : jeux / ludothèque – installation de l’Imprévisible fabrique – Lyon boxe united ring \n22h : Ciné en plein air – court métrage La Disparition + FILM La Petite Bande \nGRATUIT – Pop-corn et Mr Freeze
URL:https://pole9.fr/event/les-mercredis-de-lete-au-vergoin-cine-cinema/
LOCATION:La Chaufferie du Vergoin\, 7 rue Albert Falsan\, Lyon\, 69009\, France
CATEGORIES:En famille,Gratuit
ATTACH;FMTTYPE=image/webp:https://pole9.fr/wp-content/uploads/2024/07/la-petite-bande.webp
END:VEVENT
BEGIN:VEVENT
DTSTART;TZID=Europe/Paris:20240725T100000
DTEND;TZID=Europe/Paris:20240725T100000
DTSTAMP:20260420T190042
CREATED:20240719T145211Z
LAST-MODIFIED:20240719T145336Z
UID:247578-1721901600-1721901600@pole9.fr
SUMMARY:Sortie Parc Tête d'or & Mini-golf
DESCRIPTION:En famille\, à partir de 5 ans\nRDV à 10h au Pôle 9 – départ en Tcl\nTarif : 3 euros par personnes\n\n\nAdhésion obligatoire\nChaque personne doit être muni d’un titre de transport
URL:https://pole9.fr/event/sortie-parc-tete-dor-mini-golf/
LOCATION:Extérieur
CATEGORIES:Sortie familles
END:VEVENT
END:VCALENDAR