BEGIN:VCALENDAR
VERSION:2.0
PRODID:-//Pôle 9 - ECPv6.5.1//NONSGML v1.0//EN
CALSCALE:GREGORIAN
METHOD:PUBLISH
X-WR-CALNAME:Pôle 9
X-ORIGINAL-URL:https://pole9.fr
X-WR-CALDESC:évènements pour Pôle 9
REFRESH-INTERVAL;VALUE=DURATION:PT1H
X-Robots-Tag:noindex
X-PUBLISHED-TTL:PT1H
BEGIN:VTIMEZONE

END:VTIMEZONE
BEGIN:VEVENT
DTSTART;TZID=Europe/Paris:20260420T202236
DTEND;TZID=Europe/Paris:20250709T000000
DTSTAMP:20260420T202236
CREATED:20250627T135300Z
LAST-MODIFIED:20250627T135300Z
UID:248459-0-1752019200@pole9.fr
SUMMARY:mercredi de l'été #1
DESCRIPTION:SPECTACLES ET INITIATION BMX – JORIS BRETAGNOLLES\nANIMATIONS SPORT\, NATURE\, INITIATION AUX ECHECS\, JEUX POUR TOUTE LA FAMILLE\nATELIER FRESQUE AVEC L’IMPRÉVISIBLE FABRIQUE\nPRÉVENTION SANTÉ SOLEIL\n21H MUSIQUE BRÉSILIENNE DIOGO CADAVAL\nbuvette et petite restauration sur place X autofinancement jeunes
URL:https://pole9.fr/event/mercredi-de-lete-1-2/
END:VEVENT
BEGIN:VEVENT
DTSTART;TZID=Europe/Paris:20240601T203000
DTEND;TZID=Europe/Paris:20240601T203000
DTSTAMP:20260420T202236
CREATED:20240528T073242Z
LAST-MODIFIED:20240528T073242Z
UID:247360-1717273800-1717273800@pole9.fr
SUMMARY:Les Chausettes trouées - Spectacle d'improvisation
DESCRIPTION:Retrouvez l’équipe des Chaussettes Trouées pour un nouveau spectacle de théâtre d’improvisation\, Fenêtre sur Chaussettes. \nAu programme\, une soirée pour toutes et tous de surprises et de rires. \nEntrée prix libre – Sur réservation au Pôle 9. \n  \n  \n 
URL:https://pole9.fr/event/les-chausettes-trouees-spectacle-dimprovisation/
LOCATION:Pôle 9 – MJC Centre Social\, 4 rue Sylvain Simondan\, Lyon\, 69009\, France
CATEGORIES:En famille,Spectacle
ATTACH;FMTTYPE=image/jpeg:https://pole9.fr/wp-content/uploads/2022/10/impro.jpg
END:VEVENT
BEGIN:VEVENT
DTSTART;TZID=Europe/Paris:20240602T090000
DTEND;TZID=Europe/Paris:20240602T170000
DTSTAMP:20260420T202236
CREATED:20240503T081956Z
LAST-MODIFIED:20240503T083134Z
UID:247330-1717318800-1717347600@pole9.fr
SUMMARY:Vide-grenier
DESCRIPTION:Ouvert à tous ! Petite restauration sur place. \nPour vendre : inscriptions à l’accueil du Pôle 9 jusqu’au 7 mai (7 € les 2 mètres) > réservé aux adhérents de la saison en cours – Pour toute nouvelle adhésion il faut habiter le quartier de Saint-Rambert.
URL:https://pole9.fr/event/vide-grenier/
LOCATION:Pôle 9 – MJC Centre Social\, 4 rue Sylvain Simondan\, Lyon\, 69009\, France
CATEGORIES:Brocante,Journée spéciale
END:VEVENT
BEGIN:VEVENT
DTSTART;TZID=Europe/Paris:20240615T190000
DTEND;TZID=Europe/Paris:20240615T190000
DTSTAMP:20260420T202236
CREATED:20240528T122644Z
LAST-MODIFIED:20240528T122644Z
UID:247368-1718478000-1718478000@pole9.fr
SUMMARY:Concert des ateliers du Pôle musique
DESCRIPTION:L’apprentissage de la musique au Pôle 9 est axé sur la pratique collective des enfants\, ados et adultes autour des musiques actuelles.\nVenez découvrir le panel des chansons présentées par les adhérents et appréciez leur musicalité !\nRéservation conseillée.\nBuvette (boissons et restauration) sur place.
URL:https://pole9.fr/event/concert-des-ateliers-du-pole-musique-4/
LOCATION:Pôle 9 – MJC Centre Social\, 4 rue Sylvain Simondan\, Lyon\, 69009\, France
CATEGORIES:Concert,En famille
ATTACH;FMTTYPE=image/jpeg:https://pole9.fr/wp-content/uploads/2021/12/concert_pole_musique-1.jpg
END:VEVENT
BEGIN:VEVENT
DTSTART;TZID=Europe/Paris:20240618T180000
DTEND;TZID=Europe/Paris:20240618T180000
DTSTAMP:20260420T202236
CREATED:20240528T074705Z
LAST-MODIFIED:20240528T074705Z
UID:247363-1718733600-1718733600@pole9.fr
SUMMARY:Contes à la Chaufferie - "Tous petits mais fantastiques"
DESCRIPTION:Spectacle de contes catalans traditionnels\, oubliés parfois\, qui nous fait voyager dans des histoires fantastiques.\nOn découvre des personnages très très petits\, qui sont capables de faire des choses incroyables. \nAvec sa voix\, sa gestuelle\, l’intéraction avec le public et son kamishibaï (petit théâtre en images)\, la conteuse crée à chaque occasion un nouvel univers. \nPour toutes les générations à partir de 4 ans – Gratuit
URL:https://pole9.fr/event/contes-a-la-chaufferie-tous-petits-mais-fantastiques/
LOCATION:La Chaufferie du Vergoin\, 7 rue Albert Falsan\, Lyon\, 69009\, France
CATEGORIES:Contes,En famille,Gratuit
END:VEVENT
BEGIN:VEVENT
DTSTART;TZID=Europe/Paris:20240620T180000
DTEND;TZID=Europe/Paris:20240620T200000
DTSTAMP:20260420T202236
CREATED:20240517T124116Z
LAST-MODIFIED:20240517T124116Z
UID:247345-1718906400-1718913600@pole9.fr
SUMMARY:Sortie observation Martinets avec la LPO
DESCRIPTION:Ils passent les trois quarts de leur vie à voler et ils nichent peut-être sous votre toit…Connaissez-vous vos voisins du dessus\, les martinets ?\nPartons ensemble à leur découverte.\nCette balade dans le quartier de Saint-Rambert\, sur les traces des martinets\, sera l’occasion d’évoquer le plan de sauvegarde hirondelles et martinets de la métropole de Lyon\, de découvrir les caractéristiques de ces oiseaux si particuliers\, d’observer les martinets et peut-être même de repérer certains de leurs sites de nidification. \nJumelles bienvenues ! \nGratuit – Réservation obligatoire auprès de l’accueil du Pôle 9 : 04 78 83 29 68 – accueil@pole9.fr\nDépart Chaufferie du Vergoin\nOrganisé en partenariat avec le Pôle 9 et soutenu par la Métropole de Lyon.
URL:https://pole9.fr/event/sortie-observation-martinets-avec-la-lpo-2/
LOCATION:La Chaufferie du Vergoin\, 7 rue Albert Falsan\, Lyon\, 69009\, France
CATEGORIES:Eco-citoyenneté,Gratuit
END:VEVENT
BEGIN:VEVENT
DTSTART;TZID=Europe/Paris:20240622T100000
DTEND;TZID=Europe/Paris:20240622T163000
DTSTAMP:20260420T202236
CREATED:20240528T130239Z
LAST-MODIFIED:20240528T130423Z
UID:247371-1719050400-1719073800@pole9.fr
SUMMARY:Jeu - Tournoi de Blood Bowl
DESCRIPTION:Envie d’en découdre avec des orcs\, des elfes\, des gobelins et autres créatures fantastiques ?\nVous êtes joueurs/joueuses de Blood Bowl ? Venez vous mesurer à d’autres coachs et vivre l’expérience d’un tournoi en une journée grâce à des matchs rapides de Blood Bowl à 7.\nLes joueurs et joueuses de tout âge sont les bienvenus. Le rythme et le format du tournoi sont adaptés à des joueurs débutants. \nSur inscription auprès de Marjorie (marjorie.berthelot@pole9.fr).\nTournoi gratuit 10h/12h30 et 14h/16h30 / possibilité de restauration sur place (réservation obligatoire).
URL:https://pole9.fr/event/jeu-tournoi-de-blood-bowl/
LOCATION:Pôle 9 – MJC Centre Social\, 4 rue Sylvain Simondan\, Lyon\, 69009\, France
CATEGORIES:Gratuit,jeux pour tous
END:VEVENT
BEGIN:VEVENT
DTSTART;TZID=Europe/Paris:20240626T143000
DTEND;TZID=Europe/Paris:20240626T183000
DTSTAMP:20260420T202236
CREATED:20240528T075421Z
LAST-MODIFIED:20240528T075421Z
UID:247366-1719412200-1719426600@pole9.fr
SUMMARY:Mikado - la Ludothèque XXL
DESCRIPTION:Des espaces pour jouer ; pensés et aménagés pour le public et pour tous les âges.\nLe rendez-vous incontournable où la ludothèque devient XXL ! \nEntrée libre pour les adhérents.
URL:https://pole9.fr/event/mikado-la-ludotheque-xxl-3/
LOCATION:Pôle 9 – MJC Centre Social\, 4 rue Sylvain Simondan\, Lyon\, 69009\, France
ATTACH;FMTTYPE=image/jpeg:https://pole9.fr/wp-content/uploads/2024/05/mikado-scaled.jpg
END:VEVENT
BEGIN:VEVENT
DTSTART;TZID=Europe/Paris:20240629T150000
DTEND;TZID=Europe/Paris:20240629T164000
DTSTAMP:20260420T202236
CREATED:20240529T085025Z
LAST-MODIFIED:20240529T085025Z
UID:247377-1719673200-1719679200@pole9.fr
SUMMARY:Contes ô bout du Bec - Alice Bernard
DESCRIPTION:« Cri-cri\, c’est un oiseau si petit qu’il n’a qu’une seule plume. Mais quand il ouvre son minuscule bec\, il en sort un chant qui fait danser les montagnes\, sourire la lune\, frémir la surface des océans. »\nCes contes\, chants et comptines parlent d’oiseaux.\nDans un tourbillon de plumes multicolores\, les émotions traversent les personnages haut en couleur. Percussions et sanza se glissent entre les mots\, rythment les histoires.\nDans le cadre du Festival Entre Rhône et Saône\nOù : Sur la pointe de l’Ile Barbe\nDurée 40 minutes – Gratuit – Sans réservation
URL:https://pole9.fr/event/contes-o-bout-du-bec-alice-bernard/
LOCATION:L’Ile Barbe\, Lyon\, 69009\, France
CATEGORIES:Contes,Gratuit,Spectacle
END:VEVENT
BEGIN:VEVENT
DTSTART;TZID=Europe/Paris:20240629T160000
DTEND;TZID=Europe/Paris:20240629T173000
DTSTAMP:20260420T202236
CREATED:20240529T085830Z
LAST-MODIFIED:20240529T085830Z
UID:247380-1719676800-1719682200@pole9.fr
SUMMARY:Atelier créatif Aménagements pour oiseaux
DESCRIPTION:Les oiseaux ont besoin d’un coup de main pour faciliter leur vie en ville. Cet atelier vise à fabriquer de petits objets qui faciliteront leur installation dans votre quartier.\nEmparons-nous d’objets du quotidien et de matériaux recyclés afin de créer de petits objets à installer sur votre balcon ou dans votre jardin pour faciliter l’installation des oiseaux près de chez vous.\nDans le cadre du Festival Entre Rhône et Saône.\nRDV Sur la pointe de l’Ile Barbe \nDurée 1h30 – Gratuit – sur réservation sur https://entre-rhone-et-saone.fr/
URL:https://pole9.fr/event/atelier-creatif-amenagements-pour-oiseaux/
LOCATION:L’Ile Barbe\, Lyon\, 69009\, France
CATEGORIES:Eco-citoyenneté,Gratuit,Tout public
END:VEVENT
BEGIN:VEVENT
DTSTART;TZID=Europe/Paris:20240629T170000
DTEND;TZID=Europe/Paris:20240629T170000
DTSTAMP:20260420T202236
CREATED:20240529T091132Z
LAST-MODIFIED:20240529T091744Z
UID:247383-1719680400-1719680400@pole9.fr
SUMMARY:Balade nature à la découverte des oiseaux de l’Ile Barbe avec la LPO
DESCRIPTION:Balade avec jumelles autour du cou en bord de Saône avec la LPO (Ligue Protectrice des Oiseaux). L’observation est de mise pour se familiariser avec les oiseaux de bord de rivière et les espèces plus “communes” que vous pouvez apercevoir de vos balcons ou dans vos jardins. \nDans le cadre du Festival Entre Rhône et Saône.\nRDV Sur la pointe de l’Ile Barbe > 1er départ à 17h\, 2nd départ à 19h.\nDurée 2h – Gratuit – sur réservation sur https://entre-rhone-et-saone.fr/
URL:https://pole9.fr/event/balade-nature-a-la-decouverte-des-oiseaux-de-lile-barbe-avec-la-lpo/
LOCATION:L’Ile Barbe\, Lyon\, 69009\, France
CATEGORIES:Eco-citoyenneté,En famille,Gratuit
END:VEVENT
END:VCALENDAR