BEGIN:VCALENDAR
VERSION:2.0
PRODID:-//Pôle 9 - ECPv6.5.1//NONSGML v1.0//EN
CALSCALE:GREGORIAN
METHOD:PUBLISH
X-WR-CALNAME:Pôle 9
X-ORIGINAL-URL:https://pole9.fr
X-WR-CALDESC:évènements pour Pôle 9
REFRESH-INTERVAL;VALUE=DURATION:PT1H
X-Robots-Tag:noindex
X-PUBLISHED-TTL:PT1H
BEGIN:VTIMEZONE

END:VTIMEZONE
BEGIN:VEVENT
DTSTART;TZID=Europe/Paris:20260421T015938
DTEND;TZID=Europe/Paris:20250709T000000
DTSTAMP:20260421T015938
CREATED:20250627T135300Z
LAST-MODIFIED:20250627T135300Z
UID:248459-0-1752019200@pole9.fr
SUMMARY:mercredi de l'été #1
DESCRIPTION:SPECTACLES ET INITIATION BMX – JORIS BRETAGNOLLES\nANIMATIONS SPORT\, NATURE\, INITIATION AUX ECHECS\, JEUX POUR TOUTE LA FAMILLE\nATELIER FRESQUE AVEC L’IMPRÉVISIBLE FABRIQUE\nPRÉVENTION SANTÉ SOLEIL\n21H MUSIQUE BRÉSILIENNE DIOGO CADAVAL\nbuvette et petite restauration sur place X autofinancement jeunes
URL:https://pole9.fr/event/mercredi-de-lete-1-2/
END:VEVENT
BEGIN:VEVENT
DTSTART;TZID=Europe/Paris:20240201T200000
DTEND;TZID=Europe/Paris:20240201T200000
DTSTAMP:20260421T015938
CREATED:20240110T132720Z
LAST-MODIFIED:20240116T105823Z
UID:247100-1706817600-1706817600@pole9.fr
SUMMARY:Théâtre - Les promesses du Capitaine Crochet
DESCRIPTION:Pour nombre d’entre nous\, Peter Pan est avant tout un dessin animé. Ou un conte dont l’origine reste assez mystérieuse. Mais replongeons-nous à la source de cette histoire quasi légendaire. À la base\, Peter Pan est une pièce de théâtre\, écrite au début du siècle et jouée pour la première fois en 1904 à un public adulte.\nAprès plusieurs semaines de résidence au Pôle 9\, le Collectif Space Opera propose de découvrir sa version de l’œuvre de Peter Pan\, de vous emmener au Pays Imaginaire afin d’explorer des questions sociales\, politiques et intimes…\nDurée : 1h15\nA partir de 12 ans\nRéservation conseillée – Entrée gratuite
URL:https://pole9.fr/event/theatre-les-promesses-du-capitaine-crochet/
LOCATION:Pôle 9 – MJC Centre Social\, 4 rue Sylvain Simondan\, Lyon\, 69009\, France
CATEGORIES:Gratuit,Théâtre
END:VEVENT
BEGIN:VEVENT
DTSTART;TZID=Europe/Paris:20240202T183000
DTEND;TZID=Europe/Paris:20240202T183000
DTSTAMP:20260421T015938
CREATED:20240126T135549Z
LAST-MODIFIED:20240126T135901Z
UID:247127-1706898600-1706898600@pole9.fr
SUMMARY:Café associatif - Réunion d'infos et d'échange
DESCRIPTION:Nous sommes un collectif d’habitants et d’habitantes du plateau de Saint-Rambert. Nous faisons le constat qu’il manque un lieu de convivialité sur le plateau de Saint-Rambert pour animer la vie de notre quartier avec des horaires adaptés : sortie des écoles\, jour de marché\, week-end…\nNotre envie est de créer un lieu agréable pour toutes et tous\, pour boire un café\, partager un verre\, organiser des événements et des animations…\n\nRencontrons-nous ! \nCe lieu\, nous souhaitons l’imaginer avec tous les habitants et toutes les habitantes intéressé.es. Nous vous convions à venir discuter\, échanger et partager vos idées avec nous sur cette initiative.
URL:https://pole9.fr/event/cafe-associatif-reunion-dinfos-et-dechange/
LOCATION:Pôle 9 – MJC Centre Social\, 4 rue Sylvain Simondan\, Lyon\, 69009\, France
CATEGORIES:Discussion
END:VEVENT
BEGIN:VEVENT
DTSTART;TZID=Europe/Paris:20240203T140000
DTEND;TZID=Europe/Paris:20240203T173000
DTSTAMP:20260421T015938
CREATED:20240201T112405Z
LAST-MODIFIED:20240201T112434Z
UID:247142-1706968800-1706981400@pole9.fr
SUMMARY:Initiation et découverte de jeux de figurines
DESCRIPTION:Venez vous initier en famille à des jeux de figurines tel que Warcry\, Bloodbowl ou Zombicide. Recommandation : à partir de 8 ans.\nAvec en prime un atelier de peinture sur figurines.
URL:https://pole9.fr/event/initiation-et-decouverte-de-jeux-de-figurines/
LOCATION:Pôle 9 – MJC Centre Social\, 4 rue Sylvain Simondan\, Lyon\, 69009\, France
CATEGORIES:En famille,Gratuit,jeux pour tous,ludothèque
ATTACH;FMTTYPE=image/webp:https://pole9.fr/wp-content/uploads/2024/02/blood-bowl-2016-jeu-1-2.webp
END:VEVENT
BEGIN:VEVENT
DTSTART;VALUE=DATE:20240210
DTEND;VALUE=DATE:20240211
DTSTAMP:20260421T015938
CREATED:20240116T141147Z
LAST-MODIFIED:20240116T141147Z
UID:247122-1707523200-1707609599@pole9.fr
SUMMARY:Sortie famille à la neige !
DESCRIPTION:Le Pôle 9 vous emmène à la neige à Entremont-Le-Vieux\, dans la Chartreuse\,  pour une journée conviviale en compagnie d’autres familles… Vous venez ?!?\n\n\n\nMoments de luge le matin et visite du musée de l’ours à 15h. Prévoir un repas tiré du sac.\n\n\n\nInscription sur une sortie au choix à partir du mercredi 17 janvier\, de 9h30 à 12h30 et de 13h30 à 18h30.\nTarifs enfants de 4 à 10€ et adultes de 7 à 15€\, en fonction de votre quotient familial.\nPlus d’info à l’accueil 04.78.83.29.68\n\n\n\nHoraires de ramassage :\n\n– arrêt S10 à 7h15\n– terminus du 31 cité Edouard Herriot à 7h25\n– terminus du 2 sur plateau à 7h35\n– station total rue de st Cyr à 7h45\n– arrêt du 2 Rochecardon à 7h50\n Retour sur Lyon prévu à 19h.
URL:https://pole9.fr/event/sortie-famille-a-la-neige-2/
LOCATION:Pôle 9 – MJC Centre Social\, 4 rue Sylvain Simondan\, Lyon\, 69009\, France
CATEGORIES:Sortie familiale à la neige
END:VEVENT
BEGIN:VEVENT
DTSTART;TZID=Europe/Paris:20240210T110000
DTEND;TZID=Europe/Paris:20240210T110000
DTSTAMP:20260421T015938
CREATED:20240201T155102Z
LAST-MODIFIED:20240201T155102Z
UID:247149-1707562800-1707562800@pole9.fr
SUMMARY:Venez imaginer les actions du Pôle 9 de demain !
DESCRIPTION:Les administrateurs vous invitent à échanger en mode apéro & grignotages autour des actions et projets de notre association !  \nNous vous attendons nombreux/ses afin de vous présenter les avancées du projet social et famille actuellement en réécriture\, et d’écouter vos retours et vos envies pour vous\, et pour votre quartier !
URL:https://pole9.fr/event/venez-imaginer-les-actions-du-pole-9-de-demain/
LOCATION:Pôle 9 – MJC Centre Social\, 4 rue Sylvain Simondan\, Lyon\, 69009\, France
CATEGORIES:Discussion
END:VEVENT
BEGIN:VEVENT
DTSTART;TZID=Europe/Paris:20240210T201500
DTEND;TZID=Europe/Paris:20240210T201500
DTSTAMP:20260421T015938
CREATED:20240201T110816Z
LAST-MODIFIED:20240201T111054Z
UID:247139-1707596100-1707596100@pole9.fr
SUMMARY:Spectacle d'improvisation - Cie Diverges et Cie Les chaussettes trouées
DESCRIPTION:3 STORIES \, Inspirées de faits relationnels \nUne relation\, trois façons de la voir\, de l’imaginer\, de la construire. A travers trois histoires\, vous allez découvrir les destins croisés des personnages de ce spectacle. Un moment convivial\, poétique et tout public. \nRéservation conseillée au Pôle 9 \nEntrée Prix libre
URL:https://pole9.fr/event/spectacle-dimprovisation-cie-diverges-et-cie-les-chaussettes-trouees/
LOCATION:Pôle 9 – MJC Centre Social\, 4 rue Sylvain Simondan\, Lyon\, 69009\, France
CATEGORIES:En famille,Spectacle
END:VEVENT
BEGIN:VEVENT
DTSTART;TZID=Europe/Paris:20240214T143000
DTEND;TZID=Europe/Paris:20240214T183000
DTSTAMP:20260421T015938
CREATED:20240201T154612Z
LAST-MODIFIED:20240202T083003Z
UID:247146-1707921000-1707935400@pole9.fr
SUMMARY:Mikado - la ludothèque XXL
DESCRIPTION:La ludothèque prend ses quartiers dans la grande salle polyvalente (1 fois par mois). \nCet espace de jeux est ouvert à toutes et tous.\nAdultes\, enfants\, et jeunes peuvent partager un moment de plaisir ludique\, dans un espace de convivialité.\nTous types de jeux peuvent être proposés : coopération\, cartes\, adresse\, stratégie\, plateau et imitation. \nLectures d’histoires par l’Association Lire et Faire Lire de 15h30 à 16h30. \nAccès réservé aux adhérents.
URL:https://pole9.fr/event/mikado-jeux-pour-tous-3/
LOCATION:Pôle 9 – MJC Centre Social\, 4 rue Sylvain Simondan\, Lyon\, 69009\, France
CATEGORIES:En famille,Gratuit,jeux pour tous
END:VEVENT
BEGIN:VEVENT
DTSTART;TZID=Europe/Paris:20240215T190000
DTEND;TZID=Europe/Paris:20240215T190000
DTSTAMP:20260421T015938
CREATED:20240214T103600Z
LAST-MODIFIED:20240214T103600Z
UID:247160-1708023600-1708023600@pole9.fr
SUMMARY:Exposition Photos groupe Bon Pied Bon Oeil & Vernissage
DESCRIPTION:Le groupe photo Bon Pied Bon Oeil partage ses explorations photographiques de l’année 2023 avec son exposition “Mineralités” du 6 février au 2 mars 2024.\nIls vous convient au vernissage jeudi 15 février à 19h.
URL:https://pole9.fr/event/exposition-photos-groupe-bon-pied-bon-oeil-vernissage/
LOCATION:Pôle 9 – MJC Centre Social\, 4 rue Sylvain Simondan\, Lyon\, 69009\, France
CATEGORIES:Exposition
ATTACH;FMTTYPE=image/jpeg:https://pole9.fr/wp-content/uploads/2024/02/IMG_1591-scaled.jpg
END:VEVENT
BEGIN:VEVENT
DTSTART;TZID=Europe/Paris:20240217T090000
DTEND;TZID=Europe/Paris:20240217T183000
DTSTAMP:20260421T015938
CREATED:20240116T104454Z
LAST-MODIFIED:20240116T104454Z
UID:247113-1708160400-1708194600@pole9.fr
SUMMARY:Festival Gones et Compagnies
DESCRIPTION:Le Pôle 9 accueille la journée dédiée aux familles pour des animations et des spectacles toute la journée.\n\n\n\n\n\n\n\n\n\n\n\n\n\n\n\n\n\n\n\n\n\n\n\n\n\nLES SPECTACLES\n> Les tarifs des spectacles sont au choix 5€ / 7€ / 10€\n> Réservation conseillée \n\n\n\n\n\n\n\n\n\n\n\n\n\n\n\n\n\n10H – L’ÉCHO DU LARGE\nCompagnie Un Scarabée dans la poche\n6 mois/5 ans – 30 min\nSolo musical maritime tout-terrain\nUn bateau fait de bric et de broc\, une soif de voyage : partons à la découverte de l’océan et des merveilles qu’il renferme. Au cours de son voyage\, notre aventurière fera la connaissance de personnages hauts en couleur : des crabes farceurs\, une pieuvre égarée\, un coquillage bavard… Un voyage initiatique et musical qui transportera les petits et les grands vers des horizons enchantés. \n\n\n\n\n\n\n\n\n\n\n\n\n\n\n\n\n\nBilletterie du spectacle\n\n\n\n\n\n\n\n\n\n\n\n\n\n\n\n\n\n\n\n\n\n\n\n\n14H – AVANT DE VOIR LE MONDE\, JE L’AI ECOUTE\nCompagnie du Lama\n6/12 ans – 40 min\nSpectacle musical et illustré\nDans l’obscurité on écoute le monde qui se fabrique sur scène. L’illustratrice fait naître contours\, ombres et met en image ce qui est conté\, chanté\, joué. « Que se haga la luz ! » En français ou en espagnol\, L. et M. ouvrent les tiroirs de leurs souvenirs d’exploratrices musicales et racontent leur Argentine : poétique\, absurde\, luxuriante et kaléidoscopique. \n\n\n\n\n\n\n\n\n\n\n\n\n\n\n\n\n\nBilletterie du spectacle\n\n\n\n\n\n\n\n\n\n\n\n\n\n\n\n\n\n\n\n\n\n\n\n\n\n\n\n\n\n\n\n\n\n\n\n\n16H30 – ISME ET LA SEMEUSE D’ÉTOILES\nCompagnie Les Lucarnes Songeuses\n3/6 ans – 30 min\nThéâtre d’ombres\nIsmé a décidé qu’elle n’irait pas se coucher. Les ombres de sa chambre prennent vie et des animaux bienveillants vont l’aider à surmonter sa peur des monstres et de l’obscurité. Du crépuscule à l’heure des lucioles\, Ismé va parcourir la nuit.\nSa quête initiatique l’amènera à la rencontre de la Semeuse d’étoiles\, qui veille sur le sommeil\, et bercée par son chant\, elle trouvera l’apaisement nécessaire pour s’endormir. \n\n\n\n\n\n\n\n\n\n\n\n\n\n\n\n\n\nBilletterie du spectacle\n\n\n\n\n\n\n\n\n  \nLES ANIMATIONS\nSur réservation au 04 78 83 29 68 ou par mail à accueil@pole9.fr \n\n\n\n\n\n\n\n\n\n\n\n\n\n\n\n\n\n\n\n\n\n\n\n\n\n\n\n\n\n\n\n\n\n\nPARENTHÈSE JEUX À LA LUDOTHÈQUE DU PÔLE 9\n9h30/12h – 14h30/17h30 – Gratuit\nMarjorie déploie ses espaces jeux et jouets en lien avec les thématiques abordées dans les spectacles. Espace ouvert à toute la famille\, et ce tout au long de la journée ! \n\n\n\n\n\n\n\n\n\n\n\n\nSIESTE MUSICALE AU SON DU HANDPAN\nPour toutes et tous – 15h – 30 min\nMoment détente à l’écoute des sonorités douces et envoûtantes du hanpan\, cet instrument encore peu connu créé en 2000\, et cousin du steeldrum. \n\n\n\n\n\n\n\n\n\n\n\n\n\n\n\n\n\n\nATELIER TATOO EN LIBRE SERVICE\nEn continu – Gratuit\nProfitez d’un moment parent-enfant et des pochoirs et des couleurs mis à votre disposition pour arborer le plus beau maquillage à paillettes de la journée ! \n\n\n\n\n\n\n\n\n\n\n\n\nINITIATION AU HANDPAN\n3 ans – 15h30 / 6 ans – 16h – gratuit\nCet instrument encore peu connu a été créé en 2000. Dans la famille des percussions\, le handpan est le cousin du steeldrum venu des Caraïbes. Sa pratique reste accessible pour les enfants qui pourront essayer de produire des sons à mains nues. \n\n\n\n\n\n\n\n\n\n\n\n\n\n\n\n\n\n\nATELIER PEINTURE TOUS PETITS\n18 mois / 3 ans à 10h30 – 10h50 – 11h10 – Gratuit\nImmergez votre bambin dans une parenthèse créative dédiée aux animaux marins. 20 minutes en duo parent-enfant. \n\n\n\n\n\n\n\n\n\n\n\n\nBOUM EN CHAUSSETTES\n17h30/18h30 – Gratuit\nC’est le moment boule à facettes de la journée\, tous et toutes en chaussettes au dojo\, pour enflammer le dance floor ! \n\n\n\n\n\n\n\n\n\n\n\n\n\n\n\n\n\n\nATELIER THÉÂTRE D’OMBRES\nDès 5 ans 10h/12h – gratuit\nAnimation d’atelier de construction de la silhouette d’ombre\, puis initiation à la manipulation de la silhouette d’ombre et création de petites histoires sans paroles de quelques minutes avec les enfants participants.
URL:https://pole9.fr/event/festival-gones-et-compagnies/
LOCATION:Pôle 9 – MJC Centre Social\, 4 rue Sylvain Simondan\, Lyon\, 69009\, France
CATEGORIES:à partir de 18 mois,Atelier parents/enfants,En famille,ludothèque,Spectacle
END:VEVENT
END:VCALENDAR