BEGIN:VCALENDAR
VERSION:2.0
PRODID:-//Pôle 9 - ECPv6.5.1//NONSGML v1.0//EN
CALSCALE:GREGORIAN
METHOD:PUBLISH
X-WR-CALNAME:Pôle 9
X-ORIGINAL-URL:https://pole9.fr
X-WR-CALDESC:évènements pour Pôle 9
REFRESH-INTERVAL;VALUE=DURATION:PT1H
X-Robots-Tag:noindex
X-PUBLISHED-TTL:PT1H
BEGIN:VTIMEZONE

END:VTIMEZONE
BEGIN:VEVENT
DTSTART;TZID=Europe/Paris:20260421T114815
DTEND;TZID=Europe/Paris:20250709T000000
DTSTAMP:20260421T114815
CREATED:20250627T135300Z
LAST-MODIFIED:20250627T135300Z
UID:248459-0-1752019200@pole9.fr
SUMMARY:mercredi de l'été #1
DESCRIPTION:SPECTACLES ET INITIATION BMX – JORIS BRETAGNOLLES\nANIMATIONS SPORT\, NATURE\, INITIATION AUX ECHECS\, JEUX POUR TOUTE LA FAMILLE\nATELIER FRESQUE AVEC L’IMPRÉVISIBLE FABRIQUE\nPRÉVENTION SANTÉ SOLEIL\n21H MUSIQUE BRÉSILIENNE DIOGO CADAVAL\nbuvette et petite restauration sur place X autofinancement jeunes
URL:https://pole9.fr/event/mercredi-de-lete-1-2/
END:VEVENT
BEGIN:VEVENT
DTSTART;TZID=Europe/Paris:20230701T200000
DTEND;TZID=Europe/Paris:20230701T200000
DTSTAMP:20260421T114815
CREATED:20230524T074659Z
LAST-MODIFIED:20230619T091426Z
UID:246735-1688241600-1688241600@pole9.fr
SUMMARY:Concert des groupes du Pôle musique
DESCRIPTION:Venez découvrir les groupes qui répètent à l’année au Pôle 9 ! Style musiques actuelles et rock ! \nAu programme :\nGENJIC / SISTAZ AND PAPAZ / DARONS DE L’APOCALYPSE \nBuvette (boissons & restauration) sur place\nPrix libre\, réservation conseillée
URL:https://pole9.fr/event/concert-des-groupes-du-pole-musique/
LOCATION:Pôle 9 – MJC Centre Social\, 4 rue Sylvain Simondan\, Lyon\, 69009\, France
CATEGORIES:Concert
ATTACH;FMTTYPE=image/jpeg:https://pole9.fr/wp-content/uploads/2023/05/ConcertdesgroupesduPolemusique-1.jpg
END:VEVENT
BEGIN:VEVENT
DTSTART;TZID=Europe/Paris:20230709T150000
DTEND;TZID=Europe/Paris:20230709T220000
DTSTAMP:20260421T114815
CREATED:20230705T095117Z
LAST-MODIFIED:20230705T095117Z
UID:246852-1688914800-1688940000@pole9.fr
SUMMARY:Dimanche de l'Ile Barbe #1
DESCRIPTION:15h/18h Ateliers scoubidou et bracelets brésiliens – prêt de boules de pétanques et mölkky\n15h/19h ludothèque XXL pour toutes et tous\n\n16h30 Dans les bois tout est permis – Marionnettes\nCies Du Bruit dans la Tête et MarionéTIK Théâtre\nHistoire vagabonde pour un castelet brouette et deux marionnettes en goguette\nL’un ouvre un livre\, « il était une fois…la dévoration »\, l’autre prépare la table de jeu\, tout est en ordre. Mais quand les marionnettes sortent des valises c’est le fil de l’histoire qui rattrape nos deux conteurs !\nhttps://vimeo.com/623155418\n\n18h Trio In Breve – Musique classique\nDeux guitares et un violoncelle : trois talents réunis autour d’une idée\, les Incontournables de la Musique. Le Trio « In Breve » vous propose de redécouvrir classique\, opéra\, jazz\, et musiques de films\, présentant des thèmes très connus\, appartenant au patrimoine musical collectif.\nhttps://youtu.be/pQAa_zRYCPQ\n\n19h45 Les Tireux d’Roches – Folk québécois\nLes Tireux d’Roches ont parcouru bien des kilomètres depuis ce fameux soir où\, au petit café de St-Élie-de-Caxton au Québec\, leur histoire s’est amorcée. C’était en 1998. Bien ancré dans le terroir québécois\, leur univers débordant fusionne habilement la musique traditionnelle\, le folk et la musique du monde.\nhttps://www.youtube.com/watch?v=BwjcbDtoyJc\n\nGRATUIT\nEn continu\nBoissons artisanales et locales à la vente\nCrêpes et galettes Les Galettes d’Aline\nEsquimaux de la Conserverie Les Cousins
URL:https://pole9.fr/event/dimanche-de-lile-barbe-1/
LOCATION:L’Ile Barbe\, Lyon\, 69009\, France
CATEGORIES:En famille,Festival Les Dimanches de l'Ile Barbe,Gratuit
END:VEVENT
BEGIN:VEVENT
DTSTART;TZID=Europe/Paris:20230712T170000
DTEND;TZID=Europe/Paris:20230712T220000
DTSTAMP:20260421T114815
CREATED:20230705T095838Z
LAST-MODIFIED:20230705T095930Z
UID:246859-1689181200-1689199200@pole9.fr
SUMMARY:Les mercredis de l’été au Vergoin
DESCRIPTION:Ludothèque – Quizz santé mentale – Ateliers créatifs & upcycling\n– atelier beauté tresses et manucure\n– Initiation cirque tout public & stand maquillage\n– Animation Depollul’air\n– Jeunes / Bonbec Pong & boost ton cv\n– Barbecue\n– Gratuit !
URL:https://pole9.fr/event/les-mercredis-de-lete-au-vergoin/
LOCATION:La Chaufferie du Vergoin\, 7 rue Albert Falsan\, Lyon\, 69009\, France
ATTACH;FMTTYPE=image/jpeg:https://pole9.fr/wp-content/uploads/2023/07/IMG_0104-scaled.jpg
END:VEVENT
BEGIN:VEVENT
DTSTART;TZID=Europe/Paris:20230716T150000
DTEND;TZID=Europe/Paris:20230716T220000
DTSTAMP:20260421T114815
CREATED:20230705T095411Z
LAST-MODIFIED:20230705T095411Z
UID:246855-1689519600-1689544800@pole9.fr
SUMMARY:Dimanche de l'Ile Barbe #2
DESCRIPTION:15h/18h Performance artistique de l’Imprévisible Fabrique\n\n15h/19h Ludothèque en plein air pour toutes et tous\n\n16h30 Etage 17 – Bside Company – Cirque\nC’est l’histoire de trois destins qui tentent de communiquer sur le sens de la vie\, qui reste toujours un mystère. Un univers décalé où l’esthétique revêt bien des formes et où le sens a bien des directions. Une plongée cocasse dans un univers absurde\, où se côtoient acrobaties et musique électrique.\nhttps://youtu.be/-LfdP4BlCY4\n\n18h Obsidiane – jazz\nPiano\, batterie\, et contrebasse pour ce trio de jazz lyonnais qui s’inspire de quelques grands noms du jazz mais aussi d’autres styles musicaux (hip-hop\, métal\, techno et soul) pour créer un son singulier et empli d’émotions.\nhttps://fb.watch/lrVvmV5GTJ/\n\n19h45 La Sazón – Salsa dura\nAlliant le répertoire de salsa dura et des compositions originales\, le groupe propose un mélange entre traditions et cultures urbaines actuelles. Sa musique porteuse de la chaleur authentique d’outre-mer invite à tendre l’oreille et oblige le corps à se laisser aller à danser.\nhttps://youtu.be/54LnCPpBN6s\n\nGRATUIT\nEn continu\nBoissons artisanales et locales à la vente\nCrêpes et galettes Les Galettes d’Aline\nEsquimaux de la Conserverie Les Cousins
URL:https://pole9.fr/event/dimanche-de-lile-barbe-2/
LOCATION:L’Ile Barbe\, Lyon\, 69009\, France
CATEGORIES:En famille,Festival Les Dimanches de l'Ile Barbe,Gratuit
END:VEVENT
BEGIN:VEVENT
DTSTART;TZID=Europe/Paris:20230719T170000
DTEND;TZID=Europe/Paris:20230719T220000
DTSTAMP:20260421T114815
CREATED:20230705T100114Z
LAST-MODIFIED:20230719T145219Z
UID:246863-1689786000-1689804000@pole9.fr
SUMMARY:Les mercredis de l'été au Vergoin
DESCRIPTION:Ludothèque – Ateliers créatifs & upcycling\n– Jeunes / Blind test Urban Rap francais\n– 20h AMAZIGH\, Concert musique Kabyle\nGratuit !
URL:https://pole9.fr/event/les-mercredis-de-lete-au-vergoin-2/
LOCATION:La Chaufferie du Vergoin\, 7 rue Albert Falsan\, Lyon\, 69009\, France
CATEGORIES:Gratuit
ATTACH;FMTTYPE=image/jpeg:https://pole9.fr/wp-content/uploads/2023/07/Amazigh-LesNuitsdelaRoulotte-2023.jpg
END:VEVENT
BEGIN:VEVENT
DTSTART;TZID=Europe/Paris:20230720T173000
DTEND;TZID=Europe/Paris:20230720T173000
DTSTAMP:20260421T114815
CREATED:20230705T101039Z
LAST-MODIFIED:20230705T101138Z
UID:246872-1689874200-1689874200@pole9.fr
SUMMARY:Soirée d'été à la Dargoire
DESCRIPTION:– 17h30  ateliers créatifs parents – enfants\n• coquelicots écolo et rêve ta maison\n• tresses brésiliennes\n– 19h les contes de lulu berlue\n– 20h Loto dingo – pour petits et grands\nPetite restauration sur place : hot-dog et boissons – Pensez à ramener votre chaise !\n\nGratuit !
URL:https://pole9.fr/event/soiree-dete-a-la-dargoire/
CATEGORIES:En famille,Gratuit
ATTACH;FMTTYPE=image/jpeg:https://pole9.fr/wp-content/uploads/2023/07/IMG_0104-scaled.jpg
END:VEVENT
BEGIN:VEVENT
DTSTART;TZID=Europe/Paris:20230723T150000
DTEND;TZID=Europe/Paris:20230723T220000
DTSTAMP:20260421T114815
CREATED:20230705T095528Z
LAST-MODIFIED:20230705T095528Z
UID:246857-1690124400-1690149600@pole9.fr
SUMMARY:Dimanche de l'Ile Barbe #3
DESCRIPTION:15/18h Atelier création de bijoux berbères\, et tatouages éphémères\, prêt de boules de pétanque et mölkky\n\n15h/19h Ludothèque en plein air pour toutes et tous\n\n16h30 Si tu n’étais pas là – Dos Mundos Al Arte\nSpectacle mouvementé et en équilibre\nL’une est très grande et plutôt lunaire\, l’autre très petite et assez terre à terre. Jusqu’à présent elles traçaient leur route chacune de leur côté. Mais que ce passerait-il si elles se rencontraient ? Mêlant humour et poésie\, si tu n’étais pas là…est un voyage vers le regard de l’autre.\nhttps://youtu.be/8Y9WXFXdVy4\n\n18h Najib and Friends – Pop orientale\nNajib MAFTAH est un artiste Lyonnais d’origine marocaine. Arrivé en France en 2001 pour poursuivre ses études\, la musique était son refuge à la solitude et au déracinement. Son style Folk Rock chanté en arabe avec une touche progressive est inspiré de musicien tels que Cat Stevens\, Chris Cornell et David Guilmour. Comme Idir ou Souad Massi\, il adore créer la complicité entre la musique occidentale et celle du Maghreb et d’orient.\nhttps://youtu.be/4T1f7iOf8q4\n\n19h45 Amazigh – musique kabyle\nAmazigh nous invite à un étonnant voyage culturel en nous proposant une version revisitée et moderne de la musique kabyle. Fermez les yeux\, ouvrez grand vos oreilles et laissez vous embarquer à la découverte des grands espaces de la Kabylie\, là où résonne l’écho des chants de liberté.\nhttps://youtu.be/R7gWBTAlXuM\n\nGRATUIT\nEn continu\nBoissons artisanales et locales à la vente\nCrêpes et galettes – Les Galettes d’Aline\nEsquimaux de la Conserverie Les Cousins
URL:https://pole9.fr/event/dimanche-de-lile-barbe-3/
LOCATION:L’Ile Barbe\, Lyon\, 69009\, France
CATEGORIES:En famille,Festival Les Dimanches de l'Ile Barbe,Gratuit
END:VEVENT
BEGIN:VEVENT
DTSTART;TZID=Europe/Paris:20230726T170000
DTEND;TZID=Europe/Paris:20230726T220000
DTSTAMP:20260421T114815
CREATED:20230705T100344Z
LAST-MODIFIED:20230719T145128Z
UID:246865-1690390800-1690408800@pole9.fr
SUMMARY:Les mercredis de l'été au Vergoin
DESCRIPTION:Ludothèque – Ateliers créatifs & upcycling\n– Jeunes / marque page manga\n– 21h « Ca va être tout blanc »\, Spectacle cirque & skis gyroscopiques\nGratuit !
URL:https://pole9.fr/event/246865/
LOCATION:La Chaufferie du Vergoin\, 7 rue Albert Falsan\, Lyon\, 69009\, France
CATEGORIES:Gratuit
ATTACH;FMTTYPE=image/jpeg:https://pole9.fr/wp-content/uploads/2023/07/toutblanc.jpg
END:VEVENT
END:VCALENDAR