BEGIN:VCALENDAR
VERSION:2.0
PRODID:-//Pôle 9 - ECPv6.5.1//NONSGML v1.0//EN
CALSCALE:GREGORIAN
METHOD:PUBLISH
X-WR-CALNAME:Pôle 9
X-ORIGINAL-URL:https://pole9.fr
X-WR-CALDESC:évènements pour Pôle 9
REFRESH-INTERVAL;VALUE=DURATION:PT1H
X-Robots-Tag:noindex
X-PUBLISHED-TTL:PT1H
BEGIN:VTIMEZONE

END:VTIMEZONE
BEGIN:VEVENT
DTSTART;TZID=Europe/Paris:20260421T153735
DTEND;TZID=Europe/Paris:20250709T000000
DTSTAMP:20260421T153735
CREATED:20250627T135300Z
LAST-MODIFIED:20250627T135300Z
UID:248459-0-1752019200@pole9.fr
SUMMARY:mercredi de l'été #1
DESCRIPTION:SPECTACLES ET INITIATION BMX – JORIS BRETAGNOLLES\nANIMATIONS SPORT\, NATURE\, INITIATION AUX ECHECS\, JEUX POUR TOUTE LA FAMILLE\nATELIER FRESQUE AVEC L’IMPRÉVISIBLE FABRIQUE\nPRÉVENTION SANTÉ SOLEIL\n21H MUSIQUE BRÉSILIENNE DIOGO CADAVAL\nbuvette et petite restauration sur place X autofinancement jeunes
URL:https://pole9.fr/event/mercredi-de-lete-1-2/
END:VEVENT
BEGIN:VEVENT
DTSTART;TZID=Europe/Paris:20230401T090000
DTEND;TZID=Europe/Paris:20230401T160000
DTSTAMP:20260421T153735
CREATED:20230308T104009Z
LAST-MODIFIED:20230308T134149Z
UID:246456-1680339600-1680364800@pole9.fr
SUMMARY:Bourse aux vêtements enfants/objets de puériculture
DESCRIPTION:Elle est de retour ! Comme chaque année le Pôle 9 organise sa bourse du printemps\, divers objets et vêtements pour enfants sont mis en vente durant deux journées. En partenariat avec l’association St Rambert solidarité. \nPossibilité de mettre en vente vos vêtements ou objets\, contactez l’accueil pour connaître la marche à suivre. \nGratuit et ouvert à tous
URL:https://pole9.fr/event/bourse-aux-vetements-enfants-objets-de-puericulture-2/
LOCATION:Pôle 9 – MJC Centre Social\, 4 rue Sylvain Simondan\, Lyon\, 69009\, France
CATEGORIES:Bourse
ATTACH;FMTTYPE=image/jpeg:https://pole9.fr/wp-content/uploads/2023/03/boursejouetsjpg.jpg
END:VEVENT
BEGIN:VEVENT
DTSTART;TZID=Europe/Paris:20230405T100000
DTEND;TZID=Europe/Paris:20230405T120000
DTSTAMP:20260421T153735
CREATED:20230310T123417Z
LAST-MODIFIED:20230310T123706Z
UID:246492-1680688800-1680696000@pole9.fr
SUMMARY:Bulle de jeux 0/6 ans
DESCRIPTION:Durant les vacances de printemps\, l’équipe du Pôle 9 vous propose un espace jeux et détente destiné aux enfants de 0 à 6 ans. L’occasion pour les parents et les enfants de se réunir pour jouer en famille ou à plusieurs. \nGratuit et ouvert à toutes et tous.
URL:https://pole9.fr/event/bulle-de-jeux-0-6-ans-9/
LOCATION:L’Annexe du Pôle 9\, 27 rue Albert Falsan\, LYON\, 69009\, France
CATEGORIES:0/6 ans,Gratuit
END:VEVENT
BEGIN:VEVENT
DTSTART;TZID=Europe/Paris:20230407T203000
DTEND;TZID=Europe/Paris:20230407T203000
DTSTAMP:20260421T153735
CREATED:20230308T105610Z
LAST-MODIFIED:20230330T094031Z
UID:246466-1680899400-1680899400@pole9.fr
SUMMARY:Soirée familiale Art acrobatique / Danse
DESCRIPTION:À l’issue d’un mois de formation intensive en art acrobatique et en danse\, les élèves de l’école de cirque Le Tour du Monde en Galipette vous invitent à venir assister au rendu de leur travail de création. Laboratoire pour expérimenter de nouvelles possibilités de mouvements et opérer des mélanges d’un genre nouveau\, cette création sera le résultat de leur travail de recherche personnelle et de groupe\,  à la croisée du cirque et de la danse. \nN’hésitez pas à venir les découvrir\, les soutenir\, les encourager\, et ramener vos proches ! \nEntrée libre – tout public
URL:https://pole9.fr/event/soiree-familiale-art-acrobatique-danse-2/
LOCATION:Pôle 9 – MJC Centre Social\, 4 rue Sylvain Simondan\, Lyon\, 69009\, France
CATEGORIES:En famille,Gratuit
ATTACH;FMTTYPE=image/jpeg:https://pole9.fr/wp-content/uploads/2023/03/Danse-Acro-Mouvement-scaled.jpg
END:VEVENT
BEGIN:VEVENT
DTSTART;TZID=Europe/Paris:20230408T100000
DTEND;TZID=Europe/Paris:20230408T120000
DTSTAMP:20260421T153735
CREATED:20230308T085618Z
LAST-MODIFIED:20230308T085618Z
UID:246420-1680948000-1680955200@pole9.fr
SUMMARY:Atelier créatif Pâques parent / enfants
DESCRIPTION:Animé par Léah Makhlouf\, créatrice de la Fabrique des petits artistes. \n« Mon projet est né lorsque je cherchais une activité à partager avec ma fille alors âgée de 10 mois. La peinture fût une évidence. Passer un moment amusant avec son enfant où tout est permis\, tout en créant ! Ainsi j’ai pu associer mes études et ma passion en créant La fabrique des petits artistes ! C’est toujours un vrai bonheur de voir les enfants créer et s’émerveiller de leur création ! » \nCoût du stage = 3€ par duo (1 parent – 1 enfant) \, 2€ supplémentaire par enfant – adhésion obligatoire
URL:https://pole9.fr/event/atelier-creatif-paques-parent-enfants/
LOCATION:Pôle 9 – MJC Centre Social\, 4 rue Sylvain Simondan\, Lyon\, 69009\, France
CATEGORIES:En famille,Parents/enfants,Stages
END:VEVENT
BEGIN:VEVENT
DTSTART;TZID=Europe/Paris:20230408T100000
DTEND;TZID=Europe/Paris:20230408T183000
DTSTAMP:20260421T153735
CREATED:20230308T092656Z
LAST-MODIFIED:20230310T112104Z
UID:246438-1680948000-1680978600@pole9.fr
SUMMARY:Stage "Photographier les fleurs du printemps"
DESCRIPTION:Déroulé : rendez-vous à 10h au Pôle 9 et trajet en minibus – Retour prévu pour 18h30 au Pôle 9 \nObjectifs : les fleurs sauvages sont un sujet inépuisable en photographie\, nous aborderons l’analyse du potentiel d’un site\, les outils\, techniques et compositions possibles pour photographier les fleurs en tant que sujet\, comme élément d’un décor ou du paysage. Le workshop commencera par une mise en conditions réelles de l’animateur\, puis nous prendrons le temps d’un pique-nique convivial dans l’herbe. L’après-midi sera entièrement consacrée à la mise en pratique. \nEquipement nécessaire : un appareil photo (smartphone\, compact\, reflex ou à visée hybride) et une solution de recharge (batterie supplémentaire ou powerbank)\, des vêtements ne craignant pas d’être tachés\, un imperméable\, des chaussures confortables pour marcher un peu\, pique-nique et quelques en-cas. \nFacultatif : Un thermos avec boisson chaude\, un matelas mousse type randonnée pour s’allonger par terre\, un diffuseur ou réflecteur. \nInscription obligatoire\, jauge limitée \nAucun pré-requis : le stage peut être l’occasion d’une première découverte ou d’approfondissements ; les conseils sont individualisés au cours de la journée.
URL:https://pole9.fr/event/stage-photographier-les-fleurs-du-printemps/
CATEGORIES:Stages
END:VEVENT
BEGIN:VEVENT
DTSTART;TZID=Europe/Paris:20230411T140000
DTEND;TZID=Europe/Paris:20230414T160000
DTSTAMP:20260421T153735
CREATED:20230308T090440Z
LAST-MODIFIED:20230308T090440Z
UID:246424-1681221600-1681488000@pole9.fr
SUMMARY:Stage théâtre 11/15 ans
DESCRIPTION:Animé par Mathilde Mariat\, comédienne au sein de la Cie Les rêves arrangés \nCe stage de théâtre est avant tout une aventure passionnante et collective. Nous avons pour objectif d’exprimer notre singularité au sein d’un groupe. A travers différents jeux on crée une cohésion sur la base de l’écoute\, la bienveillance et la sincérité. Durant la semaine on cherche à offrir pleinement notre créativité à travers le jeu\, les costumes et la construction de différents personnages. Grâce à un travail collectif chacun pourra prendre conscience de son potentiel créateur\, le tout couronné de rire et de plaisir. \nPour les 11-15 ans\, tous niveaux
URL:https://pole9.fr/event/stage-theatre-11-15-ans/
LOCATION:Pôle 9 – MJC Centre Social\, 4 rue Sylvain Simondan\, Lyon\, 69009\, France
CATEGORIES:Stages,Théâtre
END:VEVENT
BEGIN:VEVENT
DTSTART;TZID=Europe/Paris:20230411T190000
DTEND;TZID=Europe/Paris:20230411T201500
DTSTAMP:20260421T153735
CREATED:20230308T093241Z
LAST-MODIFIED:20230308T093241Z
UID:246444-1681239600-1681244100@pole9.fr
SUMMARY:Stage découverte Tabata
DESCRIPTION:Animé par Dorian FERRAUTO\, coach sportif\, licence STAPS éducation et motricité \nEntraînement fractionné intense\, évolutif et adapté en fonction de votre forme physique\, accessible à toutes et tous.  \nA partir de 16 ans et adultes.
URL:https://pole9.fr/event/stage-decouverte-tabata/
LOCATION:Pôle 9 – MJC Centre Social\, 4 rue Sylvain Simondan\, Lyon\, 69009\, France
CATEGORIES:Stages
END:VEVENT
BEGIN:VEVENT
DTSTART;TZID=Europe/Paris:20230411T210000
DTEND;TZID=Europe/Paris:20230411T210000
DTSTAMP:20260421T153735
CREATED:20230308T140241Z
LAST-MODIFIED:20230405T091425Z
UID:246479-1681246800-1681246800@pole9.fr
SUMMARY:Soirée contes des milles et une nuits et pâtisseries
DESCRIPTION:Venez vous plonger dans l’univers des milles et une nuits avec la conteuse Lila Khaled puis partageons ensemble quelques pâtisseries orientales \nGratuit et ouvert à toutes et tous\, pensez à ramener un plat à partager sucré !
URL:https://pole9.fr/event/soiree-repas-partage-et-contes-des-milles-et-une-nuits/
LOCATION:La Chaufferie du Vergoin\, 7 rue Albert Falsan\, Lyon\, 69009\, France
CATEGORIES:Contes,En famille,Gratuit,Tout public
END:VEVENT
BEGIN:VEVENT
DTSTART;TZID=Europe/Paris:20230412T093000
DTEND;TZID=Europe/Paris:20230412T173000
DTSTAMP:20260421T153735
CREATED:20230308T085951Z
LAST-MODIFIED:20230308T085951Z
UID:246422-1681291800-1681320600@pole9.fr
SUMMARY:Atelier Théâtre miniature 7/11 ans
DESCRIPTION:Animé par Aurélie\, animatrice Bidouilles et Magouilles \nDonne vie à un théâtre miniature à partir d’un bar à matériaux récupérés : des décors aux personnages\, il s’agira de laisser parler ta créativité et ton ingéniosité pour créer de véritables scènes mobiles à histoire à ramener chez toi en fin de journée. Tu possèdes des playmobils\, des legos\, ou tout autre petits personnages de jeux ? Alors viens avec eux pour adapter ton théâtre miniature à leur taille\, et découvrir les notions de proportions ! Tu peux aussi venir les mains vides\, et créer ces personnages de toute pièce ! Atelier pour bricoler\, créer\, raconter et réemployer toute la journée !  \nPrévoir un repas tiré du sac.
URL:https://pole9.fr/event/atelier-theatre-miniature-7-11-ans/
LOCATION:Pôle 9 – MJC Centre Social\, 4 rue Sylvain Simondan\, Lyon\, 69009\, France
END:VEVENT
BEGIN:VEVENT
DTSTART;TZID=Europe/Paris:20230412T180000
DTEND;TZID=Europe/Paris:20230412T200000
DTSTAMP:20260421T153735
CREATED:20230308T094248Z
LAST-MODIFIED:20230308T094437Z
UID:246446-1681322400-1681329600@pole9.fr
SUMMARY:Stage adultes de Yoga en musique avec du handpan
DESCRIPTION:Animé par Denise Janin\, professeure de Yoga et Omar Zenati\, joueur de handpan. \nAtelier de hatha Yoga accompagné par le son du Handpan\, instrument « vibratoire » aux sonorités relaxantes. \nAu programme : prise de conscience du corps et du souffle\, une série de postures réalisées sur le flow musical  du Handpan\, suivi d’une relaxation profonde en fin de séance.‌ \nAccessible à tous \nSur inscription au Pôle 9 
URL:https://pole9.fr/event/stage-adultes-de-yoga-en-musique-avec-du-handpan/
LOCATION:Salle Schönberg\, 1\, place Schönberg\, Lyon 69009
CATEGORIES:Stages
END:VEVENT
BEGIN:VEVENT
DTSTART;TZID=Europe/Paris:20230413T100000
DTEND;TZID=Europe/Paris:20230413T120000
DTSTAMP:20260421T153735
CREATED:20230329T095236Z
LAST-MODIFIED:20230329T095236Z
UID:246553-1681380000-1681387200@pole9.fr
SUMMARY:Atelier parents/enfants "Les apprentis chocolatiers"
DESCRIPTION:Lapins\, poussins ou encore poissons en chocolat vous font saliver ? Venez découvrir comment les réaliser avec vos enfants en compagnie d’autres familles ! \nA partir de 4 ans\, sur inscription au Pôle.\n2 euros par personne.
URL:https://pole9.fr/event/atelier-parents-enfants-les-apprentis-chocolatiers/
LOCATION:Pôle 9 – MJC Centre Social\, 4 rue Sylvain Simondan\, Lyon\, 69009\, France
CATEGORIES:Atelier parents/enfants
ATTACH;FMTTYPE=image/png:https://pole9.fr/wp-content/uploads/2023/03/atelier-chocolat.png
END:VEVENT
BEGIN:VEVENT
DTSTART;TZID=Europe/Paris:20230413T183000
DTEND;TZID=Europe/Paris:20230413T194500
DTSTAMP:20260421T153735
CREATED:20230308T092903Z
LAST-MODIFIED:20230308T092903Z
UID:246440-1681410600-1681415100@pole9.fr
SUMMARY:Stage découverte Renforcement musculaire
DESCRIPTION:Animé par Dorian FERRAUTO\, coach sportif\, licence STAPS éducation et motricité \nLe renforcement musculaire fait travailler des groupes musculaires spécifiques\, par exemple\, les abdominaux\, les muscles des bras\, des jambes et du dos. Le renforcement des muscles permet d’entretenir votre force\, de maintenir et d’assurer la précision de vos mouvements. Il permet également de prévenir les chutes et de conserver une plus grande autonomie en vieillissant.  \nA partir de 16 ans et adultes \nSi inscription avec stage de découverte Circuit training\, coût préférentiel pour les deux stages = 17€
URL:https://pole9.fr/event/stage-decouverte-renforcement-musculaire/
LOCATION:Pôle 9 – MJC Centre Social\, 4 rue Sylvain Simondan\, Lyon\, 69009\, France
CATEGORIES:Stages
END:VEVENT
BEGIN:VEVENT
DTSTART;TZID=Europe/Paris:20230413T194500
DTEND;TZID=Europe/Paris:20230413T210000
DTSTAMP:20260421T153735
CREATED:20230308T093058Z
LAST-MODIFIED:20230308T093058Z
UID:246442-1681415100-1681419600@pole9.fr
SUMMARY:Stage découverte Circuit training
DESCRIPTION:Animé par Dorian FERRAUTO\, coach sportif\, licence STAPS éducation et motricité \nLe circuit training est un programme ludique et rapide qui vous permettra de gagner en tonicité musculaire.  \nVous allez solliciter l’ensemble de votre chaîne musculaire en enchaînant plusieurs exercices les uns à la suite des autres. \nA partir de 16 ans et adultes  \nSi inscription avec stage de découverte Renforcement musculaire\, coût préférentiel pour les deux stages = 17€
URL:https://pole9.fr/event/stage-decouverte-circuit-training/
LOCATION:Pôle 9 – MJC Centre Social\, 4 rue Sylvain Simondan\, Lyon\, 69009\, France
CATEGORIES:Stages
END:VEVENT
BEGIN:VEVENT
DTSTART;TZID=Europe/Paris:20230414T100000
DTEND;TZID=Europe/Paris:20230414T120000
DTSTAMP:20260421T153735
CREATED:20230310T123952Z
LAST-MODIFIED:20230310T123952Z
UID:246501-1681466400-1681473600@pole9.fr
SUMMARY:Bulle de jeux 0/6 ans
DESCRIPTION:Durant les vacances de printemps\, l’équipe du Pôle 9 vous propose un espace jeux et détente destiné aux enfants de 0 à 6 ans. L’occasion pour les parents et les enfants de se réunir pour jouer en famille ou à plusieurs. \nGratuit et ouvert à toutes et tous.
URL:https://pole9.fr/event/bulle-de-jeux-0-6-ans-12/
LOCATION:L’Annexe du Pôle 9\, 27 rue Albert Falsan\, LYON\, 69009\, France
CATEGORIES:0/6 ans,Gratuit
END:VEVENT
BEGIN:VEVENT
DTSTART;TZID=Europe/Paris:20230418T170000
DTEND;TZID=Europe/Paris:20230418T190000
DTSTAMP:20260421T153735
CREATED:20230308T140946Z
LAST-MODIFIED:20230405T091809Z
UID:246482-1681837200-1681844400@pole9.fr
SUMMARY:Chasse aux chocolats du printemps
DESCRIPTION:Pour fêter l’arrivée du printemps\, quoi de mieux qu’une grande chasse aux chocolats sur le parc de Grandchamp ! \nGratuit et ouvert à tous
URL:https://pole9.fr/event/chasse-aux-chocolats-du-printemps/
LOCATION:Pôle 9 – MJC Centre Social\, 4 rue Sylvain Simondan\, Lyon\, 69009\, France
CATEGORIES:En famille,Gratuit
ATTACH;FMTTYPE=image/jpeg:https://pole9.fr/wp-content/uploads/2023/04/diy-chasse-tresor3.jpg
END:VEVENT
BEGIN:VEVENT
DTSTART;TZID=Europe/Paris:20230419T093000
DTEND;TZID=Europe/Paris:20230419T173000
DTSTAMP:20260421T153735
CREATED:20230308T090711Z
LAST-MODIFIED:20230308T090711Z
UID:246426-1681896600-1681925400@pole9.fr
SUMMARY:Atelier "La matériauthèque du futur"
DESCRIPTION:Animé par Coline\, animatrice Bidouilles et Magouilles \nPour les 9 – 15 ans \nTu auras à disposition une infinité de matériaux collectés et d’outils pour les déformer\, les assembler\, les découper\, les hacher\, les percer\, les mélanger\, les faire fondre… pour créer de nouveaux matériaux du futur\, tous issus du réemploi. À l’image de l’ingénieur et de l’architecte qui expérimentent\, teste et bricole pour créer ta propre matériauthèque du futur et imagine les usages possibles avec ces différents matériaux créés. De la briques de tissus aux plastiques tressés\, fabrique ton propre cabinet de curiosité des matériaux de demain ! \nPrévoir repas tiré du sac
URL:https://pole9.fr/event/atelier-la-materiautheque-du-futur/
LOCATION:Pôle 9 – MJC Centre Social\, 4 rue Sylvain Simondan\, Lyon\, 69009\, France
CATEGORIES:Stages
END:VEVENT
BEGIN:VEVENT
DTSTART;TZID=Europe/Paris:20230419T100000
DTEND;TZID=Europe/Paris:20230419T120000
DTSTAMP:20260421T153735
CREATED:20230310T123803Z
LAST-MODIFIED:20230310T123803Z
UID:246497-1681898400-1681905600@pole9.fr
SUMMARY:Bulle de jeux 0/6 ans
DESCRIPTION:Durant les vacances de printemps\, l’équipe du Pôle 9 vous propose un espace jeux et détente destiné aux enfants de 0 à 6 ans. L’occasion pour les parents et les enfants de se réunir pour jouer en famille ou à plusieurs. \nGratuit et ouvert à toutes et tous.
URL:https://pole9.fr/event/bulle-de-jeux-0-6-ans-10/
LOCATION:L’Annexe du Pôle 9\, 27 rue Albert Falsan\, LYON\, 69009\, France
CATEGORIES:0/6 ans,Gratuit
END:VEVENT
BEGIN:VEVENT
DTSTART;TZID=Europe/Paris:20230420T133000
DTEND;TZID=Europe/Paris:20230420T163000
DTSTAMP:20260421T153735
CREATED:20230308T142014Z
LAST-MODIFIED:20230329T114735Z
UID:246484-1681997400-1682008200@pole9.fr
SUMMARY:Sortie à l’Aquarium de Lyon / Oullins
DESCRIPTION:Venez découvrir ou redécouvrir en famille l’aquarium de Lyon. Requins\, raies et autres curiosités marines vous attendent ! \nInfos pratiques :\nSur inscriptions : 2 euros pour les enfants et 4 euros pour les adultes / prévoir titres de transports en commun
URL:https://pole9.fr/event/sortie-a-laquarium-de-lyon-oullins/
CATEGORIES:Sortie familles
ATTACH;FMTTYPE=image/jpeg:https://pole9.fr/wp-content/uploads/2023/03/aquarium.jpg
END:VEVENT
BEGIN:VEVENT
DTSTART;TZID=Europe/Paris:20230424T090000
DTEND;TZID=Europe/Paris:20230515T183000
DTSTAMP:20260421T153735
CREATED:20230308T104712Z
LAST-MODIFIED:20230308T104816Z
UID:246459-1682326800-1684175400@pole9.fr
SUMMARY:Exposition - Brigitte CICLET : Vestiges Froissés
DESCRIPTION:Vernissage Jeudi 27 avril à partir de 19h \nAttirée par l’effet du temps sur les objets laissés à l’abandon\, l’évolution des couleurs\, l’usure et le bourgeonnement des matériaux\, je me suis mise à collectionner les canettes écrasées et rouillées repérées\, au hasard des rues et des chemins. Devenus inutiles\, ces objets jetés ne sont plus soumis qu’aux aléas de l’usure ordinaire ou extraordinaire. Je tire alors partie des découvertes fortuites et c’est sous mon regard de photographe\, que ces objets deviennent des sujets\, points de départ d’un renouveau\, déclencheurs pour l’imagination. \nCes canettes\, écrasées\, rouillées\, érodées\, je les ai observées\, triées\, photographiées\, puis mises en scène sur fond noir (une face ou un recto-verso)\, débarrassées de tout contexte\, comme des bijoux dans leur écrin. Dans un monde où le lisse\, le neuf et le brillant sont érigés en modèle\, je vous propose de regarder l’œuvre du temps\, qui en passant\, fait émerger et révèle des éclats inattendus. \nExposition du 24 avril au 15 mai \nEntrée libre 
URL:https://pole9.fr/event/exposition-brigitte-ciclet-vestiges-froisses/
LOCATION:Pôle 9 – MJC Centre Social\, 4 rue Sylvain Simondan\, Lyon\, 69009\, France
CATEGORIES:Exposition
ATTACH;FMTTYPE=image/jpeg:https://pole9.fr/wp-content/uploads/2023/03/Photo-2-Brigitte-Ciclet-expo-.jpg
END:VEVENT
BEGIN:VEVENT
DTSTART;TZID=Europe/Paris:20230426T100000
DTEND;TZID=Europe/Paris:20230426T120000
DTSTAMP:20260421T153735
CREATED:20230310T123852Z
LAST-MODIFIED:20230310T123852Z
UID:246499-1682503200-1682510400@pole9.fr
SUMMARY:Bulle de jeux 0/6 ans
DESCRIPTION:Durant les vacances de printemps\, l’équipe du Pôle 9 vous propose un espace jeux et détente destiné aux enfants de 0 à 6 ans. L’occasion pour les parents et les enfants de se réunir pour jouer en famille ou à plusieurs. \nGratuit et ouvert à toutes et tous.
URL:https://pole9.fr/event/bulle-de-jeux-0-6-ans-11/
LOCATION:L’Annexe du Pôle 9\, 27 rue Albert Falsan\, LYON\, 69009\, France
CATEGORIES:0/6 ans,Gratuit
END:VEVENT
BEGIN:VEVENT
DTSTART;TZID=Europe/Paris:20230426T160000
DTEND;TZID=Europe/Paris:20230426T160000
DTSTAMP:20260421T153735
CREATED:20230407T124542Z
LAST-MODIFIED:20230407T130822Z
UID:246583-1682524800-1682524800@pole9.fr
SUMMARY:LudoPôle 9 - Inauguration officielle !
DESCRIPTION:Après le succès grandissant des rendez-vous « Mikado » 1 fois par mois les mercredis après-midi\, le Pôle 9 agrandit ses offres de jeux avec un espace ludothèque ouvert en semaine ! \nMais pas seulement ! Nouveaux mercredis Mikado XXL\, prêt de jeux pour toutes et tous et des soirées jeux ponctuelles… Vous n’avez pas fini de jouer au Pôle 9\, en famille et entre amis ! \nVenez découvrir lors d’une après-midi festive et conviviale ce nouvel espace et service dédié à toute la famille !
URL:https://pole9.fr/event/ludopole-9-inauguration-officielle/
LOCATION:Pôle 9 – MJC Centre Social\, 4 rue Sylvain Simondan\, Lyon\, 69009\, France
CATEGORIES:En famille,évènement,Gratuit,jeux pour tous,ludothèque
END:VEVENT
BEGIN:VEVENT
DTSTART;TZID=Europe/Paris:20230427T190000
DTEND;TZID=Europe/Paris:20230427T210000
DTSTAMP:20260421T153735
CREATED:20230308T092221Z
LAST-MODIFIED:20230308T092221Z
UID:246434-1682622000-1682629200@pole9.fr
SUMMARY:Initiation & approfondissement Handpan
DESCRIPTION:Omar Zenati joue du handpan depuis 7 ans. Venez découvrir ou continuer de vous familiariser à cet instrument peu commun\, au son envoûtant. C’est avec passion qu’il vous transmettra l’histoire\, les techniques et le savoir-faire de cet instrument aux sonorités envoûtantes. Omar vous prêtera un instrument. \nA partir de 10 ans\, ados et adultes.  \nEntrée prix libre (5€ conseillé) mais réservation obligatoire
URL:https://pole9.fr/event/initiation-approfondissement-handpan-7/
LOCATION:Pôle 9 – MJC Centre Social\, 4 rue Sylvain Simondan\, Lyon\, 69009\, France
END:VEVENT
BEGIN:VEVENT
DTSTART;TZID=Europe/Paris:20230429T100000
DTEND;TZID=Europe/Paris:20230429T120000
DTSTAMP:20260421T153735
CREATED:20230308T092313Z
LAST-MODIFIED:20230308T092313Z
UID:246436-1682762400-1682769600@pole9.fr
SUMMARY:Initiation & approfondissement Hanpan
DESCRIPTION:Omar Zenati joue du handpan depuis 7 ans. Venez découvrir ou continuer de vous familiariser à cet instrument peu commun\, au son envoûtant. C’est avec passion qu’il vous transmettra l’histoire\, les techniques et le savoir-faire de cet instrument aux sonorités envoûtantes. Omar vous prêtera un instrument. \nA partir de 10 ans\, ados et adultes.  \nEntrée prix libre (5€ conseillé) mais réservation obligatoire
URL:https://pole9.fr/event/initiation-approfondissement-hanpan/
LOCATION:Pôle 9 – MJC Centre Social\, 4 rue Sylvain Simondan\, Lyon\, 69009\, France
END:VEVENT
BEGIN:VEVENT
DTSTART;TZID=Europe/Paris:20230429T140000
DTEND;TZID=Europe/Paris:20230429T170000
DTSTAMP:20260421T153735
CREATED:20230329T072333Z
LAST-MODIFIED:20230329T072333Z
UID:246551-1682776800-1682787600@pole9.fr
SUMMARY:Stage Danse africaine
DESCRIPTION:Danse traditionnelle du Congo – Animé par Yvon Serge Bissadissi\, accompagné aux percussions en live par Giorgio Gbétie.\nÉnergie\, partage\, convivialité.\nTous niveaux.\nA partir de 14 ans / adultes\nSur inscriptions au Pôle 9
URL:https://pole9.fr/event/stage-danse-africaine/
LOCATION:Pôle 9 – MJC Centre Social\, 4 rue Sylvain Simondan\, Lyon\, 69009\, France
CATEGORIES:Danse,Stages
END:VEVENT
END:VCALENDAR