BEGIN:VCALENDAR
VERSION:2.0
PRODID:-//Pôle 9 - ECPv6.5.1//NONSGML v1.0//EN
CALSCALE:GREGORIAN
METHOD:PUBLISH
X-WR-CALNAME:Pôle 9
X-ORIGINAL-URL:https://pole9.fr
X-WR-CALDESC:évènements pour Pôle 9
REFRESH-INTERVAL;VALUE=DURATION:PT1H
X-Robots-Tag:noindex
X-PUBLISHED-TTL:PT1H
BEGIN:VTIMEZONE

END:VTIMEZONE
BEGIN:VEVENT
DTSTART;TZID=Europe/Paris:20260421T170932
DTEND;TZID=Europe/Paris:20250709T000000
DTSTAMP:20260421T170932
CREATED:20250627T135300Z
LAST-MODIFIED:20250627T135300Z
UID:248459-0-1752019200@pole9.fr
SUMMARY:mercredi de l'été #1
DESCRIPTION:SPECTACLES ET INITIATION BMX – JORIS BRETAGNOLLES\nANIMATIONS SPORT\, NATURE\, INITIATION AUX ECHECS\, JEUX POUR TOUTE LA FAMILLE\nATELIER FRESQUE AVEC L’IMPRÉVISIBLE FABRIQUE\nPRÉVENTION SANTÉ SOLEIL\n21H MUSIQUE BRÉSILIENNE DIOGO CADAVAL\nbuvette et petite restauration sur place X autofinancement jeunes
URL:https://pole9.fr/event/mercredi-de-lete-1-2/
END:VEVENT
BEGIN:VEVENT
DTSTART;TZID=Europe/Paris:20230303T200000
DTEND;TZID=Europe/Paris:20230303T200000
DTSTAMP:20260421T170932
CREATED:20221222T143528Z
LAST-MODIFIED:20230224T114559Z
UID:246269-1677873600-1677873600@pole9.fr
SUMMARY:Soirée Cabaret
DESCRIPTION:Élaborée par Elisa\, Marie-Lou\, Gérard\, Roland\, bénévoles au Pôle 9.  \nMise en lumière des talents des habitants : chant\, danse\, musique\, jonglage\, dessin\, magie\, etc.  \nUne soirée familiale\, festive et conviviale. Accueil en magie à partir de 19h30. \nEntrée à prix libre / Réservation conseillée
URL:https://pole9.fr/event/soiree-cabaret/
LOCATION:Pôle 9 – MJC Centre Social\, 4 rue Sylvain Simondan\, Lyon\, 69009\, France
CATEGORIES:En famille,Gratuit,Spectacle
END:VEVENT
BEGIN:VEVENT
DTSTART;TZID=Europe/Paris:20230304T160000
DTEND;TZID=Europe/Paris:20230304T183000
DTSTAMP:20260421T170932
CREATED:20221222T111024Z
LAST-MODIFIED:20221222T111024Z
UID:246242-1677945600-1677954600@pole9.fr
SUMMARY:Loto dingo familial
DESCRIPTION:Venez en famille\, entre amis\, profitez d’un moment de détente convivial et un peu déjanté pour espérer repartir avec un petit lot symbolique. \n1€ le carton (maxi 2 cartons par personne) / Dès 8 ans \nAction préparée et animée par les jeunes et les parents de l’accompagnement à la scolarité collégiens du Pôle 9.
URL:https://pole9.fr/event/loto-dingo-familial/
LOCATION:Pôle 9 – MJC Centre Social\, 4 rue Sylvain Simondan\, Lyon\, 69009\, France
CATEGORIES:En famille
END:VEVENT
BEGIN:VEVENT
DTSTART;TZID=Europe/Paris:20230311T180000
DTEND;TZID=Europe/Paris:20230311T193000
DTSTAMP:20260421T170932
CREATED:20230307T114127Z
LAST-MODIFIED:20230307T114127Z
UID:246402-1678557600-1678563000@pole9.fr
SUMMARY:Impro : Venez jouer avec nous ! 
DESCRIPTION:BONUS avant-spectacle de 18h à 19h30\nAtelier échauffement découverte avec les comédiens de 18h à 19h30\nOuvert à tous\, gratuit\, sur inscription\nSuivi d’un apéro à grignoter pour les participants à l’atelier
URL:https://pole9.fr/event/impro-venez-jouer-avec-nous/
LOCATION:Pôle 9 – MJC Centre Social\, 4 rue Sylvain Simondan\, Lyon\, 69009\, France
END:VEVENT
BEGIN:VEVENT
DTSTART;TZID=Europe/Paris:20230311T203000
DTEND;TZID=Europe/Paris:20230311T220000
DTSTAMP:20260421T170932
CREATED:20230307T110605Z
LAST-MODIFIED:20230307T110605Z
UID:246395-1678566600-1678572000@pole9.fr
SUMMARY:Soirée Théâtre d'impro
DESCRIPTION:Nouveau rendez-vous proposé par la Compagnie des Chaussettes Trouées avec cette soirée « Envoyez les chaussettes dans le décor ».\nA vivre en famille pour le meilleur et pour le rire.\nBuvette sur place\nPrix Libre\, réservation conseillée
URL:https://pole9.fr/event/soiree-theatre-dimpro/
LOCATION:Pôle 9 – MJC Centre Social\, 4 rue Sylvain Simondan\, Lyon\, 69009\, France
CATEGORIES:En famille
END:VEVENT
BEGIN:VEVENT
DTSTART;TZID=Europe/Paris:20230314T190000
DTEND;TZID=Europe/Paris:20230314T210000
DTSTAMP:20260421T170932
CREATED:20230307T114237Z
LAST-MODIFIED:20230307T114237Z
UID:246404-1678820400-1678827600@pole9.fr
SUMMARY:Cacophonie organisée
DESCRIPTION:Ernest Afriyié et Sadoo vous présentent un spectacle de contes en musique autour du projet Essentiel créé avec les jeunes et les pros de l’IME le Bouquet : exposition\, projection d’un film reportage et spectacle à découvrir en famille !\nBuvette sur place\nGratuit\, réservation conseillée
URL:https://pole9.fr/event/cacophonie-organisee/
LOCATION:Pôle 9 – MJC Centre Social\, 4 rue Sylvain Simondan\, Lyon\, 69009\, France
END:VEVENT
BEGIN:VEVENT
DTSTART;TZID=Europe/Paris:20230315T153000
DTEND;TZID=Europe/Paris:20230315T153000
DTSTAMP:20260421T170932
CREATED:20230308T135706Z
LAST-MODIFIED:20230308T135812Z
UID:246476-1678894200-1678894200@pole9.fr
SUMMARY:Spectacle Rosa Lune / Théâtre d’ombres et d’objets en musique
DESCRIPTION:Les lumières s’allument aux fenêtres des maisons\, les ombres des villageois guettent… Nous voilà en train de déambuler dans le village des Pas-contents et ses nuits sans lune. Un doux chant résonne du bout de la rue\, c’est la voix de Rosa Lune. Cette histoire sensible et poétique nous raconte la naissance de la lune et le phénomène de son attraction sur les loups. Mélodies chaloupées\, percussions corporelles et théâtre d’ombres\, ce spectacle est une ôde au vivre-ensemble et à la tolérance. \nTout public à partir de 5 ans \nTarifs au choix 5 / 7 / 10 euros \nBilletterie à l’accueil ou en ligne bit.ly/3ONFwc0
URL:https://pole9.fr/event/spectacle-rosa-lune-theatre-dombres-et-dobjets-en-musique/
LOCATION:Pôle 9 – MJC Centre Social\, 4 rue Sylvain Simondan\, Lyon\, 69009\, France
CATEGORIES:dès 5 ans,Spectacle,Tout public
ATTACH;FMTTYPE=image/jpeg:https://pole9.fr/wp-content/uploads/2023/03/Rosa-Lune.jpg
END:VEVENT
BEGIN:VEVENT
DTSTART;TZID=Europe/Paris:20230315T190000
DTEND;TZID=Europe/Paris:20230315T213000
DTSTAMP:20260421T170932
CREATED:20230308T091215Z
LAST-MODIFIED:20230308T091555Z
UID:246428-1678906800-1678915800@pole9.fr
SUMMARY:Stage terre à partir de 16 ans
DESCRIPTION:Animé par Nathalie Guyot\, diplômée des beaux-arts  \nDécouvrez une activité créative et apaisante\, aux multiples possibilités\, décoratives ou utilitaires. 
URL:https://pole9.fr/event/stage-terre-a-partir-de-16-ans/
LOCATION:Pôle 9 – MJC Centre Social\, 4 rue Sylvain Simondan\, Lyon\, 69009\, France
CATEGORIES:Stages
END:VEVENT
BEGIN:VEVENT
DTSTART;TZID=Europe/Paris:20230316T190000
DTEND;TZID=Europe/Paris:20230316T210000
DTSTAMP:20260421T170932
CREATED:20230308T092006Z
LAST-MODIFIED:20230308T092006Z
UID:246430-1678993200-1679000400@pole9.fr
SUMMARY:Initiation & approfondissement Handpan
DESCRIPTION:Omar Zenati joue du handpan depuis 7 ans. Venez découvrir ou continuer de vous familiariser à cet instrument peu commun\, au son envoûtant. C’est avec passion qu’il vous transmettra l’histoire\, les techniques et le savoir-faire de cet instrument aux sonorités envoûtantes. Omar vous prêtera un instrument. \nA partir de 10 ans\, ados et adultes.  \nEntrée prix libre (5€ conseillé) mais réservation obligatoire
URL:https://pole9.fr/event/initiation-approfondissement-handpan-5/
LOCATION:Pôle 9 – MJC Centre Social\, 4 rue Sylvain Simondan\, Lyon\, 69009\, France
END:VEVENT
BEGIN:VEVENT
DTSTART;TZID=Europe/Paris:20230317T180000
DTEND;TZID=Europe/Paris:20230317T190000
DTSTAMP:20260421T170932
CREATED:20230307T115656Z
LAST-MODIFIED:20230307T115656Z
UID:246413-1679076000-1679079600@pole9.fr
SUMMARY:Apéro-rencontre "autour du spectacle Seulement Jeanne"
DESCRIPTION:Apéro rencontre avec Guy Lefrêne\nVenez rencontrer Guy Lefrêne\, habitant de la Croix-Rousse et collectionneur de vinyles et parcourez avec lui l’Exposition & le Parcours sonore “autour du spectacle” : cartes postales\, affiches et vinyles seront à observer et découvrir en bonne compagnie. 
URL:https://pole9.fr/event/apero-rencontre-autour-du-spectacle-seulement-jeanne/
LOCATION:Pôle 9 – MJC Centre Social\, 4 rue Sylvain Simondan\, Lyon\, 69009\, France
END:VEVENT
BEGIN:VEVENT
DTSTART;TZID=Europe/Paris:20230317T180000
DTEND;TZID=Europe/Paris:20230317T200000
DTSTAMP:20260421T170932
CREATED:20230308T094610Z
LAST-MODIFIED:20230308T094610Z
UID:246450-1679076000-1679083200@pole9.fr
SUMMARY:Stage "Cultiver la présence par le yoga et la sophrologie
DESCRIPTION:Animé par Laure Couasnon\, professeure de yoga et Catherine Larrat\, sophrologue. \nLe temps d’un atelier\, les animatrices Yoga et Sophrologie vous proposent de découvrir ces disciplines complémentaires. \nLe fil conducteur des deux pratiques sera la « présence »\, présence à soi\, présence à son corps\, pour une plus grande écoute de nos besoins au quotidien et pour nous relier à notre intériorité. \nA partir de 16 ans et adultes. Accessible à tous. 
URL:https://pole9.fr/event/stage-cultiver-la-presence-par-le-yoga-et-la-sophrologie/
LOCATION:Pôle 9 – MJC Centre Social\, 4 rue Sylvain Simondan\, Lyon\, 69009\, France
CATEGORIES:Stages
END:VEVENT
BEGIN:VEVENT
DTSTART;TZID=Europe/Paris:20230317T183000
DTEND;TZID=Europe/Paris:20230317T183000
DTSTAMP:20260421T170932
CREATED:20230308T134629Z
LAST-MODIFIED:20230308T135316Z
UID:246472-1679077800-1679077800@pole9.fr
SUMMARY:Conférence Parent’aise - "Comprendre le développement de mon enfant pour mieux accompagner ses émotions"
DESCRIPTION:Soirée d’échanges / débats à destination des parents.  \n« Comprendre le développement de mon enfant pour mieux accompagner ses émotions ». Soutenir les habiletés parentales et renforcer les parents dans leurs propres compétences.  \nChaque étape est illustrée d’exemples de difficultés parentales rencontrées au cours de la vie de l’enfant. L’intervention des participants est sollicitée pour associer le partage d’expériences vécues en compagnie d’une psychopédagogue. \nGratuit – sur inscription auprès de l’accueil
URL:https://pole9.fr/event/conference-parentaise/
LOCATION:Pôle 9 – MJC Centre Social\, 4 rue Sylvain Simondan\, Lyon\, 69009\, France
CATEGORIES:Conférence,Gratuit
END:VEVENT
BEGIN:VEVENT
DTSTART;TZID=Europe/Paris:20230317T190000
DTEND;TZID=Europe/Paris:20230317T200000
DTSTAMP:20260421T170932
CREATED:20230307T115050Z
LAST-MODIFIED:20230307T115050Z
UID:246410-1679079600-1679083200@pole9.fr
SUMMARY:Seulement Jeanne - Compagnie Bande d'art et d'Urgence
DESCRIPTION:Dans ce spectacle conçu à partir des chansons et des entretiens radiophoniques de Jeanne Moreau\, une comédienne vient parler au spectateur\, elle voudrait faire un spectacle et chanter\, elle ne sait pas encore comment\, elle vient partager ses envies\, ses doutes\, les allers retours entre son désir et sa peur de se lancer dans quelque chose de nouveau. Elle nous amène avec elle dans le parcours d’une femme passionnée\, indépendante\, et libre.\nTarifs au choix 5/7/10 euros\nBilletterie à l’accueil ou en ligne http://bit.ly/3JgLlgC
URL:https://pole9.fr/event/seulement-jeanne-compagnie-bande-dart-et-durgence/
LOCATION:Pôle 9 – MJC Centre Social\, 4 rue Sylvain Simondan\, Lyon\, 69009\, France
CATEGORIES:Spectacle,Théâtre
END:VEVENT
BEGIN:VEVENT
DTSTART;TZID=Europe/Paris:20230318T100000
DTEND;TZID=Europe/Paris:20230318T120000
DTSTAMP:20260421T170932
CREATED:20230308T092117Z
LAST-MODIFIED:20230308T092117Z
UID:246432-1679133600-1679140800@pole9.fr
SUMMARY:Initiation & approfondissement Handpan
DESCRIPTION:Omar Zenati joue du handpan depuis 7 ans. Venez découvrir ou continuer de vous familiariser à cet instrument peu commun\, au son envoûtant. C’est avec passion qu’il vous transmettra l’histoire\, les techniques et le savoir-faire de cet instrument aux sonorités envoûtantes. Omar vous prêtera un instrument. \nA partir de 10 ans\, ados et adultes.  \nEntrée prix libre (5€ conseillé) mais réservation obligatoire
URL:https://pole9.fr/event/initiation-approfondissement-handpan-6/
LOCATION:Pôle 9 – MJC Centre Social\, 4 rue Sylvain Simondan\, Lyon\, 69009\, France
END:VEVENT
BEGIN:VEVENT
DTSTART;TZID=Europe/Paris:20230321T180000
DTEND;TZID=Europe/Paris:20230321T184500
DTSTAMP:20260421T170932
CREATED:20230308T155942Z
LAST-MODIFIED:20230321T132246Z
UID:246489-1679421600-1679424300@pole9.fr
SUMMARY:Ciné en famille "Drôles d'oiseaux"
DESCRIPTION:Ellie\, dix ans et demi\, entre en sixième à Saumur. Timide et passionnée par la nature\, elle passe son temps plongée dans des livres\, en particulier d’ornithologie. Elle intrigue Anna\, la documentaliste du collège\, une femme mystérieuse avec qui elle tisse une relation pleine de malice. Le jour où Ellie doit absolument lui rendre un livre\, la porte du CDI est fermée. Ellie décide alors de le ramener directement chez Anna qui vit sur une île sur la Loire\, à quelques kilomètres du collège. Une île pleine d’oiseaux.\nTarif : 2 euros par personne\nTout public à partir de 6 ans – Durée : 34 minutes \nRéservation conseillée à l’accueil du Pôle 9
URL:https://pole9.fr/event/cine-en-famille-droles-doiseaux/
LOCATION:Pôle 9 – MJC Centre Social\, 4 rue Sylvain Simondan\, Lyon\, 69009\, France
CATEGORIES:Cinéma,dès 6 ans,En famille
END:VEVENT
BEGIN:VEVENT
DTSTART;TZID=Europe/Paris:20230322T093000
DTEND;TZID=Europe/Paris:20230322T113000
DTSTAMP:20260421T170932
CREATED:20230308T085158Z
LAST-MODIFIED:20230308T085158Z
UID:246418-1679477400-1679484600@pole9.fr
SUMMARY:Stage Terre - thème "les animaux"
DESCRIPTION:Avec l’animatrice Nathalie Guyot\, découvrez une activité créative et apaisante\, aux multiples possibilités\, décoratives ou utilitaires. \nEnfant à partir de 6 ans\, ados\, adultes \nCoût du stage pour une personne = 15€\, si binôme (parent-enfant) = 25€ le duo
URL:https://pole9.fr/event/stage-terre-theme-les-animaux/
LOCATION:Pôle 9 – MJC Centre Social\, 4 rue Sylvain Simondan\, Lyon\, 69009\, France
CATEGORIES:dès 6 ans,Stages
END:VEVENT
BEGIN:VEVENT
DTSTART;TZID=Europe/Paris:20230323T200000
DTEND;TZID=Europe/Paris:20230323T200000
DTSTAMP:20260421T170932
CREATED:20230308T105049Z
LAST-MODIFIED:20230308T105220Z
UID:246462-1679601600-1679601600@pole9.fr
SUMMARY:Conférence gesticulée #3 Claudine BERGER / Boulot\, bonheur\, bullshit
DESCRIPTION:C’est un outil d’éducation populaire pour amorcer une réflexion critique et politique sur des sujets de société. C’est une conférence… mais ce n’est pas un exposé ! Cela ressemble à un spectacle… mais ce n’est pas du théâtre ! C’est parfois drôle… mais ce n’est pas du stand-up !  \n“Être ou ne pas être heureux.se au travail ? Telle est la question que se posent les entreprises pour améliorer leur productivité dans une logique capitaliste. Cette conférence gesticulée aborde les désillusions d’une psychologue du travail qui pensait pouvoir adapter le travail aux individus… Et non l’inverse.”\nNouvelle conférencière\, nouvelle conférence qui attend d’être nourrie des échanges qu’elle va faire naître avec vous. \nGratuit\, réservation conseillée
URL:https://pole9.fr/event/conference-gesticulee-3-claudine-berger-boulot-bonheur-bullshit/
LOCATION:Pôle 9 – MJC Centre Social\, 4 rue Sylvain Simondan\, Lyon\, 69009\, France
CATEGORIES:Conférence,Gratuit
ATTACH;FMTTYPE=image/jpeg:https://pole9.fr/wp-content/uploads/2023/03/Conf-Gesticulee.jpg
END:VEVENT
BEGIN:VEVENT
DTSTART;TZID=Europe/Paris:20230325T190000
DTEND;TZID=Europe/Paris:20230325T190000
DTSTAMP:20260421T170932
CREATED:20230308T110620Z
LAST-MODIFIED:20230308T110958Z
UID:246468-1679770800-1679770800@pole9.fr
SUMMARY:Concert des groupes du Pôle Musique - Musiques actuelles / Rock
DESCRIPTION:Venez découvrir les groupes qui répètent à l’année au Pôle 9 ! \nGENJIC / DARONS DE L’APOCALYPSE / TROUBLE / AFTERMATH / MIDNIGHT CLIMAX / IN TEMP \nBuvette sur place  \nPrix libre\, réservation conseillée
URL:https://pole9.fr/event/concert-des-groupes-du-pole-musique-musique-actuelles-rock/
LOCATION:Pôle 9 – MJC Centre Social\, 4 rue Sylvain Simondan\, Lyon\, 69009\, France
CATEGORIES:Concert,En famille
ATTACH;FMTTYPE=image/jpeg:https://pole9.fr/wp-content/uploads/2023/03/ConcertdesgroupesduPolemusique.jpg
END:VEVENT
BEGIN:VEVENT
DTSTART;TZID=Europe/Paris:20230329T190000
DTEND;TZID=Europe/Paris:20230329T213000
DTSTAMP:20260421T170932
CREATED:20230308T095258Z
LAST-MODIFIED:20230308T095258Z
UID:246452-1680116400-1680125400@pole9.fr
SUMMARY:Stage Terre à partir de 16 ans
DESCRIPTION:Animé par Nathalie Guyot\, diplômée des Beaux-Arts. \nDécouvrez une activité créative et apaisante\, aux multiples possibilités\, décoratives ou utilitaires. 
URL:https://pole9.fr/event/stage-terre-a-partir-de-16-ans-2/
LOCATION:Pôle 9 – MJC Centre Social\, 4 rue Sylvain Simondan\, Lyon\, 69009\, France
CATEGORIES:Stages
END:VEVENT
BEGIN:VEVENT
DTSTART;TZID=Europe/Paris:20230331T090000
DTEND;TZID=Europe/Paris:20230331T170000
DTSTAMP:20260421T170932
CREATED:20230308T103922Z
LAST-MODIFIED:20230308T134206Z
UID:246454-1680253200-1680282000@pole9.fr
SUMMARY:Bourse aux vêtements enfants/objets de puériculture
DESCRIPTION:Elle est de retour ! Comme chaque année le Pôle 9 organise sa bourse du printemps\, divers objets et vêtements pour enfants sont mis en vente durant deux journées. En partenariat avec l’association St Rambert solidarité. \nPossibilité de mettre en vente vos vêtements ou objets\, contactez l’accueil pour connaître la marche à suivre. \nGratuit et ouvert à tous
URL:https://pole9.fr/event/bourse-aux-vetements-enfants-objets-de-puericulture/
LOCATION:Pôle 9 – MJC Centre Social\, 4 rue Sylvain Simondan\, Lyon\, 69009\, France
CATEGORIES:Bourse
ATTACH;FMTTYPE=image/jpeg:https://pole9.fr/wp-content/uploads/2023/03/boursejouetsjpg.jpg
END:VEVENT
BEGIN:VEVENT
DTSTART;TZID=Europe/Paris:20230331T190000
DTEND;TZID=Europe/Paris:20230331T220000
DTSTAMP:20260421T170932
CREATED:20230308T143138Z
LAST-MODIFIED:20230308T143138Z
UID:246487-1680289200-1680300000@pole9.fr
SUMMARY:Soirée spécial jeux d’ambiance
DESCRIPTION:Envie de rire en famille ou entre amis ? Cette soirée est pour vous ! Nous vous proposons une large sélection de jeux de société incontournables : quiz\, jeux de dessin\, bluff\, trahisons\, identités secrètes. Vous retrouverez ainsi des grands succès (concept\, code name…) ou découvrirez de nouvelles pépites. \nGratuit et ouvert à tous à partir de 6 ans
URL:https://pole9.fr/event/soiree-special-jeux-dambiance/
LOCATION:Pôle 9 – MJC Centre Social\, 4 rue Sylvain Simondan\, Lyon\, 69009\, France
CATEGORIES:dès 6 ans,En famille,Gratuit
END:VEVENT
END:VCALENDAR