BEGIN:VCALENDAR
VERSION:2.0
PRODID:-//Pôle 9 - ECPv6.5.1//NONSGML v1.0//EN
CALSCALE:GREGORIAN
METHOD:PUBLISH
X-WR-CALNAME:Pôle 9
X-ORIGINAL-URL:https://pole9.fr
X-WR-CALDESC:évènements pour Pôle 9
REFRESH-INTERVAL;VALUE=DURATION:PT1H
X-Robots-Tag:noindex
X-PUBLISHED-TTL:PT1H
BEGIN:VTIMEZONE

END:VTIMEZONE
BEGIN:VEVENT
DTSTART;TZID=Europe/Paris:20260421T183159
DTEND;TZID=Europe/Paris:20250709T000000
DTSTAMP:20260421T183159
CREATED:20250627T135300Z
LAST-MODIFIED:20250627T135300Z
UID:248459-0-1752019200@pole9.fr
SUMMARY:mercredi de l'été #1
DESCRIPTION:SPECTACLES ET INITIATION BMX – JORIS BRETAGNOLLES\nANIMATIONS SPORT\, NATURE\, INITIATION AUX ECHECS\, JEUX POUR TOUTE LA FAMILLE\nATELIER FRESQUE AVEC L’IMPRÉVISIBLE FABRIQUE\nPRÉVENTION SANTÉ SOLEIL\n21H MUSIQUE BRÉSILIENNE DIOGO CADAVAL\nbuvette et petite restauration sur place X autofinancement jeunes
URL:https://pole9.fr/event/mercredi-de-lete-1-2/
END:VEVENT
BEGIN:VEVENT
DTSTART;TZID=Europe/Paris:20230127T090000
DTEND;TZID=Europe/Paris:20230216T180000
DTSTAMP:20260421T183159
CREATED:20221222T104654Z
LAST-MODIFIED:20221222T154315Z
UID:246224-1674810000-1676570400@pole9.fr
SUMMARY:Photographie / Impression sur toile - Coline Verrien et Florian Thizon
DESCRIPTION:“Invitation à Venise”. Nous vous proposons une virée au carnaval de Venise en compagnie de la troupe de comédiens des Zinzolines.\nCostumes colorés et architectures traditionnelles vénitiennes\, voilà les thèmes des œuvres présentées ! \nVernissage vendredi 27 janvier à partir de 18h30. \nGratuit
URL:https://pole9.fr/event/photographie-impression-sur-toile-coline-verrien-et-florian-thizon/
LOCATION:Pôle 9 – MJC Centre Social\, 4 rue Sylvain Simondan\, Lyon\, 69009\, France
CATEGORIES:Exposition
ATTACH;FMTTYPE=image/jpeg:https://pole9.fr/wp-content/uploads/2022/12/venise-bleue.jpg
END:VEVENT
BEGIN:VEVENT
DTSTART;TZID=Europe/Paris:20230201T160000
DTEND;TZID=Europe/Paris:20230201T160000
DTSTAMP:20260421T183159
CREATED:20221222T110310Z
LAST-MODIFIED:20221222T110310Z
UID:246236-1675267200-1675267200@pole9.fr
SUMMARY:Inauguration Ludothèque
DESCRIPTION:Mikado s’agrandit ! \nDurant le mois de février la ludothèque ouvrira ses portes. Plusieurs créneaux vous seront proposés de manière hebdomadaire. Aussi un service de prêt de jouets et jeux vous permettra de vivre des temps ludiques à la maison !  \nInauguration et temps de découverte le mercredi 1er février à 16h et ouvert du 4 au 17 février du mardi au vendredi 9h-12h et 14h30-18h au Pôle 9
URL:https://pole9.fr/event/inauguration-ludotheque/
CATEGORIES:jeux pour tous,ludothèque
ATTACH;FMTTYPE=image/jpeg:https://pole9.fr/wp-content/uploads/2021/12/mikado.jpg
END:VEVENT
BEGIN:VEVENT
DTSTART;TZID=Europe/Paris:20230202T170000
DTEND;TZID=Europe/Paris:20230202T170000
DTSTAMP:20260421T183159
CREATED:20221222T144057Z
LAST-MODIFIED:20221222T155215Z
UID:246273-1675357200-1675357200@pole9.fr
SUMMARY:Presqu’illisibles par la Compagnie "Lunée l’ôtre"
DESCRIPTION:Au fil de cette vaste épopée dont elle fait le récit\, la Factrice des Presqu’Illisibles déballe un bureau de poste\, de bric et de brocante et invite le public à laisser quelques mots pour les équipages à venir\, pour ses futures destinations. Elle a dans ses bagages un attirail épistolaire : de plumes\, pochoirs\, encriers\, machines à écrire\, cachets de cires\, timbres anciens.\nCurieux.ses\, novices et passionné.e.s sont invité.e.s à s’exprimer en caractères illimités\, à cacheter\, timbrer\, oblitérer leurs courriers avant le départ pour la grande tournée ! \nSpectacle-atelier épistolaire tout public à partir de 6 ans – Durée 1h10 \nRépétition publique – Participation libre
URL:https://pole9.fr/event/presquillisibles-par-la-compagnie-lunee-lotre/
LOCATION:Pôle 9 – MJC Centre Social\, 4 rue Sylvain Simondan\, Lyon\, 69009\, France
CATEGORIES:dès 6 ans,Spectacle
ATTACH;FMTTYPE=image/jpeg:https://pole9.fr/wp-content/uploads/2022/12/Presquillisibles.jpg
END:VEVENT
BEGIN:VEVENT
DTSTART;TZID=Europe/Paris:20230206T090000
DTEND;TZID=Europe/Paris:20230217T170000
DTSTAMP:20260421T183159
CREATED:20221222T111410Z
LAST-MODIFIED:20221222T111616Z
UID:246244-1675674000-1676653200@pole9.fr
SUMMARY:Accueil de loisirs 10 / 15 ans vacances d'hiver
DESCRIPTION:Le Pôle 9  accueille les ados pendant les vacances scolaires du lundi au vendredi de 9h à 17h.\nDeux semaines pour se retrouver et s’amuser\, avec des activités\, jeux et chasse au trésor\, initiations sportives\, sorties culturelles… \nTarifs activités/sorties de 2\,50 à 7\,50 euros + supplément sortie selon le quotient familial.\nInscriptions à l’accueil du Pôle 9 à partir du lundi 13 janvier 17h
URL:https://pole9.fr/event/accueil-de-loisirs-10-15-ans-vacances-dhiver/
LOCATION:Pôle 9 – MJC Centre Social\, 4 rue Sylvain Simondan\, Lyon\, 69009\, France
CATEGORIES:10/15 ans,accueil de loisirs,vacances
END:VEVENT
BEGIN:VEVENT
DTSTART;TZID=Europe/Paris:20230215T074500
DTEND;TZID=Europe/Paris:20230215T074500
DTSTAMP:20260421T183159
CREATED:20221222T150640Z
LAST-MODIFIED:20221222T150640Z
UID:246278-1676447100-1676447100@pole9.fr
SUMMARY:Sortie familiale neige et luges - Chamrousse
DESCRIPTION:Profitez à petits prix des joies de la neige en famille ! \nTransport en bus depuis St Rambert & Vaise Rochecardon – A partir de 3 ans \nTarifs en fonction du quotient familial : Enfant de 3 € à 8\,5 € – Adulte de 4 € à 10 € \nPlus d’information et inscription à l’accueil du Pôle 9
URL:https://pole9.fr/event/sortie-familiale-neige-et-luges-chamrousse/
CATEGORIES:Sortie familiale à la neige
END:VEVENT
BEGIN:VEVENT
DTSTART;TZID=Europe/Paris:20230216T140000
DTEND;TZID=Europe/Paris:20230216T140000
DTSTAMP:20260421T183159
CREATED:20221222T151215Z
LAST-MODIFIED:20221222T160305Z
UID:246282-1676556000-1676556000@pole9.fr
SUMMARY:Atelier parent/enfant en duo - Carnaval
DESCRIPTION:Atelier manuel : Carnaval\nà partir de 5 ans \nTarif atelier : 3 € par enfant et accompagnant gratuit\nInscription à l’accueil à partir du 16 janvier
URL:https://pole9.fr/event/atelier-parent-enfant-en-duo-carnaval/
LOCATION:Pôle 9 – MJC Centre Social\, 4 rue Sylvain Simondan\, Lyon\, 69009\, France
CATEGORIES:Atelier parents/enfants,dès 5 ans
ATTACH;FMTTYPE=image/jpeg:https://pole9.fr/wp-content/uploads/2022/12/carnaval-1.jpg
END:VEVENT
BEGIN:VEVENT
DTSTART;TZID=Europe/Paris:20230218T100000
DTEND;TZID=Europe/Paris:20230218T190000
DTSTAMP:20260421T183159
CREATED:20221222T112015Z
LAST-MODIFIED:20230215T150232Z
UID:246249-1676714400-1676746800@pole9.fr
SUMMARY:Journée "Ensemble c'est tout"
DESCRIPTION:C’est la troisième édition de cette journée dédiée à l’amour universel.\nTout ce qui est proposé est gratuit\, sauf l’apéro fanfare qui demande une participation libre (vous donnez ce que vous voulez). \nQue pour les grands \n10h/12h30 Bulle de massages\nMassage des mains\, ou visage\nDurée : 20 minutes par personne – Réservation obligatoire \nPour les grands et leurs petits \n10h/11h30 «Peinture libre à 4 mains» à partir de 18 mois • durée 30 min. \n10h/11h Atelier «Bébé Signe» • durée 45 min.\ninitiation à la langue des signes bébé – parent bébé à partir de 6 mois \n10h/12h Atelier archiludique parent/enfant à partir de 6 ans • durée 45 min.\nRéservation obligatoire – Fabriquer une petite scène\ndans une brique de lait avec des décors à découper et à assembler \n15h/16h Lecture d’histoires d’amour et d’amitié dès 4 ans \n16h30 Ciné en famille • La Sorcière dans les Airs\nà partir de 3 ans • durée 30 min. \nPour les enfants/ados \n10h/12h Atelier customisation de galets \n10h/12h15 Atelier archiludique 9/15 ans • durée 45 min.\nRéservation obligatoire – Fabriquer une petite scène dans\nune brique de lait avec des décors à découper et à assembler \n10h/17h Ludothèque ouverte à toutes et tous 10h-12h & 14h-17h \n10h/17h Expo «L’Amour dans l’Art» – parcours enfant + parcours ado \nPour toutes & tous \n10h/12h Atelier customisation de galets \n14h/16h Atelier cuisine cupcake • durée 2 heures \n10h/18h Marché 100% Gratuit / gratiféria\nApportez des objets à donner en bon état\,\net repartez avec une jolie trouvaille. \n10h/17h Chasse aux galets dans St Rambert\nBalade autonome à la recherche de galets peints. \n10h/17h Ludothèque ouverte à toutes 10h-12h & 14h-17h \n10h/17h Expo «L’Amour dans l’Art»\nparcours adulte\, ado ou enfant à la demande \n18h Apéro en musique avec la fanfare ASTROBRASS – participation libre\nBières et croque-monsieurs maison au Bar du Pôle 9
URL:https://pole9.fr/event/journee-ensemble-cest-tout-2/
CATEGORIES:En famille,Gratuit
END:VEVENT
BEGIN:VEVENT
DTSTART;TZID=Europe/Paris:20230221T173000
DTEND;TZID=Europe/Paris:20230221T193000
DTSTAMP:20260421T183159
CREATED:20230206T103419Z
LAST-MODIFIED:20230206T103419Z
UID:246362-1677000600-1677007800@pole9.fr
SUMMARY:Carnaval des Fleurs à St Rambert
DESCRIPTION:17h30 RDV devant l’école de votre enfant ! (A. Daudet\, Les Grillons\, F. Mistral\, et la Sauvagère)\nRécupération impérative de votre enfant et départ du défilé \n17h45 Grande rue de St Rambert du haut vers le bas\nToute la rue est à nous ! Retrouvailles des écoles Daudet\, Mistral\, Grillons et déambulation \n18h-19h30 Place Henri Barbusse\nRDV pour toutes et tous : Buvette\, crêpes\, fanfare ASTROBRASS\, jeux en bois. A 19h15\, final et « Cérémonie des soucis »
URL:https://pole9.fr/event/carnaval-des-fleurs-a-st-rambert/
LOCATION:Place Henri Barbusse 69009 Lyon\, Place Henri Barbusse\, Lyon\, 69009\, France
END:VEVENT
BEGIN:VEVENT
DTSTART;TZID=Europe/Paris:20230222T140000
DTEND;TZID=Europe/Paris:20230222T183000
DTSTAMP:20260421T183159
CREATED:20221222T105904Z
LAST-MODIFIED:20221222T110000Z
UID:246234-1677074400-1677090600@pole9.fr
SUMMARY:Mikado au Pôle 9
DESCRIPTION:Des espaces de jeux pour tous\, petite enfance\, enfance\, ado\, adultes. Venez partager un moment de jeux en toute convivialité. Isabelle et Florian vous accueillent un mercredi par mois avec une grande variété de jeux et de jouets adaptés à tous les âges ! Un stand goûter et boissons vous seront proposé par un groupe de mamans.\nSans inscription / adhésion au Pôle 9
URL:https://pole9.fr/event/mikado-au-pole-9-7/
LOCATION:Pôle 9 – MJC Centre Social\, 4 rue Sylvain Simondan\, Lyon\, 69009\, France
CATEGORIES:En famille,jeux pour tous,ludothèque
ATTACH;FMTTYPE=image/jpeg:https://pole9.fr/wp-content/uploads/2021/12/mikado.jpg
END:VEVENT
BEGIN:VEVENT
DTSTART;TZID=Europe/Paris:20230223T190000
DTEND;TZID=Europe/Paris:20230223T210000
DTSTAMP:20260421T183159
CREATED:20221222T151809Z
LAST-MODIFIED:20221222T151809Z
UID:246288-1677178800-1677186000@pole9.fr
SUMMARY:Initiation / approfondissement Handpan
DESCRIPTION:Omar Zenati joue du handpan depuis 7 ans. Venez découvrir ou continuer de vous familiariser à cet instrument peu commun. C’est avec passion qu’il vous transmettra l’histoire\, les techniques et le savoir-faire de cet instrument aux sonorités envoûtantes. Omar vous prêtera un instrument. \nA partir de 10 ans\, ados et adultes.  \nEntrée prix libre (5€ conseillé) mais réservation auparavant à l’accueil du Pôle 9
URL:https://pole9.fr/event/initiation-approfondissement-handpan-3/
LOCATION:Pôle 9 – MJC Centre Social\, 4 rue Sylvain Simondan\, Lyon\, 69009\, France
ATTACH;FMTTYPE=image/png:https://pole9.fr/wp-content/uploads/2022/10/handpan.png
END:VEVENT
BEGIN:VEVENT
DTSTART;TZID=Europe/Paris:20230223T200000
DTEND;TZID=Europe/Paris:20230223T200000
DTSTAMP:20260421T183159
CREATED:20221222T105217Z
LAST-MODIFIED:20221222T153635Z
UID:246228-1677182400-1677182400@pole9.fr
SUMMARY:Conférence gesticulée #2 Camille Pasquier / Et baisse les yeux quand j’te parle
DESCRIPTION:De la violence éducative ordinaire à la violence de l’humanité  \n« Accompagner les enfants en tant que parents\, grands-parents\, professionnel.les\, etc.. est une des choses les plus difficiles. Combien de fois sommes-nous démuni.es devant nos enfants\, ou ceux des autres ? Nous avons terriblement besoin de soutien. Je propose d’évoquer les défis du quotidien\, en parler\, en rire\, les regarder\, en comprendre quelques facettes. Le tout teinté du lien que l’on peut faire entre les violences éducatives ordinaires et la violence de notre système. Je suis une maman et une citoyenne\, révoltée par l’état d’un monde en décrépitude. »\nGratuit / Sur inscription à l’accueil.
URL:https://pole9.fr/event/conference-gesticulee-2-camille-pasquier-et-baisse-les-yeux-quand-jte-parle/
LOCATION:Pôle 9 – MJC Centre Social\, 4 rue Sylvain Simondan\, Lyon\, 69009\, France
CATEGORIES:Conférence
END:VEVENT
BEGIN:VEVENT
DTSTART;TZID=Europe/Paris:20230224T150000
DTEND;TZID=Europe/Paris:20230224T150000
DTSTAMP:20260421T183159
CREATED:20221222T143826Z
LAST-MODIFIED:20230206T103831Z
UID:246271-1677250800-1677250800@pole9.fr
SUMMARY:Conte musical - Les aventures du Chien Chaussette par Gueules d’Amour Production (résidence)
DESCRIPTION:Chaussette est un chien. Un jour il part à la recherche de son maître Gérard qui a disparu et qui sent la soupe. Chaussette n’a encore jamais mis la truffe hors de la maison\, ces aventures vont le transformer…\nL’histoire de Chaussette est racontée par Capsule\, son amie la caniche des rues. Ensemble ils vont parler d’amitié\, de domesticité\, d’état sauvage et d’exploitation animale ; mais surtout beaucoup s’amuser.\nAvec des tableaux sonores construits en live\, 3 artistes nous embarquent dans une odyssée incroyable sans ôter leurs charentaises.   \nConte musical à partir de 6 ans – Durée 50 minutes \nRépétition publique – Participation libre
URL:https://pole9.fr/event/conte-musical-les-aventures-du-chien-chaussette-par-gueules-damour-production-residence/
LOCATION:Pôle 9 – MJC Centre Social\, 4 rue Sylvain Simondan\, Lyon\, 69009\, France
CATEGORIES:dès 6 ans,Spectacle
END:VEVENT
BEGIN:VEVENT
DTSTART;TZID=Europe/Paris:20230225T100000
DTEND;TZID=Europe/Paris:20230225T120000
DTSTAMP:20260421T183159
CREATED:20221222T151931Z
LAST-MODIFIED:20221222T151931Z
UID:246290-1677319200-1677326400@pole9.fr
SUMMARY:Initiation / approfondissement Handpan
DESCRIPTION:Omar Zenati joue du handpan depuis 7 ans. Venez découvrir ou continuer de vous familiariser à cet instrument peu commun. C’est avec passion qu’il vous transmettra l’histoire\, les techniques et le savoir-faire de cet instrument aux sonorités envoûtantes. Omar vous prêtera un instrument. \nA partir de 10 ans\, ados et adultes.  \nEntrée prix libre (5€ conseillé) mais réservation auparavant à l’accueil du Pôle 9
URL:https://pole9.fr/event/initiation-approfondissement-handpan-4/
LOCATION:Pôle 9 – MJC Centre Social\, 4 rue Sylvain Simondan\, Lyon\, 69009\, France
ATTACH;FMTTYPE=image/png:https://pole9.fr/wp-content/uploads/2022/10/handpan.png
END:VEVENT
BEGIN:VEVENT
DTSTART;TZID=Europe/Paris:20230225T140000
DTEND;TZID=Europe/Paris:20230225T170000
DTSTAMP:20260421T183159
CREATED:20221222T103913Z
LAST-MODIFIED:20221222T103913Z
UID:246220-1677333600-1677344400@pole9.fr
SUMMARY:Stage - Atelier danse africaine
DESCRIPTION:Danse traditionnelle du Congo – Animé par Yvon Serge Bissadissi\, accompagné aux percussions en live par Giorgio Gbétie.\nÉnergie\, partage\, convivialité.\nTous niveaux.\nA partir de 14 ans / adultes\n30€ par atelier\, sur inscriptions au Pôle 9
URL:https://pole9.fr/event/stage-atelier-danse-africaine/
LOCATION:Pôle 9 – MJC Centre Social\, 4 rue Sylvain Simondan\, Lyon\, 69009\, France
CATEGORIES:Danse,Stages
END:VEVENT
BEGIN:VEVENT
DTSTART;TZID=Europe/Paris:20230228T180000
DTEND;TZID=Europe/Paris:20230228T190000
DTSTAMP:20260421T183159
CREATED:20221222T112316Z
LAST-MODIFIED:20230206T104137Z
UID:246253-1677607200-1677610800@pole9.fr
SUMMARY:Contes à la Chaufferie
DESCRIPTION:C’est un rendez-vous pour toutes les générations pour se retrouver au chaud autour d’une histoire qui transporte dans le fantastique\, l’illusion\, l’irréel\, l’inconscient et donne le temps d’écouter\, de voyager\, d’aimer\, de se balader\, ou de veiller… RDV seul\, entre amis ou en famille dès 5 ans\nCette semaine rendez-vous avec des contes viking !\n \nDurée 45 minutes – Gratuit \nLocal associatif du Vergoin – La Chaufferie – 7 rue Albert Falsan\, lyon 9
URL:https://pole9.fr/event/contes-a-la-chaufferie-3/
LOCATION:La Chaufferie du Vergoin\, 7 rue Albert Falsan\, Lyon\, 69009\, France
CATEGORIES:Contes,En famille,Gratuit
ATTACH;FMTTYPE=image/jpeg:https://pole9.fr/wp-content/uploads/2021/10/chaufferie_vergoin_PIJ.jpg
END:VEVENT
END:VCALENDAR