BEGIN:VCALENDAR
VERSION:2.0
PRODID:-//Pôle 9 - ECPv6.5.1//NONSGML v1.0//EN
CALSCALE:GREGORIAN
METHOD:PUBLISH
X-ORIGINAL-URL:https://pole9.fr
X-WR-CALDESC:évènements pour Pôle 9
REFRESH-INTERVAL;VALUE=DURATION:PT1H
X-Robots-Tag:noindex
X-PUBLISHED-TTL:PT1H
BEGIN:VTIMEZONE

END:VTIMEZONE
BEGIN:VEVENT
DTSTART;TZID=Europe/Paris:20260421T211718
DTEND;TZID=Europe/Paris:20250709T000000
DTSTAMP:20260421T211718
CREATED:20250627T135300Z
LAST-MODIFIED:20250627T135300Z
UID:248459-0-1752019200@pole9.fr
SUMMARY:mercredi de l'été #1
DESCRIPTION:SPECTACLES ET INITIATION BMX – JORIS BRETAGNOLLES\nANIMATIONS SPORT\, NATURE\, INITIATION AUX ECHECS\, JEUX POUR TOUTE LA FAMILLE\nATELIER FRESQUE AVEC L’IMPRÉVISIBLE FABRIQUE\nPRÉVENTION SANTÉ SOLEIL\n21H MUSIQUE BRÉSILIENNE DIOGO CADAVAL\nbuvette et petite restauration sur place X autofinancement jeunes
URL:https://pole9.fr/event/mercredi-de-lete-1-2/
END:VEVENT
BEGIN:VEVENT
DTSTART;TZID=Europe/Paris:20221205T193000
DTEND;TZID=Europe/Paris:20221205T210000
DTSTAMP:20260421T211718
CREATED:20221024T102201Z
LAST-MODIFIED:20221024T102201Z
UID:246131-1670268600-1670274000@pole9.fr
SUMMARY:Parent'aise - Partage d'expériences entre parents
DESCRIPTION:Il s’agit d’un temps de rencontre entre parents âgés de 0 à 11 ans\, animé par une conseillère parentale afin de prendre du recul\, de partager ses expériences et de mieux comprendre son enfant.\nLa thématique abordée est « Comprendre le développement de mon enfant pour mieux accompagner ses émotions”.\nGratuit -Sur inscription à l’accueil 
URL:https://pole9.fr/event/parentaise-partage-dexperiences-entre-parents-5/
LOCATION:Pôle 9 – MJC Centre Social\, 4 rue Sylvain Simondan\, Lyon\, 69009\, France
CATEGORIES:parentalité,Partage d'expérience
ATTACH;FMTTYPE=image/jpeg:https://pole9.fr/wp-content/uploads/2022/10/Parentalite-2.jpg
END:VEVENT
BEGIN:VEVENT
DTSTART;TZID=Europe/Paris:20221214T143000
DTEND;TZID=Europe/Paris:20221214T180000
DTSTAMP:20260421T211718
CREATED:20220919T085833Z
LAST-MODIFIED:20220919T085833Z
UID:245957-1671028200-1671040800@pole9.fr
SUMMARY:Mikado
DESCRIPTION:C’est un espace de jeux\, ouvert à toutes et tous et sans inscription.\nAdultes\, enfants\, et jeunes peuvent partager un moment de plaisir ludique\, dans un espace de convivialité.\nTous types de jeux peuvent être proposés : coopération\, cartes\, adresse\, stratégie\, plateau et imitation.
URL:https://pole9.fr/event/mikado-4/
LOCATION:Pôle 9 – MJC Centre Social\, 4 rue Sylvain Simondan\, Lyon\, 69009\, France
CATEGORIES:jeux pour tous,ludothèque
ATTACH;FMTTYPE=image/jpeg:https://pole9.fr/wp-content/uploads/2021/12/mikado.jpg
END:VEVENT
BEGIN:VEVENT
DTSTART;TZID=Europe/Paris:20221217T110000
DTEND;TZID=Europe/Paris:20221217T113000
DTSTAMP:20260421T211718
CREATED:20221006T161822Z
LAST-MODIFIED:20221006T161822Z
UID:246042-1671274800-1671276600@pole9.fr
SUMMARY:Spectacle Jeune Public "Mais où êtes vous ?"
DESCRIPTION:Spectacle pour les tout petits à partir de 18 mois \nUn ours au potager et les petites bêtes ne peuvent plus y entrer.\nMais un jour\, tout va changer ! Grâce à leur détermination et leur complicité\, elles vont retrouver leur place au potager. \nUn spectacle optimiste qui nous parle du vivre ensemble et du respect de la nature.\nUn spectacle « brut » :\n– des créations et un décor à partir d’objets naturels\n– un univers sonore doux : un duo de chant en polyphonie\, des instruments acoustiques.\nUtilisant différentes techniques de jeux d’ombre\, des tableaux surprenants et subtils nourrissent l’imaginaire du jeune spectateur.\nLe visible et l’invisible\, le grand\, le minuscule\, le bruit et le silence : dans un jeu d’opposition\, la complémentarité vaincra ! \nUn spectacle gaiement optimiste\, qui se hisse à la hauteur des tout-petits et donne l’envie de se reconnecter à la nature
URL:https://pole9.fr/event/spectacle-jeune-public-mais-ou-etes-vous/
LOCATION:Pôle 9 – MJC Centre Social\, 4 rue Sylvain Simondan\, Lyon\, 69009\, France
CATEGORIES:à partir de 18 mois,En famille,Spectacle
ATTACH;FMTTYPE=image/jpeg:https://pole9.fr/wp-content/uploads/2022/10/PetitesmotnotesPhoto-Officielle-1024x683-1.jpg
END:VEVENT
BEGIN:VEVENT
DTSTART;TZID=Europe/Paris:20221221T093000
DTEND;TZID=Europe/Paris:20221221T113000
DTSTAMP:20260421T211718
CREATED:20220919T121844Z
LAST-MODIFIED:20220919T121844Z
UID:245990-1671615000-1671622200@pole9.fr
SUMMARY:Bulle de jeux 0/6 ans
DESCRIPTION:C’est un moment dédié aux jeux\, à la motricité\, à la complicité\,\nà destination des enfants de 0 à 6 ans accompagnés de leurs parents. \nRDV sur le City stade ou à la Chaufferie en cas de mauvais temps\nGRATUIT
URL:https://pole9.fr/event/bulle-de-jeux-0-6-ans-7/
LOCATION:City Stade – Vergoin\, Lyon 9\, 69009\, France
CATEGORIES:0/6 ans,Gratuit,Parents/enfants
ATTACH;FMTTYPE=image/jpeg:https://pole9.fr/wp-content/uploads/2022/09/mains-creche.jpg
END:VEVENT
BEGIN:VEVENT
DTSTART;TZID=Europe/Paris:20221222T000000
DTEND;TZID=Europe/Paris:20221222T000000
DTSTAMP:20260421T211718
CREATED:20221222T110541Z
LAST-MODIFIED:20221222T153912Z
UID:246238-1671667200-1671667200@pole9.fr
SUMMARY:Soirée poker "hold'em no limit"
DESCRIPTION:Venez jouer dans la bonne humeur\, pour le plaisir de jouer\, se retrouver pour un moment convivial.\nPas de gain d’argent et mise de jetons uniquement.\nTous niveaux acceptés mais la personne doit déjà connaître les règles \nA partir de 18 ans \nGratuit\, sur inscription au Pôle 9
URL:https://pole9.fr/event/soiree-poker-holdem-no-limit/
ATTACH;FMTTYPE=image/jpeg:https://pole9.fr/wp-content/uploads/2022/12/no-limit_holdem_oddsshark.jpg
END:VEVENT
BEGIN:VEVENT
DTSTART;TZID=Europe/Paris:20221222T093000
DTEND;TZID=Europe/Paris:20221222T113000
DTSTAMP:20260421T211718
CREATED:20220919T121941Z
LAST-MODIFIED:20220919T121941Z
UID:245992-1671701400-1671708600@pole9.fr
SUMMARY:Bulle de jeux 0/6 ans
DESCRIPTION:C’est un moment dédié aux jeux\, à la motricité\, à la complicité\,\nà destination des enfants de 0 à 6 ans accompagnés de leurs parents. \nRDV sur le City stade ou à la Chaufferie en cas de mauvais temps\nGRATUIT
URL:https://pole9.fr/event/bulle-de-jeux-0-6-ans-8/
LOCATION:City Stade – Vergoin\, Lyon 9\, 69009\, France
CATEGORIES:0/6 ans,Gratuit,Parents/enfants
ATTACH;FMTTYPE=image/jpeg:https://pole9.fr/wp-content/uploads/2022/09/mains-creche.jpg
END:VEVENT
END:VCALENDAR