BEGIN:VCALENDAR
VERSION:2.0
PRODID:-//Pôle 9 - ECPv6.5.1//NONSGML v1.0//EN
CALSCALE:GREGORIAN
METHOD:PUBLISH
X-WR-CALNAME:Pôle 9
X-ORIGINAL-URL:https://pole9.fr
X-WR-CALDESC:évènements pour Pôle 9
REFRESH-INTERVAL;VALUE=DURATION:PT1H
X-Robots-Tag:noindex
X-PUBLISHED-TTL:PT1H
BEGIN:VTIMEZONE

END:VTIMEZONE
BEGIN:VEVENT
DTSTART;TZID=Europe/Paris:20260421T223012
DTEND;TZID=Europe/Paris:20250709T000000
DTSTAMP:20260421T223012
CREATED:20250627T135300Z
LAST-MODIFIED:20250627T135300Z
UID:248459-0-1752019200@pole9.fr
SUMMARY:mercredi de l'été #1
DESCRIPTION:SPECTACLES ET INITIATION BMX – JORIS BRETAGNOLLES\nANIMATIONS SPORT\, NATURE\, INITIATION AUX ECHECS\, JEUX POUR TOUTE LA FAMILLE\nATELIER FRESQUE AVEC L’IMPRÉVISIBLE FABRIQUE\nPRÉVENTION SANTÉ SOLEIL\n21H MUSIQUE BRÉSILIENNE DIOGO CADAVAL\nbuvette et petite restauration sur place X autofinancement jeunes
URL:https://pole9.fr/event/mercredi-de-lete-1-2/
END:VEVENT
BEGIN:VEVENT
DTSTART;TZID=Europe/Paris:20221102T093000
DTEND;TZID=Europe/Paris:20221102T113000
DTSTAMP:20260421T223012
CREATED:20220919T121544Z
LAST-MODIFIED:20220919T121544Z
UID:245984-1667381400-1667388600@pole9.fr
SUMMARY:Bulle de jeux 0/6 ans
DESCRIPTION:C’est un moment dédié aux jeux\, à la motricité\, à la complicité\,\nà destination des enfants de 0 à 6 ans accompagnés de leurs parents. \nRDV sur le City stade ou à la Chaufferie en cas de mauvais temps\nGRATUIT
URL:https://pole9.fr/event/bulle-de-jeux-0-6-ans-4/
LOCATION:City Stade – Vergoin\, Lyon 9\, 69009\, France
CATEGORIES:0/6 ans,Gratuit,Parents/enfants
ATTACH;FMTTYPE=image/jpeg:https://pole9.fr/wp-content/uploads/2022/09/mains-creche.jpg
END:VEVENT
BEGIN:VEVENT
DTSTART;TZID=Europe/Paris:20221103T093000
DTEND;TZID=Europe/Paris:20221103T113000
DTSTAMP:20260421T223012
CREATED:20220919T121642Z
LAST-MODIFIED:20220919T121642Z
UID:245986-1667467800-1667475000@pole9.fr
SUMMARY:Bulle de jeux 0/6 ans
DESCRIPTION:C’est un moment dédié aux jeux\, à la motricité\, à la complicité\,\nà destination des enfants de 0 à 6 ans accompagnés de leurs parents. \nRDV sur le City stade ou à la Chaufferie en cas de mauvais temps\nGRATUIT
URL:https://pole9.fr/event/bulle-de-jeux-0-6-ans-5/
LOCATION:City Stade – Vergoin\, Lyon 9\, 69009\, France
CATEGORIES:0/6 ans,Gratuit,Parents/enfants
ATTACH;FMTTYPE=image/jpeg:https://pole9.fr/wp-content/uploads/2022/09/mains-creche.jpg
END:VEVENT
BEGIN:VEVENT
DTSTART;TZID=Europe/Paris:20221103T140000
DTEND;TZID=Europe/Paris:20221103T170000
DTSTAMP:20260421T223012
CREATED:20221031T084421Z
LAST-MODIFIED:20221031T084603Z
UID:246136-1667484000-1667494800@pole9.fr
SUMMARY:Atelier manuel Parents / enfants
DESCRIPTION:Atelier manuel à 4 mains\nTarif atelier : 3 € par enfant et accompagnant gratuit
URL:https://pole9.fr/event/atelier-manuel-parents-enfants/
LOCATION:Pôle 9 – MJC Centre Social\, 4 rue Sylvain Simondan\, Lyon\, 69009\, France
CATEGORIES:Atelier parents/enfants
ATTACH;FMTTYPE=image/png:https://pole9.fr/wp-content/uploads/2022/10/atelierparentenfant.png
END:VEVENT
BEGIN:VEVENT
DTSTART;TZID=Europe/Paris:20221104T090000
DTEND;TZID=Europe/Paris:20221104T150000
DTSTAMP:20260421T223012
CREATED:20221031T084822Z
LAST-MODIFIED:20221031T084822Z
UID:246139-1667552400-1667574000@pole9.fr
SUMMARY:Atelier cuisine parents / enfants
DESCRIPTION:Cuisine et repas partagé\nNous cuisinerons avec les légumes et fruits de saison et nous dégusterons nos préparations tous ensemble.\nTarif 3 € par personne\nRéservation obligatoire
URL:https://pole9.fr/event/atelier-cuisine-parents-enfants/
LOCATION:Pôle 9 – MJC Centre Social\, 4 rue Sylvain Simondan\, Lyon\, 69009\, France
ATTACH;FMTTYPE=image/png:https://pole9.fr/wp-content/uploads/2022/10/ateliercuisineparentenfant.png
END:VEVENT
BEGIN:VEVENT
DTSTART;TZID=Europe/Paris:20221107T193000
DTEND;TZID=Europe/Paris:20221107T210000
DTSTAMP:20260421T223012
CREATED:20221024T102000Z
LAST-MODIFIED:20221024T102000Z
UID:246129-1667849400-1667854800@pole9.fr
SUMMARY:Parent'aise - partage d'expériences entre parents
DESCRIPTION:Il s’agit d’un temps de rencontre entre parents âgés de 0 à 11 ans\, animé par une conseillère parentale afin de prendre du recul\, de partager ses expériences et de mieux comprendre son enfant.\nLa thématique abordée est « Comprendre le développement de mon enfant pour mieux accompagner ses émotions”.\nGratuit -Sur inscription à l’accueil 
URL:https://pole9.fr/event/parentaise-partage-dexperiences-entre-parents-4/
LOCATION:Pôle 9 – MJC Centre Social\, 4 rue Sylvain Simondan\, Lyon\, 69009\, France
CATEGORIES:parentalité,Partage d'expérience
ATTACH;FMTTYPE=image/jpeg:https://pole9.fr/wp-content/uploads/2022/10/Parentalite-2.jpg
END:VEVENT
BEGIN:VEVENT
DTSTART;TZID=Europe/Paris:20221108T140000
DTEND;TZID=Europe/Paris:20221108T153000
DTSTAMP:20260421T223012
CREATED:20221031T085111Z
LAST-MODIFIED:20221031T085111Z
UID:246142-1667916000-1667921400@pole9.fr
SUMMARY:Réunion Bénévoles "Evènements culturels conviviaux"
DESCRIPTION:Si vous souhaitez participer à l’élaboration d’évènements culturels (soirées cabarets\, bals\, moments festifs\, etc.) avec d’autres habitants dans une ambiance chaleureuse et conviviale\, RDV au Pôle 9 pour un temps de rencontre et d’échange.
URL:https://pole9.fr/event/reunion-benevoles-evenements-culturels-conviviaux/
LOCATION:Pôle 9 – MJC Centre Social\, 4 rue Sylvain Simondan\, Lyon\, 69009\, France
ATTACH;FMTTYPE=image/jpeg:https://pole9.fr/wp-content/uploads/2022/10/Reunionbenevoles.jpg
END:VEVENT
BEGIN:VEVENT
DTSTART;TZID=Europe/Paris:20221108T180000
DTEND;TZID=Europe/Paris:20221108T183000
DTSTAMP:20260421T223012
CREATED:20221031T085435Z
LAST-MODIFIED:20221031T085435Z
UID:246145-1667930400-1667932200@pole9.fr
SUMMARY:Ciné en famille - Louise et la légende du serpent à plumes
DESCRIPTION:Louise et la légende du serpent à plumes est un film conseillé à partir de 5 ans. \nTarif : 2 euros par personne.\nDurée 30 minutes
URL:https://pole9.fr/event/cine-en-famille-louise-et-la-legende-du-serpent-a-plumes/
LOCATION:Pôle 9 – MJC Centre Social\, 4 rue Sylvain Simondan\, Lyon\, 69009\, France
CATEGORIES:Cinéma,En famille
END:VEVENT
BEGIN:VEVENT
DTSTART;TZID=Europe/Paris:20221109T093000
DTEND;TZID=Europe/Paris:20221109T113000
DTSTAMP:20260421T223012
CREATED:20220919T121735Z
LAST-MODIFIED:20220919T121735Z
UID:245988-1667986200-1667993400@pole9.fr
SUMMARY:Bulle de jeux 0/6 ans
DESCRIPTION:C’est un moment dédié aux jeux\, à la motricité\, à la complicité\,\nà destination des enfants de 0 à 6 ans accompagnés de leurs parents. \nRDV sur le City stade ou à la Chaufferie en cas de mauvais temps\nGRATUIT
URL:https://pole9.fr/event/bulle-de-jeux-0-6-ans-6/
LOCATION:City Stade – Vergoin\, Lyon 9\, 69009\, France
CATEGORIES:0/6 ans,Gratuit,Parents/enfants
ATTACH;FMTTYPE=image/jpeg:https://pole9.fr/wp-content/uploads/2022/09/mains-creche.jpg
END:VEVENT
BEGIN:VEVENT
DTSTART;TZID=Europe/Paris:20221117T190000
DTEND;TZID=Europe/Paris:20221117T210000
DTSTAMP:20260421T223012
CREATED:20221031T085838Z
LAST-MODIFIED:20221031T085907Z
UID:246148-1668711600-1668718800@pole9.fr
SUMMARY:Stage de Handpan
DESCRIPTION:Omar Zenati joue du handpan depuis 7 ans. Venez découvrir ou continuer de vous familiariser à cet instrument peu commun\, au son envoûtant.\nA partir de 10 ans\, ados et adultes.\nEntrée prix libre (5€ conseillé) sur réservation à l’accueil
URL:https://pole9.fr/event/stage-de-handpan/
LOCATION:Pôle 9 – MJC Centre Social\, 4 rue Sylvain Simondan\, Lyon\, 69009\, France
CATEGORIES:Stages,Tout public
ATTACH;FMTTYPE=image/png:https://pole9.fr/wp-content/uploads/2022/10/handpan.png
END:VEVENT
BEGIN:VEVENT
DTSTART;TZID=Europe/Paris:20221119T100000
DTEND;TZID=Europe/Paris:20221119T120000
DTSTAMP:20260421T223012
CREATED:20221031T090125Z
LAST-MODIFIED:20221031T090125Z
UID:246151-1668852000-1668859200@pole9.fr
SUMMARY:Stage de Handpan
DESCRIPTION:Omar Zenati joue du handpan depuis 7 ans. Venez découvrir ou continuer de vous familiariser à cet instrument peu commun\, au son envoûtant.\nA partir de 10 ans\, ados et adultes.\nEntrée prix libre (5€ conseillé) sur réservation à l’accueil
URL:https://pole9.fr/event/stage-de-handpan-2/
LOCATION:Pôle 9 – MJC Centre Social\, 4 rue Sylvain Simondan\, Lyon\, 69009\, France
CATEGORIES:Stages,Tout public
ATTACH;FMTTYPE=image/png:https://pole9.fr/wp-content/uploads/2022/10/handpan.png
END:VEVENT
BEGIN:VEVENT
DTSTART;TZID=Europe/Paris:20221119T140000
DTEND;TZID=Europe/Paris:20221119T170000
DTSTAMP:20260421T223012
CREATED:20221031T090507Z
LAST-MODIFIED:20221031T090507Z
UID:246153-1668866400-1668877200@pole9.fr
SUMMARY:Stage de Danse Africaine
DESCRIPTION:Animé par Yvon Serge Bissadissi\, accompagné aux percussions en live par Giorgio Gbétie.\nÉnergie\, partage\, convivialité.\nTous niveaux.\nA partir de 16 ans / adultes \n30€ par stage\, sur inscriptions au Pôle 9 
URL:https://pole9.fr/event/stage-de-danse-africaine-2/
LOCATION:Pôle 9 – MJC Centre Social\, 4 rue Sylvain Simondan\, Lyon\, 69009\, France
CATEGORIES:Danse,Stages
ATTACH;FMTTYPE=image/png:https://pole9.fr/wp-content/uploads/2022/10/danseafricaine.png
END:VEVENT
BEGIN:VEVENT
DTSTART;TZID=Europe/Paris:20221123T143000
DTEND;TZID=Europe/Paris:20221123T180000
DTSTAMP:20260421T223012
CREATED:20220919T085704Z
LAST-MODIFIED:20220919T085704Z
UID:245955-1669213800-1669226400@pole9.fr
SUMMARY:Mikado
DESCRIPTION:C’est un espace de jeux\, ouvert à toutes et tous et sans inscription.\nAdultes\, enfants\, et jeunes peuvent partager un moment de plaisir ludique\, dans un espace de convivialité.\nTous types de jeux peuvent être proposés : coopération\, cartes\, adresse\, stratégie\, plateau et imitation.
URL:https://pole9.fr/event/mikado-3/
LOCATION:Pôle 9 – MJC Centre Social\, 4 rue Sylvain Simondan\, Lyon\, 69009\, France
CATEGORIES:jeux pour tous,ludothèque
ATTACH;FMTTYPE=image/jpeg:https://pole9.fr/wp-content/uploads/2021/12/mikado.jpg
END:VEVENT
BEGIN:VEVENT
DTSTART;TZID=Europe/Paris:20221124T183000
DTEND;TZID=Europe/Paris:20221124T213000
DTSTAMP:20260421T223012
CREATED:20221121T104500Z
LAST-MODIFIED:20221121T105210Z
UID:246182-1669314600-1669325400@pole9.fr
SUMMARY:Atelier Fresque du climat
DESCRIPTION:Vous aimeriez comprendre pourquoi il faisait si chaud cet été ?\nEt vous avez envie d’agir pour éviter ça ?\nVous voulez agir pour le climat mais n’avez pas le temps de devenir climatologue ? \nAlors venez participer à un atelier\n« La Fresque du climat » ! \nEn 3 heures\, l’atelier collaboratif « la Fresque du Climat » permet de comprendre l’essentiel des enjeux climatiques pour passer à l’action. \nJeudi 24 novembre de 18h30 à 21h30 (grignotage offert)\nou Samedi 26 novembre de 9h30 à 12h30 (petit déjeuner offert)\nA partir de 15 ans / adultes\nGratuit mais réservation auprès du pôle 9
URL:https://pole9.fr/event/fresque-du-climat/
CATEGORIES:Eco-citoyenneté,évènement,Gratuit
END:VEVENT
BEGIN:VEVENT
DTSTART;TZID=Europe/Paris:20221124T200000
DTEND;TZID=Europe/Paris:20221124T213000
DTSTAMP:20260421T223012
CREATED:20221123T111135Z
LAST-MODIFIED:20221123T111135Z
UID:246190-1669320000-1669325400@pole9.fr
SUMMARY:Conférence Le Sommeil de nos enfants
DESCRIPTION:Animée par Franck Lecluze de Passage Parentalité\nLe sommeil des bébés est sans aucun doute le sujet le plus discuté chez les nouveaux parents\, mais comment s’y retrouver parmi les expériences\, les conseils et les théories de tous et chacun?\nEn partenariat avec le relai Petite Enfance Baby Duch’\nGratuit – Réservation conseillée à l’accueil du Pôle 9
URL:https://pole9.fr/event/conference-le-sommeil-de-nos-enfants/
LOCATION:Pôle 9 – MJC Centre Social\, 4 rue Sylvain Simondan\, Lyon\, 69009\, France
CATEGORIES:Gratuit,parentalité
ATTACH;FMTTYPE=image/png:https://pole9.fr/wp-content/uploads/2022/11/sommeil-enfant-1.png
END:VEVENT
BEGIN:VEVENT
DTSTART;TZID=Europe/Paris:20221126T093000
DTEND;TZID=Europe/Paris:20221126T123000
DTSTAMP:20260421T223012
CREATED:20221121T104846Z
LAST-MODIFIED:20221121T105029Z
UID:246186-1669455000-1669465800@pole9.fr
SUMMARY:Atelier Fresque du Climat
DESCRIPTION:Vous aimeriez comprendre pourquoi il faisait si chaud cet été ?\nEt vous avez envie d’agir pour éviter ça ?\nVous voulez agir pour le climat mais n’avez pas le temps de devenir climatologue ? \nAlors venez participer à un atelier\n« La Fresque du climat » ! \nEn 3 heures\, l’atelier collaboratif « la Fresque du Climat » permet de comprendre l’essentiel des enjeux climatiques pour passer à l’action. \nJeudi 24 novembre de 18h30 à 21h30 (grignotage offert)\nou Samedi 26 novembre de 9h30 à 12h30 (petit déjeuner offert)\nA partir de 15 ans / adultes\nGratuit mais réservation auprès du pôle 9
URL:https://pole9.fr/event/atelier-fresque-du-climat/
LOCATION:Pôle 9 – MJC Centre Social\, 4 rue Sylvain Simondan\, Lyon\, 69009\, France
CATEGORIES:Eco-citoyenneté,évènement,Gratuit
END:VEVENT
BEGIN:VEVENT
DTSTART;TZID=Europe/Paris:20221130T140000
DTEND;TZID=Europe/Paris:20221130T140000
DTSTAMP:20260421T223012
CREATED:20221121T104032Z
LAST-MODIFIED:20221121T104032Z
UID:246180-1669816800-1669816800@pole9.fr
SUMMARY:Atelier manuel Parent-Enfant
DESCRIPTION:Confectionnez à 4 mains une couronne de Noël !\nTarif 3 € par enfant et accompagnant gratuit\nRéservation obligatoire à l’accueil du Pôle 9
URL:https://pole9.fr/event/atelier-manuel-parent-enfant/
LOCATION:Pôle 9 – MJC Centre Social\, 4 rue Sylvain Simondan\, Lyon\, 69009\, France
CATEGORIES:Atelier parents/enfants
END:VEVENT
BEGIN:VEVENT
DTSTART;TZID=Europe/Paris:20221130T153000
DTEND;TZID=Europe/Paris:20221130T161500
DTSTAMP:20260421T223012
CREATED:20221006T161544Z
LAST-MODIFIED:20221006T162035Z
UID:246039-1669822200-1669824900@pole9.fr
SUMMARY:Spectacle Jeune Public "Lumières !"
DESCRIPTION:Louis et Auguste sont dans leur atelier. En secret\, ils travaillent à leur dernière « Extraordinaire Invention »… Mais les mésaventures historiques de la création du cinématographe ne seront pas de tout repos ! \nUn duo comique à l’époque de la naissance du cinéma. \n\nVenez découvrir les « Extraordinaires Inventions » des Frères Louis et Auguste Lumière !
URL:https://pole9.fr/event/spectacle-jeune-public-lumieres/
LOCATION:Pôle 9 – MJC Centre Social\, 4 rue Sylvain Simondan\, Lyon\, 69009\, France
CATEGORIES:dès 5 ans,En famille,Spectacle,Théâtre,Tout public
END:VEVENT
END:VCALENDAR