BEGIN:VCALENDAR
VERSION:2.0
PRODID:-//Pôle 9 - ECPv6.5.1//NONSGML v1.0//EN
CALSCALE:GREGORIAN
METHOD:PUBLISH
X-WR-CALNAME:Pôle 9
X-ORIGINAL-URL:https://pole9.fr
X-WR-CALDESC:évènements pour Pôle 9
REFRESH-INTERVAL;VALUE=DURATION:PT1H
X-Robots-Tag:noindex
X-PUBLISHED-TTL:PT1H
BEGIN:VTIMEZONE

END:VTIMEZONE
BEGIN:VEVENT
DTSTART;TZID=Europe/Paris:20260422T054734
DTEND;TZID=Europe/Paris:20250709T000000
DTSTAMP:20260422T054734
CREATED:20250627T135300Z
LAST-MODIFIED:20250627T135300Z
UID:248459-0-1752019200@pole9.fr
SUMMARY:mercredi de l'été #1
DESCRIPTION:SPECTACLES ET INITIATION BMX – JORIS BRETAGNOLLES\nANIMATIONS SPORT\, NATURE\, INITIATION AUX ECHECS\, JEUX POUR TOUTE LA FAMILLE\nATELIER FRESQUE AVEC L’IMPRÉVISIBLE FABRIQUE\nPRÉVENTION SANTÉ SOLEIL\n21H MUSIQUE BRÉSILIENNE DIOGO CADAVAL\nbuvette et petite restauration sur place X autofinancement jeunes
URL:https://pole9.fr/event/mercredi-de-lete-1-2/
END:VEVENT
BEGIN:VEVENT
DTSTART;TZID=Europe/Paris:20220601T143000
DTEND;TZID=Europe/Paris:20220601T183000
DTSTAMP:20260422T054734
CREATED:20220429T142344Z
LAST-MODIFIED:20220523T093345Z
UID:245678-1654093800-1654108200@pole9.fr
SUMMARY:Mikado au Pôle 9
DESCRIPTION:Des espaces de jeux pour tous\, petite enfance\, enfance\, ado\, adultes.\nVenez partager un moment de jeux en toute convivialité. Isabelle et Florian vous accueillent un mercredi par mois avec une grande variété de jeux et de jouets adaptés à tous les âges ! \nSans inscription\, adhésion au Pôle 9  \nNouveau : un stand goûters et boissons vous seront proposés.
URL:https://pole9.fr/event/mikado-au-pole-9-6/
LOCATION:Pôle 9 – MJC Centre Social\, 4 rue Sylvain Simondan\, Lyon\, 69009\, France
CATEGORIES:jeux pour tous,Tout public
ATTACH;FMTTYPE=image/jpeg:https://pole9.fr/wp-content/uploads/2021/12/mikado.jpg
END:VEVENT
BEGIN:VEVENT
DTSTART;VALUE=DATE:20220604
DTEND;VALUE=DATE:20220605
DTSTAMP:20260422T054734
CREATED:20220429T132029Z
LAST-MODIFIED:20220429T132029Z
UID:245641-1654300800-1654387199@pole9.fr
SUMMARY:Sortie familles - Parc des Oiseaux
DESCRIPTION:Un concept unique pour observer en famille des oiseaux sauvages et des oiseaux du monde. \nA partir de 3 ans \nTarifs en fonction du quotient familial : \nEnfant de 6 € à 15 € – Adulte de 9 € à 17€
URL:https://pole9.fr/event/sortie-familles-parc-des-oiseaux/
CATEGORIES:Sortie familles
END:VEVENT
BEGIN:VEVENT
DTSTART;TZID=Europe/Paris:20220610T190000
DTEND;TZID=Europe/Paris:20220610T220000
DTSTAMP:20260422T054734
CREATED:20220504T080311Z
LAST-MODIFIED:20220504T080618Z
UID:245697-1654887600-1654898400@pole9.fr
SUMMARY:Spectacles des ateliers théâtre enfants\, ados et adultes du Pôle 9
DESCRIPTION:PROMENONS-NOUS DANS LES CONTES…\nA 19h – durée 40 minutes\n9-11 ans : La véritable histoire du Petit Poucet \nD’après « En attendant le Petit Poucet » de Philippe Dorin\nC’est l’histoire du Petit Poucet. Mais non\, l’histoire de la Petite Poussette ! Vous racontez n’importe quoi\, c’est le Petit Pou\, vous savez la petite bête qui nous grimpe sur la tête… Alors là\, pas du tout… C’est le Petit PouLET ! Bref\, mettons-nous d’accord et jouons… C’est l’histoire de deux enfants. Deux enfants dans une forêt… un peu magique. Seul.e.s dans cette forêt\, iels vont s’inventer des histoires et des mondes… \nA 20h – durée 40 min\n12-15 ans : La véritable histoire du Petit Chaperon Rouge \nD’après « Le petit chaperon rouge » de Joël Pommerat\nUne petite fille se sent seule. Elle voudrait bien jouer avec quelqu’un. Mais sa mère n’a pas le temps\, même quand la petite fille veut lui en offrir. Et le temps passe. La petite fille irait bien tenir compagnie à sa grand-mère. Mais il faut d’abord savoir faire un gâteau. Ensuite\, sa mère acceptera qu’elle parte toute seule et traverse la forêt. Le temps passe et\, au grand dam de sa mère\, la petite fille réussit un flan… \nLES VISAGES DU THÉÂTRE…\nA 21h – durée 35 min\nAdultes : Que se cache-t-il derrière le mot théâtre ?\nPrésentation de plusieurs saynètes (solo\, dialogue\, scène à plusieurs…) pour faire découvrir tout ce qui se cache derrière le mot THÉÂTRE. L’idée est de vous faire découvrir aussi bien des textes comiques\, tragiques\, classiques\, poétiques\, contemporains mais aussi quelques improvisations\, exercices… \nRéservation conseillée\nTarif au choix 7€ ou 10€ – gratuit pour les moins de 12 ans\nBuvette sur place 
URL:https://pole9.fr/event/spectacles-des-ateliers-theatre-enfants-ados-et-adultes-du-pole-9/
LOCATION:Pôle 9 – MJC Centre Social\, 4 rue Sylvain Simondan\, Lyon\, 69009\, France
CATEGORIES:Théâtre,Tout public
END:VEVENT
BEGIN:VEVENT
DTSTART;TZID=Europe/Paris:20220611T100000
DTEND;TZID=Europe/Paris:20220611T210000
DTSTAMP:20260422T054734
CREATED:20220429T135810Z
LAST-MODIFIED:20220429T140030Z
UID:245665-1654941600-1654981200@pole9.fr
SUMMARY:Fête du Pôle 9 !
DESCRIPTION:Journée festive et conviviale pour tous les habitants ! \nDivers ateliers et animations sont proposés gratuitement toute la journée pour toutes les générations : sport\, danse\, cirque\, ateliers créatifs\, bien-être\, maquillage\, jeux\, graff\, langue des signes\, théâtre d’impro\, château gonflable\, musique\, etc. \nBuvette payante en après-midi et soirée \nProgramme détaillé et modalités de participation à venir ultérieurement
URL:https://pole9.fr/event/fete-du-pole-9/
LOCATION:Pôle 9 – MJC Centre Social\, 4 rue Sylvain Simondan\, Lyon\, 69009\, France
CATEGORIES:évènement,Gratuit,Tout public
ATTACH;FMTTYPE=image/png:https://pole9.fr/wp-content/uploads/2021/09/cropped-logo_pole9-1.png
END:VEVENT
BEGIN:VEVENT
DTSTART;TZID=Europe/Paris:20220615T140000
DTEND;TZID=Europe/Paris:20220615T170000
DTSTAMP:20260422T054734
CREATED:20220429T143906Z
LAST-MODIFIED:20220429T143906Z
UID:245691-1655301600-1655312400@pole9.fr
SUMMARY:Création d'un jeu de dame de voyage
DESCRIPTION:Tarif 3 € par enfant et accompagnant gratuit.  \nRéservation obligatoire à l’accueil à partir du 25 Mai
URL:https://pole9.fr/event/creation-dun-jeu-de-dame-de-voyage/
LOCATION:Pôle 9 – MJC Centre Social\, 4 rue Sylvain Simondan\, Lyon\, 69009\, France
CATEGORIES:Atelier parents/enfants,dès 5 ans
END:VEVENT
BEGIN:VEVENT
DTSTART;TZID=Europe/Paris:20220616T183000
DTEND;TZID=Europe/Paris:20220616T183000
DTSTAMP:20260422T054734
CREATED:20220504T084704Z
LAST-MODIFIED:20220504T084704Z
UID:245702-1655404200-1655404200@pole9.fr
SUMMARY:Gala de danse des activités
DESCRIPTION:Représentation des adhérents des activités modern jazz / contemporain\, classique et hip hop. \nRéservation conseillée
URL:https://pole9.fr/event/gala-de-danse-des-activites/
LOCATION:Pôle 9 – MJC Centre Social\, 4 rue Sylvain Simondan\, Lyon\, 69009\, France
CATEGORIES:évènement
END:VEVENT
BEGIN:VEVENT
DTSTART;TZID=Europe/Paris:20220618T100000
DTEND;TZID=Europe/Paris:20220618T110000
DTSTAMP:20260422T054734
CREATED:20220429T143301Z
LAST-MODIFIED:20220429T143338Z
UID:245687-1655546400-1655550000@pole9.fr
SUMMARY:Atelier parents-enfants "cadeau pour papa"
DESCRIPTION:Par Léah MAKHLOUF – Créatrice de « la fabrique des petits artistes » \nVenez avec votre enfant fabriquer un cadeau pour la fête des papas ! Vous passerez un moment précieux avec votre enfant tout en créant un cadeau unique ! \nParent et enfant à partir de 18 mois \n15€ par duo enfant / parent  \nPlaces limitées – fratries acceptées
URL:https://pole9.fr/event/atelier-parents-enfants-cadeau-pour-papa/
CATEGORIES:à partir de 18 mois,Atelier parents/enfants
END:VEVENT
BEGIN:VEVENT
DTSTART;TZID=Europe/Paris:20220618T190000
DTEND;TZID=Europe/Paris:20220618T220000
DTSTAMP:20260422T054734
CREATED:20220429T140414Z
LAST-MODIFIED:20220429T140434Z
UID:245668-1655578800-1655589600@pole9.fr
SUMMARY:Concert des ateliers du Pôle Musique
DESCRIPTION:L’apprentissage de la musique au Pôle 9 est axé sur la pratique collective des enfants\, ados et adultes autour des musiques actuelles. Toutes les générations et tous les niveaux de pratique seront sur scène pour vous présenter le résultat d’une année de travail ! \nRéservation conseillée – Réservation à partir du lundi 23 mai  \nEntrée Prix libre – Buvette sur place
URL:https://pole9.fr/event/245668/
LOCATION:Pôle 9 – MJC Centre Social\, 4 rue Sylvain Simondan\, Lyon\, 69009\, France
CATEGORIES:Concert,Tout public
ATTACH;FMTTYPE=image/jpeg:https://pole9.fr/wp-content/uploads/2021/11/concert.jpg
END:VEVENT
BEGIN:VEVENT
DTSTART;TZID=Europe/Paris:20220622T190000
DTEND;TZID=Europe/Paris:20220622T203000
DTSTAMP:20260422T054734
CREATED:20220609T081627Z
LAST-MODIFIED:20220609T081710Z
UID:245778-1655924400-1655929800@pole9.fr
SUMMARY:Théâtre - Une Autre Cerisaie
DESCRIPTION:« Ça se passe le temps d’un retour et d’un départ.\nC’est la dame du 12 qui reparaît\, après six ans d’absence\, à la Cité des Cerisiers.\nLà où il faisait bon vivre\, là où l’on se réunissait sous les arbres fruitiers pour s’échanger des recettes et où les enfants mangeaient les cerises encore vertes à s’en rendre malades.\nLà où les choses ne sont plus les mêmes aujourd’hui\, après le déracinement des arbres.\nIl paraît que les jeunes ne sont plus ce qu’ils étaient\, que les fondations des immeubles sont fragilisées et que l’amiante sommeille encore dans les murs. On ne sait même pas si les nouveaux cerisiers\, qui sont tellement petits\, redonneront des fruits.\nCe qui est sûr\, c’est que les charges des logements augmentent et que Liouba n’a plus les moyens de conserver son appartement et les souvenirs qui l’habitent. Il faut se décider : vendre à Lopakhine dont le projet de gentrification prend forme\, ou résister avec d’autres habitant.e.s à la destruction de l’identité du quartier. » \nTarif à prix libre à partir de 5 euros\nRéservation au Pôle 9 ou sur https://www.billetweb.fr/une-autre-cerisaie
URL:https://pole9.fr/event/theatre-une-autre-cerisaie/
LOCATION:Pôle 9 – MJC Centre Social\, 4 rue Sylvain Simondan\, Lyon\, 69009\, France
CATEGORIES:Théâtre,Tout public
END:VEVENT
END:VCALENDAR