BEGIN:VCALENDAR
VERSION:2.0
PRODID:-//Pôle 9 - ECPv6.5.1//NONSGML v1.0//EN
CALSCALE:GREGORIAN
METHOD:PUBLISH
X-ORIGINAL-URL:https://pole9.fr
X-WR-CALDESC:évènements pour Pôle 9
REFRESH-INTERVAL;VALUE=DURATION:PT1H
X-Robots-Tag:noindex
X-PUBLISHED-TTL:PT1H
BEGIN:VTIMEZONE

END:VTIMEZONE
BEGIN:VEVENT
DTSTART;TZID=Europe/Paris:20260422T085141
DTEND;TZID=Europe/Paris:20250709T000000
DTSTAMP:20260422T085141
CREATED:20250627T135300Z
LAST-MODIFIED:20250627T135300Z
UID:248459-0-1752019200@pole9.fr
SUMMARY:mercredi de l'été #1
DESCRIPTION:SPECTACLES ET INITIATION BMX – JORIS BRETAGNOLLES\nANIMATIONS SPORT\, NATURE\, INITIATION AUX ECHECS\, JEUX POUR TOUTE LA FAMILLE\nATELIER FRESQUE AVEC L’IMPRÉVISIBLE FABRIQUE\nPRÉVENTION SANTÉ SOLEIL\n21H MUSIQUE BRÉSILIENNE DIOGO CADAVAL\nbuvette et petite restauration sur place X autofinancement jeunes
URL:https://pole9.fr/event/mercredi-de-lete-1-2/
END:VEVENT
BEGIN:VEVENT
DTSTART;TZID=Europe/Paris:20220404T171500
DTEND;TZID=Europe/Paris:20220404T184500
DTSTAMP:20260422T085141
CREATED:20220328T083224Z
LAST-MODIFIED:20220328T085324Z
UID:245582-1649092500-1649097900@pole9.fr
SUMMARY:Stage sculpture et modelage 7-15 ans
DESCRIPTION:Découvrez une activité créative et apaisante\, aux multiples possibilités\, décoratives ou utilitaires. Thème : personnages de BD \nTarif en fonction du quotient familial CAF
URL:https://pole9.fr/event/stage-sculpture-et-modelage-7-15-ans/
LOCATION:Pôle 9 – MJC Centre Social\, 4 rue Sylvain Simondan\, Lyon\, 69009\, France
CATEGORIES:Stages
ATTACH;FMTTYPE=image/jpeg:https://pole9.fr/wp-content/uploads/2022/03/artsplastiques.jpg
END:VEVENT
BEGIN:VEVENT
DTSTART;TZID=Europe/Paris:20220406T143000
DTEND;TZID=Europe/Paris:20220406T183000
DTSTAMP:20260422T085141
CREATED:20220223T112634Z
LAST-MODIFIED:20220223T131231Z
UID:245417-1649255400-1649269800@pole9.fr
SUMMARY:Mikado au Pôle 9
DESCRIPTION:Des espaces de jeux pour tous\, petite enfance\, enfance\, ado\, adultes. Venez partager un moment de jeux en toute convivialité. Isabelle et Florian vous accueillent un mercredi par mois avec une grande variété de jeux et de jouets adaptés à tous les âges !\nSans inscription\, adhésion au Pôle 9 obligatoire.
URL:https://pole9.fr/event/mikado-au-pole-9-3/
LOCATION:Pôle 9 – MJC Centre Social\, 4 rue Sylvain Simondan\, Lyon\, 69009\, France
CATEGORIES:jeux pour tous
ATTACH;FMTTYPE=image/jpeg:https://pole9.fr/wp-content/uploads/2021/12/mikado.jpg
END:VEVENT
BEGIN:VEVENT
DTSTART;TZID=Europe/Paris:20220408T090000
DTEND;TZID=Europe/Paris:20220409T160000
DTSTAMP:20260422T085141
CREATED:20220223T135931Z
LAST-MODIFIED:20220223T140218Z
UID:245464-1649408400-1649520000@pole9.fr
SUMMARY:Bourse aux vêtements\, jouets et puériculture
DESCRIPTION:C’est le moment de vider les placards et de renouveler la garde robe des enfants de 0 à 16 ans !\nLa bourse d’avril est aussi dédiée au matériel de puériculture et aux jouets.\nLes kits pour déposer vos articles à vendre sont disponibles à l’accueil du Pôle à partir du 7 mars. Dépôt le jeudi 7 avril entre 9h et 19h.\nAttention places limitées \nLa bourse au lieu le vendredi 8 avril de 9h à 17h et le samedi 9 avril de 9h à 16h.
URL:https://pole9.fr/event/bourse-aux-vetements-jouets-et-puericulture/
LOCATION:Pôle 9 – MJC Centre Social\, 4 rue Sylvain Simondan\, Lyon\, 69009\, France
CATEGORIES:Bourse
END:VEVENT
BEGIN:VEVENT
DTSTART;TZID=Europe/Paris:20220409T100000
DTEND;TZID=Europe/Paris:20220409T110000
DTSTAMP:20260422T085141
CREATED:20220223T140617Z
LAST-MODIFIED:20220223T140617Z
UID:245469-1649498400-1649502000@pole9.fr
SUMMARY:Déco d'œufs de Pâques
DESCRIPTION:par Léah\, créatrice de « La fabrique des petits artistes »\n15€ par duo enfant à partir de 24 mois /parent \nPlaces limitées – Fratries acceptées \nInscription par mail : lafabriquedespetitsartistes@gmail.com ou par téléphone: 06.68.93.01.98 \nPlus d’informations sur Facebook ou Instagram : la fabrique des petits artistes
URL:https://pole9.fr/event/deco-doeufs-de-paques/
CATEGORIES:Atelier parents/enfants
END:VEVENT
BEGIN:VEVENT
DTSTART;TZID=Europe/Paris:20220409T100000
DTEND;TZID=Europe/Paris:20220409T120000
DTSTAMP:20260422T085141
CREATED:20220328T091312Z
LAST-MODIFIED:20220328T091312Z
UID:245599-1649498400-1649505600@pole9.fr
SUMMARY:Stage Marche Nordique
DESCRIPTION:Initiez vous à la marche sportive avec des bâtons le temps d’une matinée à Saint Rambert \nOn se propulse grâce à nos jambes et nos bras\, ainsi on sollicite 90% de nos muscles. \nPrérequis : être en capacité de marcher 6 Km. \nA partir de 16 ans
URL:https://pole9.fr/event/stage-marche-nordique/
LOCATION:Pôle 9 – MJC Centre Social\, 4 rue Sylvain Simondan\, Lyon\, 69009\, France
CATEGORIES:Stages
ATTACH;FMTTYPE=image/jpeg:https://pole9.fr/wp-content/uploads/2022/03/18-marche_nordique.jpg
END:VEVENT
BEGIN:VEVENT
DTSTART;TZID=Europe/Paris:20220413T153000
DTEND;TZID=Europe/Paris:20220413T153000
DTSTAMP:20260422T085141
CREATED:20220223T130020Z
LAST-MODIFIED:20220323T144100Z
UID:245429-1649863800-1649863800@pole9.fr
SUMMARY:Spectacle Pom'Pommes - Cie Rayon de Lune
DESCRIPTION:Première création de la compagnie Rayon de Lune\, « Pom’Pommes » est un spectacle qui subjugue les petits dans un enchaînement de tableaux lumineux et sonores.\nEntre douceur et malice\, la comédienne nous conte l’histoire d’une pomme en chantant. C’est aussi l’histoire de la vie\, un éternel recommencement. La petite graine devient un grand pommier\, qui à son tour produit de bons fruits…\nUn joli moment de légèreté.\nJeune public de 1 à 5 ans – Durée : 30 mn.\nTarif au choix 5 / 7 / 10 euros.\nRéservation conseillée à l’accueil ou sur http://www.billetweb.fr/pompommes
URL:https://pole9.fr/event/spectacle-pompommes-cie-rayon-de-lune/
LOCATION:Pôle 9 – MJC Centre Social\, 4 rue Sylvain Simondan\, Lyon\, 69009\, France
CATEGORIES:Spectacle
END:VEVENT
BEGIN:VEVENT
DTSTART;TZID=Europe/Paris:20220415T193000
DTEND;TZID=Europe/Paris:20220415T193000
DTSTAMP:20260422T085141
CREATED:20220328T073100Z
LAST-MODIFIED:20220328T075934Z
UID:245576-1650051000-1650051000@pole9.fr
SUMMARY:Rencontres dansées - Lyon Art Dance Center
DESCRIPTION:Quatre créations musicales et chorégraphiques\, actuelles\, accessibles à tous et originales vous seront proposées par les jeunes danseurs du Lyon Art Dance Center\, centre de formation danse à Gerland. Les jeunes de la Fondation Richard ainsi qu’un élève du Conservatoire de musique de Saint Priest partageront eux aussi la scène.\nBuvette sur place\nBilletterie en ligne dès 5€ : www.lyonartsdancecenter.fr
URL:https://pole9.fr/event/rencontres-dansees-lyon-art-dance-center/
LOCATION:Pôle 9 – MJC Centre Social\, 4 rue Sylvain Simondan\, Lyon\, 69009\, France
CATEGORIES:Spectacle,Tout public
END:VEVENT
BEGIN:VEVENT
DTSTART;TZID=Europe/Paris:20220419T140000
DTEND;TZID=Europe/Paris:20220420T180000
DTSTAMP:20260422T085141
CREATED:20220328T084031Z
LAST-MODIFIED:20220328T084031Z
UID:245586-1650376800-1650477600@pole9.fr
SUMMARY:Stage plié déplié\, architecture de papier 7-14 ans
DESCRIPTION:Avec l’association Bidouilles et Magouilles \nCe stage te permettra de t’approprier les outils de représentation de l’architecte. Après une courte initiation au dessin en plan\, il sera temps pour toi de te lancer dans ton propre projet. \nA partir de ton plan\, tu confectionneras ta maquette avec des jeux de pliages et découpages en t’inspirant des méthodes de pop-up. \nhttps://pole9.fr/stages/
URL:https://pole9.fr/event/stage-plie-deplie-architecture-de-papier-7-14-ans/
LOCATION:Pôle 9 – MJC Centre Social\, 4 rue Sylvain Simondan\, Lyon\, 69009\, France
END:VEVENT
BEGIN:VEVENT
DTSTART;TZID=Europe/Paris:20220420T110000
DTEND;TZID=Europe/Paris:20220420T110000
DTSTAMP:20260422T085141
CREATED:20220223T130805Z
LAST-MODIFIED:20220323T144030Z
UID:245436-1650452400-1650452400@pole9.fr
SUMMARY:Contes à la Chaufferie
DESCRIPTION:Abdellatif Targhaoui – Compagnie L’Ivre de contes\nC’est un rendez-vous que nous donnons à la Chaufferie aux familles qui aiment les histoires héritées de notre enfance. Pour ce premier mercredi nous accueillons Abdellatif\, dont la compagnie porte haut les cultures du monde en générale et du monde arabe en particulier. Entrée libre
URL:https://pole9.fr/event/contes-a-la-chaufferie/
LOCATION:La Chaufferie du Vergoin\, 7 rue Albert Falsan\, Lyon\, 69009\, France
CATEGORIES:Contes
END:VEVENT
BEGIN:VEVENT
DTSTART;TZID=Europe/Paris:20220420T140000
DTEND;TZID=Europe/Paris:20220420T140000
DTSTAMP:20260422T085141
CREATED:20220223T141618Z
LAST-MODIFIED:20220223T143046Z
UID:245473-1650463200-1650463200@pole9.fr
SUMMARY:Création d'un tableau en relief
DESCRIPTION:Une création sur le thème du printemps. \nTarif : 3€ par enfant / gratuit pour le parent accompagnant. \nRéservation à l’accueil obligatoire\, à partir du 20 mars.
URL:https://pole9.fr/event/creation-dun-tableau-en-relief/
LOCATION:Pôle 9 – MJC Centre Social\, 4 rue Sylvain Simondan\, Lyon\, 69009\, France
CATEGORIES:Atelier parents/enfants,dès 5 ans
END:VEVENT
BEGIN:VEVENT
DTSTART;TZID=Europe/Paris:20220422T183000
DTEND;TZID=Europe/Paris:20220422T193000
DTSTAMP:20260422T085141
CREATED:20220328T100542Z
LAST-MODIFIED:20220328T100819Z
UID:245603-1650652200-1650655800@pole9.fr
SUMMARY:Stage Yoga parents / enfants (3/10 ans)
DESCRIPTION:Le but du parent dans cette pratique\, est d’initier son enfant au yoga mais également de participer au développement personnel de celui-ci à travers des exercices ludiques. \nAu programme : posture de détente\, exercice de force et de souplesse\, acroyoga et massage. \nEn famille : 1 adulte référent et un enfant (+ 5€ par enfant supplémentaire)
URL:https://pole9.fr/event/stage-yoga-parents-enfants-3-10-ans/
LOCATION:Pôle 9 – MJC Centre Social\, 4 rue Sylvain Simondan\, Lyon\, 69009\, France
CATEGORIES:Stages
ATTACH;FMTTYPE=image/jpeg:https://pole9.fr/wp-content/uploads/2022/03/yoageparentenfant.jpg
END:VEVENT
BEGIN:VEVENT
DTSTART;TZID=Europe/Paris:20220422T193000
DTEND;TZID=Europe/Paris:20220422T203000
DTSTAMP:20260422T085141
CREATED:20220328T101152Z
LAST-MODIFIED:20220328T101152Z
UID:245607-1650655800-1650659400@pole9.fr
SUMMARY:Stage Danse fitness Parents / enfants
DESCRIPTION:La danse fitness est une activité qui va vous permettre de bouger et de vous amuser tout en dansant sur des rythmes endiablés. \nL’objectif est de brûler des calories\, de garder la forme et de s’amuser bien sûr. \nEn famille : 1 parents et un enfant à partir de 8 ans. (+ 5€ par enfant supplémentaire)
URL:https://pole9.fr/event/stage-danse-fitness-parents-enfants/
LOCATION:Pôle 9 – MJC Centre Social\, 4 rue Sylvain Simondan\, Lyon\, 69009\, France
CATEGORIES:Stages
END:VEVENT
BEGIN:VEVENT
DTSTART;TZID=Europe/Paris:20220423T113000
DTEND;TZID=Europe/Paris:20220423T123000
DTSTAMP:20260422T085141
CREATED:20220328T090337Z
LAST-MODIFIED:20220328T090458Z
UID:245595-1650713400-1650717000@pole9.fr
SUMMARY:Stage Equilibre de 6 à 99 ans
DESCRIPTION:Venez tester votre équilibre en essayant le rouleau américain\, le monocycle\, le pédago ou encore en essayant de marcher sur la grosse boule. \nChoisissez votre accessoire et progressez à votre rythme\, encadré par notre professeure de cirque. \nInscription au Pôle jusqu’au 16 avril
URL:https://pole9.fr/event/stage-equilibre-de-6-a-99-ans/
LOCATION:Pôle 9 – MJC Centre Social\, 4 rue Sylvain Simondan\, Lyon\, 69009\, France
CATEGORIES:Stages
END:VEVENT
BEGIN:VEVENT
DTSTART;TZID=Europe/Paris:20220423T160000
DTEND;TZID=Europe/Paris:20220423T160000
DTSTAMP:20260422T085141
CREATED:20220223T132025Z
LAST-MODIFIED:20220316T133741Z
UID:245441-1650729600-1650729600@pole9.fr
SUMMARY:Ciné en famille - Rita & Crocodile
DESCRIPTION:Rita\, petite fille de quatre ans au caractère bien trempé\, s’aventure et s’ouvre au monde avec l’aide de son acolyte Crocodile qui vit dans une baignoire et qui ne pense qu’à manger. Ensemble\, ils apprennent à pêcher\, ramassent des châtaignes ou bien des myrtilles dans la forêt\, tentent d’apprivoiser un hérisson\, partent camper dans la montagne et quand il neige\, font des courses de luge ou encore du ski. Ils partent même sur la Lune !! En somme\, une amitié entre aventuriers. \nUn film composé de 8 histoires : Au zoo\, A la belle étoile\, Les Myrtilles\, A la pêche\, Le Hérisson\, La Luge\, Au ski\, La Nuit.\nTout public dès 3 ans – Durée 38 minutes\nRéservation conseillée à l’accueil – Tarif : 2 euros par personne
URL:https://pole9.fr/event/cine-en-famille-mon-voisin-totoro/
LOCATION:Pôle 9 – MJC Centre Social\, 4 rue Sylvain Simondan\, Lyon\, 69009\, France
CATEGORIES:Cinéma
END:VEVENT
BEGIN:VEVENT
DTSTART;TZID=Europe/Paris:20220425T100000
DTEND;TZID=Europe/Paris:20220429T120000
DTSTAMP:20260422T085141
CREATED:20220328T082842Z
LAST-MODIFIED:20220328T082921Z
UID:245579-1650880800-1651233600@pole9.fr
SUMMARY:Stage cirque 4-12 ans
DESCRIPTION:Venez découvrir les arts du cirque avec la compagnie En Piste avec Romano. Vous allez vous initier ou vous perfectionnez au jonglage\, diabolo\, bâton du diable\, à l’équilibre sur la boule ou au rouleau américain… \nTarif en fonction du quotient familial CAF
URL:https://pole9.fr/event/stage-cirque-4-12-ans/
LOCATION:Pôle 9 – MJC Centre Social\, 4 rue Sylvain Simondan\, Lyon\, 69009\, France
CATEGORIES:Stages
END:VEVENT
BEGIN:VEVENT
DTSTART;TZID=Europe/Paris:20220425T140000
DTEND;TZID=Europe/Paris:20220426T180000
DTSTAMP:20260422T085141
CREATED:20220328T084849Z
LAST-MODIFIED:20220328T085118Z
UID:245588-1650895200-1650996000@pole9.fr
SUMMARY:Stage "Jeux couds" 5-12 ans
DESCRIPTION:Avec l’association Bidouilles et Magouilles. \nViens fabriquer ton pochon de jeux à emmener partout avec toi ! \nAu programme une initiation à la couture\, la sérigraphie et un soupçon de broderie pour fabriquer le trousseau de jeux le plus tendance de la récré ! \nhttps://pole9.fr/stages/
URL:https://pole9.fr/event/stage-jeux-couds-5-12-ans/
LOCATION:Pôle 9 – MJC Centre Social\, 4 rue Sylvain Simondan\, Lyon\, 69009\, France
CATEGORIES:Stages
END:VEVENT
BEGIN:VEVENT
DTSTART;TZID=Europe/Paris:20220427T140000
DTEND;TZID=Europe/Paris:20220427T190000
DTSTAMP:20260422T085141
CREATED:20220328T091926Z
LAST-MODIFIED:20220328T091926Z
UID:245601-1651068000-1651086000@pole9.fr
SUMMARY:Stage Théâtre d'improvisation
DESCRIPTION:Venez explorer les bases d’une scène improvisée : les sources d’inspiration\, les ressorts d’une intrigue\, la mise en valeur des partenaires…\nDécouvrir nos talents cachés tout en s’amusant\, voilà le but de ce moment ! \nPublic : Adultes et ados à partir de 12 ans
URL:https://pole9.fr/event/stage-theatre-dimprovisation/
LOCATION:Pôle 9 – MJC Centre Social\, 4 rue Sylvain Simondan\, Lyon\, 69009\, France
CATEGORIES:Stages
END:VEVENT
END:VCALENDAR