BEGIN:VCALENDAR
VERSION:2.0
PRODID:-//Pôle 9 - ECPv6.5.1//NONSGML v1.0//EN
CALSCALE:GREGORIAN
METHOD:PUBLISH
X-ORIGINAL-URL:https://pole9.fr
X-WR-CALDESC:évènements pour Pôle 9
REFRESH-INTERVAL;VALUE=DURATION:PT1H
X-Robots-Tag:noindex
X-PUBLISHED-TTL:PT1H
BEGIN:VTIMEZONE

END:VTIMEZONE
BEGIN:VEVENT
DTSTART;TZID=Europe/Paris:20260422T130834
DTEND;TZID=Europe/Paris:20250709T000000
DTSTAMP:20260422T130834
CREATED:20250627T135300Z
LAST-MODIFIED:20250627T135300Z
UID:248459-0-1752019200@pole9.fr
SUMMARY:mercredi de l'été #1
DESCRIPTION:SPECTACLES ET INITIATION BMX – JORIS BRETAGNOLLES\nANIMATIONS SPORT\, NATURE\, INITIATION AUX ECHECS\, JEUX POUR TOUTE LA FAMILLE\nATELIER FRESQUE AVEC L’IMPRÉVISIBLE FABRIQUE\nPRÉVENTION SANTÉ SOLEIL\n21H MUSIQUE BRÉSILIENNE DIOGO CADAVAL\nbuvette et petite restauration sur place X autofinancement jeunes
URL:https://pole9.fr/event/mercredi-de-lete-1-2/
END:VEVENT
BEGIN:VEVENT
DTSTART;TZID=Europe/Paris:20220205T100000
DTEND;TZID=Europe/Paris:20220205T110000
DTSTAMP:20260422T130834
CREATED:20211220T143408Z
LAST-MODIFIED:20220223T133743Z
UID:245134-1644055200-1644058800@pole9.fr
SUMMARY:Peinture libre
DESCRIPTION:
URL:https://pole9.fr/event/peinture-libre/
LOCATION:Pôle 9 – MJC Centre Social\, 4 rue Sylvain Simondan\, Lyon\, 69009\, France
CATEGORIES:à partir de 11 mois,Atelier parents/enfants
ATTACH;FMTTYPE=image/jpeg:https://pole9.fr/wp-content/uploads/2021/12/peinture_tout_petits.jpg
END:VEVENT
BEGIN:VEVENT
DTSTART;TZID=Europe/Paris:20220208T183000
DTEND;TZID=Europe/Paris:20220208T183000
DTSTAMP:20260422T130834
CREATED:20211220T164436Z
LAST-MODIFIED:20211220T164436Z
UID:245185-1644345000-1644345000@pole9.fr
SUMMARY:Rosa et Dara leur fabuleux voyage
DESCRIPTION:
URL:https://pole9.fr/event/rosa-et-dara-leur-fabuleux-voyage/
LOCATION:Pôle 9 – MJC Centre Social\, 4 rue Sylvain Simondan\, Lyon\, 69009\, France
CATEGORIES:Cinéma,dès 5 ans
END:VEVENT
BEGIN:VEVENT
DTSTART;TZID=Europe/Paris:20220209T140000
DTEND;TZID=Europe/Paris:20220209T173000
DTSTAMP:20260422T130834
CREATED:20211220T151801Z
LAST-MODIFIED:20211220T151801Z
UID:245161-1644415200-1644427800@pole9.fr
SUMMARY:Mikado à la Chaufferie du Vergoin
DESCRIPTION:
URL:https://pole9.fr/event/mikado-a-la-chaufferie-du-vergoin/
LOCATION:La Chaufferie du Vergoin\, 7 rue Albert Falsan\, Lyon\, 69009\, France
ATTACH;FMTTYPE=image/jpeg:https://pole9.fr/wp-content/uploads/2021/12/mikado.jpg
END:VEVENT
BEGIN:VEVENT
DTSTART;TZID=Europe/Paris:20220210T090000
DTEND;TZID=Europe/Paris:20220210T133000
DTSTAMP:20260422T130834
CREATED:20211220T162024Z
LAST-MODIFIED:20220128T104022Z
UID:245174-1644483600-1644499800@pole9.fr
SUMMARY:Ateliers Cuisine du monde
DESCRIPTION:
URL:https://pole9.fr/event/ateliers-cuisine-du-monde/
LOCATION:Pôle 9 – MJC Centre Social\, 4 rue Sylvain Simondan\, Lyon\, 69009\, France
CATEGORIES:Ateliers cuisine
END:VEVENT
BEGIN:VEVENT
DTSTART;TZID=Europe/Paris:20220216T140000
DTEND;TZID=Europe/Paris:20220216T140000
DTSTAMP:20260422T130834
CREATED:20211220T145446Z
LAST-MODIFIED:20211222T103340Z
UID:245142-1645020000-1645020000@pole9.fr
SUMMARY:Création d’un masque pour carnaval
DESCRIPTION:
URL:https://pole9.fr/event/creation-dun-masque-pour-carnaval/
LOCATION:Pôle 9 – MJC Centre Social\, 4 rue Sylvain Simondan\, Lyon\, 69009\, France
CATEGORIES:Atelier parents/enfants,dès 5 ans
END:VEVENT
BEGIN:VEVENT
DTSTART;TZID=Europe/Paris:20220217T130000
DTEND;TZID=Europe/Paris:20220217T130000
DTSTAMP:20260422T130834
CREATED:20211220T150005Z
LAST-MODIFIED:20220128T104801Z
UID:245145-1645102800-1645102800@pole9.fr
SUMMARY:Escapade à la patinoire Charlemagne
DESCRIPTION:
URL:https://pole9.fr/event/escapade-familiale-en-tcl-a-la-patinoire-charlemagne/
LOCATION:Patinoire Charlemagne\, 100 Cours Charlemagne\, Lyon\, 69002\, France
CATEGORIES:Escapade familiale en TCL
ATTACH;FMTTYPE=image/jpeg:https://pole9.fr/wp-content/uploads/2021/12/patinoire.jpg
END:VEVENT
BEGIN:VEVENT
DTSTART;VALUE=DATE:20220219
DTEND;VALUE=DATE:20220220
DTSTAMP:20260422T130834
CREATED:20211220T171452Z
LAST-MODIFIED:20220128T104210Z
UID:245200-1645228800-1645315199@pole9.fr
SUMMARY:Journée “Ensemble c’est tout !”
DESCRIPTION:
URL:https://pole9.fr/event/journee-ensemble-cest-tout/
LOCATION:Pôle 9 – MJC Centre Social\, 4 rue Sylvain Simondan\, Lyon\, 69009\, France
CATEGORIES:Journée spéciale
END:VEVENT
BEGIN:VEVENT
DTSTART;VALUE=DATE:20220223
DTEND;VALUE=DATE:20220224
DTSTAMP:20260422T130834
CREATED:20211220T154500Z
LAST-MODIFIED:20220128T111222Z
UID:245170-1645574400-1645660799@pole9.fr
SUMMARY:Sorties familiales à la neige - La Féclaz
DESCRIPTION:Enfant à partir de 3 ans révolus.\nTarifs en fonction du quotient familial : Enfant de 2 € à 7\,50 € – Adulte de 3 € à 9 €. Inscription à l’accueil à partir du samedi 8 janvier de 9h30 à 12h30. Pass sanitaire en fonction de la situation. Une sortie au choix et la deuxième sur liste d’attente. Possibilité de prêt de pelle luge. Réservation à l’accueil.
URL:https://pole9.fr/event/sorties-familiales-a-la-neige-la-feclaz/
CATEGORIES:Sortie familiale à la neige
ATTACH;FMTTYPE=image/jpeg:https://pole9.fr/wp-content/uploads/2021/12/sorties_neige.jpg
END:VEVENT
BEGIN:VEVENT
DTSTART;TZID=Europe/Paris:20220225T133000
DTEND;TZID=Europe/Paris:20220225T133000
DTSTAMP:20260422T130834
CREATED:20211220T150523Z
LAST-MODIFIED:20220128T104729Z
UID:245150-1645795800-1645795800@pole9.fr
SUMMARY:Escapade au Théâtre La Maison de Guignol
DESCRIPTION:
URL:https://pole9.fr/event/escapade-au-theatre-la-maison-de-guignol/
LOCATION:Théâtre La Maison de Guignol\, 2 Montée du Gourguillon\, Lyon\, 69005\, France
CATEGORIES:Escapade familiale en TCL
END:VEVENT
END:VCALENDAR