BEGIN:VCALENDAR
VERSION:2.0
PRODID:-//Pôle 9 - ECPv6.5.1//NONSGML v1.0//EN
CALSCALE:GREGORIAN
METHOD:PUBLISH
X-ORIGINAL-URL:https://pole9.fr
X-WR-CALDESC:évènements pour Pôle 9
REFRESH-INTERVAL;VALUE=DURATION:PT1H
X-Robots-Tag:noindex
X-PUBLISHED-TTL:PT1H
BEGIN:VTIMEZONE

END:VTIMEZONE
BEGIN:VEVENT
DTSTART;TZID=Europe/Paris:20260422T130838
DTEND;TZID=Europe/Paris:20250709T000000
DTSTAMP:20260422T130838
CREATED:20250627T135300Z
LAST-MODIFIED:20250627T135300Z
UID:248459-0-1752019200@pole9.fr
SUMMARY:mercredi de l'été #1
DESCRIPTION:SPECTACLES ET INITIATION BMX – JORIS BRETAGNOLLES\nANIMATIONS SPORT\, NATURE\, INITIATION AUX ECHECS\, JEUX POUR TOUTE LA FAMILLE\nATELIER FRESQUE AVEC L’IMPRÉVISIBLE FABRIQUE\nPRÉVENTION SANTÉ SOLEIL\n21H MUSIQUE BRÉSILIENNE DIOGO CADAVAL\nbuvette et petite restauration sur place X autofinancement jeunes
URL:https://pole9.fr/event/mercredi-de-lete-1-2/
END:VEVENT
BEGIN:VEVENT
DTSTART;TZID=Europe/Paris:20220105T143000
DTEND;TZID=Europe/Paris:20220105T183000
DTSTAMP:20260422T130838
CREATED:20211220T151154Z
LAST-MODIFIED:20211220T151154Z
UID:245156-1641393000-1641407400@pole9.fr
SUMMARY:Mikado au Pôle 9
DESCRIPTION:
URL:https://pole9.fr/event/mikado-au-pole-9/
LOCATION:Pôle 9 – MJC Centre Social\, 4 rue Sylvain Simondan\, Lyon\, 69009\, France
CATEGORIES:jeux pour tous
ATTACH;FMTTYPE=image/jpeg:https://pole9.fr/wp-content/uploads/2021/12/mikado.jpg
END:VEVENT
BEGIN:VEVENT
DTSTART;TZID=Europe/Paris:20220112T140000
DTEND;TZID=Europe/Paris:20220112T173000
DTSTAMP:20260422T130838
CREATED:20220103T102419Z
LAST-MODIFIED:20220103T102419Z
UID:245326-1641996000-1642008600@pole9.fr
SUMMARY:Mikado à la Chaufferie du Vergoin
DESCRIPTION:
URL:https://pole9.fr/event/mikado-a-la-chaufferie-du-vergoin-2/
LOCATION:La Chaufferie du Vergoin\, 7 rue Albert Falsan\, Lyon\, 69009\, France
CATEGORIES:jeux pour tous
ATTACH;FMTTYPE=image/jpeg:https://pole9.fr/wp-content/uploads/2021/12/mikado.jpg
END:VEVENT
BEGIN:VEVENT
DTSTART;TZID=Europe/Paris:20220117T083000
DTEND;TZID=Europe/Paris:20220117T103000
DTSTAMP:20260422T130838
CREATED:20211220T130748Z
LAST-MODIFIED:20211220T143759Z
UID:245114-1642408200-1642415400@pole9.fr
SUMMARY:Causons “gestion du quotidien”
DESCRIPTION:
URL:https://pole9.fr/event/causons-gestion-du-quotidien/
LOCATION:Lieu Accueil Parents de l’école Alphonse Daudet\, 18 rue Charles Porcher\, Lyon\, 69009\, France
CATEGORIES:Discussion
ATTACH;FMTTYPE=image/jpeg:https://pole9.fr/wp-content/uploads/2021/12/gestionduquotidien.jpg
END:VEVENT
BEGIN:VEVENT
DTSTART;TZID=Europe/Paris:20220119T140000
DTEND;TZID=Europe/Paris:20220119T140000
DTSTAMP:20260422T130838
CREATED:20211220T143640Z
LAST-MODIFIED:20211222T102750Z
UID:245136-1642600800-1642600800@pole9.fr
SUMMARY:Création d’un jeu de société
DESCRIPTION:
URL:https://pole9.fr/event/creation-dun-jeu-de-societe/
LOCATION:Pôle 9 – MJC Centre Social\, 4 rue Sylvain Simondan\, Lyon\, 69009\, France
CATEGORIES:Atelier parents/enfants,dès 5 ans
ATTACH;FMTTYPE=image/jpeg:https://pole9.fr/wp-content/uploads/2021/12/jeu_de_oie.jpg
END:VEVENT
BEGIN:VEVENT
DTSTART;TZID=Europe/Paris:20220122T164500
DTEND;TZID=Europe/Paris:20220122T193000
DTSTAMP:20260422T130838
CREATED:20211125T084741Z
LAST-MODIFIED:20211220T141138Z
UID:244463-1642869900-1642879800@pole9.fr
SUMMARY:Théâtre Forum parents/ados
DESCRIPTION:
URL:https://pole9.fr/event/theatre-forum-parents-ados/
LOCATION:Pôle 9 – MJC Centre Social\, 4 rue Sylvain Simondan\, Lyon\, 69009\, France
CATEGORIES:Forum,parents/ados,Théâtre
ATTACH;FMTTYPE=image/jpeg:https://pole9.fr/wp-content/uploads/2021/11/ado_parent.jpg
END:VEVENT
BEGIN:VEVENT
DTSTART;TZID=Europe/Paris:20220125T193000
DTEND;TZID=Europe/Paris:20220125T210000
DTSTAMP:20260422T130838
CREATED:20211220T131631Z
LAST-MODIFIED:20211221T084640Z
UID:245119-1643139000-1643144400@pole9.fr
SUMMARY:“Parent’aise”: partage d’expériences entre parents
DESCRIPTION:
URL:https://pole9.fr/event/parentaise-partage-dexperiences-entre-parents/
LOCATION:Pôle 9 – MJC Centre Social\, 4 rue Sylvain Simondan\, Lyon\, 69009\, France
CATEGORIES:Partage d'expérience
ATTACH;FMTTYPE=image/jpeg:https://pole9.fr/wp-content/uploads/2021/12/Parentalite.jpg
END:VEVENT
BEGIN:VEVENT
DTSTART;VALUE=DATE:20220129
DTEND;VALUE=DATE:20220130
DTSTAMP:20260422T130838
CREATED:20211220T152817Z
LAST-MODIFIED:20211222T102911Z
UID:245164-1643414400-1643500799@pole9.fr
SUMMARY:Sorties familiales à la neige - Alpe du Grand Serre
DESCRIPTION:
URL:https://pole9.fr/event/sorties-familiales-a-la-neige-alpe-du-grand-serre/
CATEGORIES:Sortie familiale à la neige
ATTACH;FMTTYPE=image/jpeg:https://pole9.fr/wp-content/uploads/2021/12/sorties_neige.jpg
END:VEVENT
BEGIN:VEVENT
DTSTART;TZID=Europe/Paris:20220129T140000
DTEND;TZID=Europe/Paris:20220129T170000
DTSTAMP:20260422T130838
CREATED:20211220T170209Z
LAST-MODIFIED:20211222T103153Z
UID:245196-1643464800-1643475600@pole9.fr
SUMMARY:Tricothé - initiation au tricotin géant
DESCRIPTION:
URL:https://pole9.fr/event/tricothe-initiation-au-tricotin-geant/
LOCATION:Pôle 9 – MJC Centre Social\, 4 rue Sylvain Simondan\, Lyon\, 69009\, France
CATEGORIES:Tricothé
ATTACH;FMTTYPE=image/jpeg:https://pole9.fr/wp-content/uploads/2021/12/tricotin.jpg
END:VEVENT
BEGIN:VEVENT
DTSTART;TZID=Europe/Paris:20220129T200000
DTEND;TZID=Europe/Paris:20220129T200000
DTSTAMP:20260422T130838
CREATED:20211220T164722Z
LAST-MODIFIED:20211221T084457Z
UID:245188-1643486400-1643486400@pole9.fr
SUMMARY:Concert des ateliers du Pôle Musique
DESCRIPTION:
URL:https://pole9.fr/event/concert-des-ateliers-du-pole-musique/
LOCATION:Pôle 9 – MJC Centre Social\, 4 rue Sylvain Simondan\, Lyon\, 69009\, France
CATEGORIES:Concert
ATTACH;FMTTYPE=image/jpeg:https://pole9.fr/wp-content/uploads/2021/12/concert_pole_musique.jpg
END:VEVENT
BEGIN:VEVENT
DTSTART;TZID=Europe/Paris:20220131T083000
DTEND;TZID=Europe/Paris:20220131T103000
DTSTAMP:20260422T130838
CREATED:20211220T131350Z
LAST-MODIFIED:20211220T143824Z
UID:245117-1643617800-1643625000@pole9.fr
SUMMARY:Causons “gestion du quotidien”
DESCRIPTION:
URL:https://pole9.fr/event/causons-gestion-du-quotidien-2/
LOCATION:Lieu Accueil Parents de l’école Alphonse Daudet\, 18 rue Charles Porcher\, Lyon\, 69009\, France
CATEGORIES:Discussion
ATTACH;FMTTYPE=image/jpeg:https://pole9.fr/wp-content/uploads/2021/12/gestionduquotidien.jpg
END:VEVENT
END:VCALENDAR