BEGIN:VCALENDAR
VERSION:2.0
PRODID:-//Pôle 9 - ECPv6.5.1//NONSGML v1.0//EN
CALSCALE:GREGORIAN
METHOD:PUBLISH
X-ORIGINAL-URL:https://pole9.fr
X-WR-CALDESC:évènements pour Pôle 9
REFRESH-INTERVAL;VALUE=DURATION:PT1H
X-Robots-Tag:noindex
X-PUBLISHED-TTL:PT1H
BEGIN:VTIMEZONE
TZID:Europe/Paris
BEGIN:DAYLIGHT
TZOFFSETFROM:+0100
TZOFFSETTO:+0200
TZNAME:CEST
DTSTART:20220327T010000
END:DAYLIGHT
BEGIN:STANDARD
TZOFFSETFROM:+0200
TZOFFSETTO:+0100
TZNAME:CET
DTSTART:20221030T010000
END:STANDARD
END:VTIMEZONE
BEGIN:VEVENT
DTSTART;TZID=Europe/Paris:20220507T140000
DTEND;TZID=Europe/Paris:20220507T170000
DTSTAMP:20260423T110800
CREATED:20220429T132310Z
LAST-MODIFIED:20220429T132310Z
UID:245645-1651932000-1651942800@pole9.fr
SUMMARY:Tricothé
DESCRIPTION:C’est un rendez-vous intergénérationnel autour du fil et de la laine. Ce n’est pas un cours de tricot\, les plus chevronnées partagent leur technique avec les débutantes. Chacun fait ce qui lui plaît : tricotin géant\, punch needle\, tricot\, crochet…\nAdapté aux petits à partir de 6 ans comme aux grands.\nRéservation auprès de Pascaline : 06 15 65 76 45
URL:https://pole9.fr/event/tricothe/
CATEGORIES:dès 6 ans,Tricothé
ATTACH;FMTTYPE=image/jpeg:https://pole9.fr/wp-content/uploads/2021/12/tricotin.jpg
END:VEVENT
END:VCALENDAR