BEGIN:VCALENDAR
VERSION:2.0
PRODID:-//Pôle 9 - ECPv6.5.1//NONSGML v1.0//EN
CALSCALE:GREGORIAN
METHOD:PUBLISH
X-ORIGINAL-URL:https://pole9.fr
X-WR-CALDESC:évènements pour Pôle 9
REFRESH-INTERVAL;VALUE=DURATION:PT1H
X-Robots-Tag:noindex
X-PUBLISHED-TTL:PT1H
BEGIN:VTIMEZONE
TZID:Europe/Paris
BEGIN:DAYLIGHT
TZOFFSETFROM:+0100
TZOFFSETTO:+0200
TZNAME:CEST
DTSTART:20220327T010000
END:DAYLIGHT
BEGIN:STANDARD
TZOFFSETFROM:+0200
TZOFFSETTO:+0100
TZNAME:CET
DTSTART:20221030T010000
END:STANDARD
END:VTIMEZONE
BEGIN:VEVENT
DTSTART;TZID=Europe/Paris:20221102T093000
DTEND;TZID=Europe/Paris:20221102T113000
DTSTAMP:20260423T003334
CREATED:20220919T121544Z
LAST-MODIFIED:20220919T121544Z
UID:245984-1667381400-1667388600@pole9.fr
SUMMARY:Bulle de jeux 0/6 ans
DESCRIPTION:C’est un moment dédié aux jeux\, à la motricité\, à la complicité\,\nà destination des enfants de 0 à 6 ans accompagnés de leurs parents. \nRDV sur le City stade ou à la Chaufferie en cas de mauvais temps\nGRATUIT
URL:https://pole9.fr/event/bulle-de-jeux-0-6-ans-4/
LOCATION:City Stade – Vergoin\, Lyon 9\, 69009\, France
CATEGORIES:0/6 ans,Gratuit,Parents/enfants
ATTACH;FMTTYPE=image/jpeg:https://pole9.fr/wp-content/uploads/2022/09/mains-creche.jpg
END:VEVENT
BEGIN:VEVENT
DTSTART;TZID=Europe/Paris:20221103T093000
DTEND;TZID=Europe/Paris:20221103T113000
DTSTAMP:20260423T003334
CREATED:20220919T121642Z
LAST-MODIFIED:20220919T121642Z
UID:245986-1667467800-1667475000@pole9.fr
SUMMARY:Bulle de jeux 0/6 ans
DESCRIPTION:C’est un moment dédié aux jeux\, à la motricité\, à la complicité\,\nà destination des enfants de 0 à 6 ans accompagnés de leurs parents. \nRDV sur le City stade ou à la Chaufferie en cas de mauvais temps\nGRATUIT
URL:https://pole9.fr/event/bulle-de-jeux-0-6-ans-5/
LOCATION:City Stade – Vergoin\, Lyon 9\, 69009\, France
CATEGORIES:0/6 ans,Gratuit,Parents/enfants
ATTACH;FMTTYPE=image/jpeg:https://pole9.fr/wp-content/uploads/2022/09/mains-creche.jpg
END:VEVENT
BEGIN:VEVENT
DTSTART;TZID=Europe/Paris:20221109T093000
DTEND;TZID=Europe/Paris:20221109T113000
DTSTAMP:20260423T003334
CREATED:20220919T121735Z
LAST-MODIFIED:20220919T121735Z
UID:245988-1667986200-1667993400@pole9.fr
SUMMARY:Bulle de jeux 0/6 ans
DESCRIPTION:C’est un moment dédié aux jeux\, à la motricité\, à la complicité\,\nà destination des enfants de 0 à 6 ans accompagnés de leurs parents. \nRDV sur le City stade ou à la Chaufferie en cas de mauvais temps\nGRATUIT
URL:https://pole9.fr/event/bulle-de-jeux-0-6-ans-6/
LOCATION:City Stade – Vergoin\, Lyon 9\, 69009\, France
CATEGORIES:0/6 ans,Gratuit,Parents/enfants
ATTACH;FMTTYPE=image/jpeg:https://pole9.fr/wp-content/uploads/2022/09/mains-creche.jpg
END:VEVENT
END:VCALENDAR