BEGIN:VCALENDAR
VERSION:2.0
PRODID:-//Pôle 9 - ECPv6.5.1//NONSGML v1.0//EN
CALSCALE:GREGORIAN
METHOD:PUBLISH
X-WR-CALNAME:Pôle 9
X-ORIGINAL-URL:https://pole9.fr
X-WR-CALDESC:évènements pour Pôle 9
REFRESH-INTERVAL;VALUE=DURATION:PT1H
X-Robots-Tag:noindex
X-PUBLISHED-TTL:PT1H
BEGIN:VTIMEZONE
TZID:Europe/Paris
BEGIN:DAYLIGHT
TZOFFSETFROM:+0100
TZOFFSETTO:+0200
TZNAME:CEST
DTSTART:20240331T010000
END:DAYLIGHT
BEGIN:STANDARD
TZOFFSETFROM:+0200
TZOFFSETTO:+0100
TZNAME:CET
DTSTART:20241027T010000
END:STANDARD
END:VTIMEZONE
BEGIN:VEVENT
DTSTART;TZID=Europe/Paris:20241107T180000
DTEND;TZID=Europe/Paris:20241107T210000
DTSTAMP:20260423T173617
CREATED:20241105T130924Z
LAST-MODIFIED:20241105T130924Z
UID:247753-1731002400-1731013200@pole9.fr
SUMMARY:Jeudi au Bar du Pôle 9 / SOS oiseaux
DESCRIPTION:Vous aimez les oiseaux et souhaitez apprendre à les protéger ?\nAprès le projet “martinets” initié au printemps dernier avec la Ligue de Protection pour les Oiseaux\, on fait le point sur les projets de la saison 2024/2025. \nOuvert à toutes et à tous !
URL:https://pole9.fr/event/jeudi-au-bar-du-pole-9-sos-oiseaux/
LOCATION:Pôle 9 – MJC Centre Social\, 4 rue Sylvain Simondan\, Lyon\, 69009\, France
CATEGORIES:Eco-citoyenneté,Tout public
END:VEVENT
END:VCALENDAR