BEGIN:VCALENDAR
VERSION:2.0
PRODID:-//Pôle 9 - ECPv6.5.1//NONSGML v1.0//EN
CALSCALE:GREGORIAN
METHOD:PUBLISH
X-ORIGINAL-URL:https://pole9.fr
X-WR-CALDESC:évènements pour Pôle 9
REFRESH-INTERVAL;VALUE=DURATION:PT1H
X-Robots-Tag:noindex
X-PUBLISHED-TTL:PT1H
BEGIN:VTIMEZONE
TZID:Europe/Paris
BEGIN:DAYLIGHT
TZOFFSETFROM:+0100
TZOFFSETTO:+0200
TZNAME:CEST
DTSTART:20220327T010000
END:DAYLIGHT
BEGIN:STANDARD
TZOFFSETFROM:+0200
TZOFFSETTO:+0100
TZNAME:CET
DTSTART:20221030T010000
END:STANDARD
END:VTIMEZONE
BEGIN:VEVENT
DTSTART;TZID=Europe/Paris:20221021T203000
DTEND;TZID=Europe/Paris:20221021T220000
DTSTAMP:20260422T000044
CREATED:20221010T074335Z
LAST-MODIFIED:20221010T074335Z
UID:246110-1666384200-1666389600@pole9.fr
SUMMARY:Soirée familiale Art acrobatique / Danse
DESCRIPTION:À l’issue d’un mois de formation intensive en art acrobatique et en danse\, les élèves de l’école de cirque Le Tour du Monde en Galipette vous invitent à venir assister au rendu de leur travail de création. Laboratoire pour expérimenter de nouvelles possibilités de mouvements et opérer des mélanges d’un genre nouveau\, cette création sera le résultat de leur travail de recherche personnelle et de groupe\,  à la croisée du cirque et de la danse.\nN’hésitez pas à venir les découvrir\, les soutenir\, les encourager\, et ramener vos proches !
URL:https://pole9.fr/event/soiree-familiale-art-acrobatique-danse/
LOCATION:Pôle 9 – MJC Centre Social\, 4 rue Sylvain Simondan\, Lyon\, 69009\, France
CATEGORIES:En famille,évènement,Gratuit,Tout public
END:VEVENT
END:VCALENDAR