BEGIN:VCALENDAR
VERSION:2.0
PRODID:-//Pôle 9 - ECPv6.5.1//NONSGML v1.0//EN
CALSCALE:GREGORIAN
METHOD:PUBLISH
X-WR-CALNAME:Pôle 9
X-ORIGINAL-URL:https://pole9.fr
X-WR-CALDESC:évènements pour Pôle 9
REFRESH-INTERVAL;VALUE=DURATION:PT1H
X-Robots-Tag:noindex
X-PUBLISHED-TTL:PT1H
BEGIN:VTIMEZONE
TZID:Europe/Paris
BEGIN:DAYLIGHT
TZOFFSETFROM:+0100
TZOFFSETTO:+0200
TZNAME:CEST
DTSTART:20220327T010000
END:DAYLIGHT
BEGIN:STANDARD
TZOFFSETFROM:+0200
TZOFFSETTO:+0100
TZNAME:CET
DTSTART:20221030T010000
END:STANDARD
END:VTIMEZONE
BEGIN:VEVENT
DTSTART;TZID=Europe/Paris:20221015T200000
DTEND;TZID=Europe/Paris:20221015T220000
DTSTAMP:20260422T002247
CREATED:20220926T084641Z
LAST-MODIFIED:20220926T084641Z
UID:246011-1665864000-1665871200@pole9.fr
SUMMARY:Concert La Espectacular
DESCRIPTION:La Espectacular Orchestra est née à Lyon au printemps 2013. Emmené par Douglas\, son pianiste et leader d’origine vénézuélienne\, le projet rassemble une dizaine de musiciens confirmés\, de nationalités variées (France\, Maroc\, Venezuela\, Japon\, Panama\, Uruguay).\nIls sont tous passionnés de musique d’Amérique latine et des Caraïbes. Leur créativité et leur spontanéité se mêlent à la richesse de leurs origines et de leurs influences respectives\, entre musique classique\, jazz\, musique orientale et musique traditionnelle latino-américaine. Leurs créations livrent ainsi des sonorités pures\, riches et variées.\nA travers ses valeurs d’Elégance\, d’Authenticité et de Qualité\, le groupe a la volonté de représenter la Salsa Dura sur la scène européenne avec un message d’union entre les peuples des origines différentes.\nEn partenariat avec la radio Capsao\nPlein tarif 12 euros / – de 18 ans 5 euros
URL:https://pole9.fr/event/concert-la-espectacular/
LOCATION:Pôle 9 – MJC Centre Social\, 4 rue Sylvain Simondan\, Lyon\, 69009\, France
CATEGORIES:Concert,évènement,Tout public
END:VEVENT
END:VCALENDAR