BEGIN:VCALENDAR
VERSION:2.0
PRODID:-//Pôle 9 - ECPv6.5.1//NONSGML v1.0//EN
CALSCALE:GREGORIAN
METHOD:PUBLISH
X-ORIGINAL-URL:https://pole9.fr
X-WR-CALDESC:évènements pour Pôle 9
REFRESH-INTERVAL;VALUE=DURATION:PT1H
X-Robots-Tag:noindex
X-PUBLISHED-TTL:PT1H
BEGIN:VTIMEZONE
TZID:Europe/Paris
BEGIN:DAYLIGHT
TZOFFSETFROM:+0100
TZOFFSETTO:+0200
TZNAME:CEST
DTSTART:20220327T010000
END:DAYLIGHT
BEGIN:STANDARD
TZOFFSETFROM:+0200
TZOFFSETTO:+0100
TZNAME:CET
DTSTART:20221030T010000
END:STANDARD
END:VTIMEZONE
BEGIN:VEVENT
DTSTART;TZID=Europe/Paris:20220616T183000
DTEND;TZID=Europe/Paris:20220616T183000
DTSTAMP:20260422T052821
CREATED:20220504T084704Z
LAST-MODIFIED:20220504T084704Z
UID:245702-1655404200-1655404200@pole9.fr
SUMMARY:Gala de danse des activités
DESCRIPTION:Représentation des adhérents des activités modern jazz / contemporain\, classique et hip hop. \nRéservation conseillée
URL:https://pole9.fr/event/gala-de-danse-des-activites/
LOCATION:Pôle 9 – MJC Centre Social\, 4 rue Sylvain Simondan\, Lyon\, 69009\, France
CATEGORIES:évènement
END:VEVENT
END:VCALENDAR