BEGIN:VCALENDAR
VERSION:2.0
PRODID:-//Pôle 9 - ECPv6.5.1//NONSGML v1.0//EN
CALSCALE:GREGORIAN
METHOD:PUBLISH
X-ORIGINAL-URL:https://pole9.fr
X-WR-CALDESC:évènements pour Pôle 9
REFRESH-INTERVAL;VALUE=DURATION:PT1H
X-Robots-Tag:noindex
X-PUBLISHED-TTL:PT1H
BEGIN:VTIMEZONE
TZID:Europe/Paris
BEGIN:DAYLIGHT
TZOFFSETFROM:+0100
TZOFFSETTO:+0200
TZNAME:CEST
DTSTART:20220327T010000
END:DAYLIGHT
BEGIN:STANDARD
TZOFFSETFROM:+0200
TZOFFSETTO:+0100
TZNAME:CET
DTSTART:20221030T010000
END:STANDARD
END:VTIMEZONE
BEGIN:VEVENT
DTSTART;TZID=Europe/Paris:20220518T191500
DTEND;TZID=Europe/Paris:20220518T201500
DTSTAMP:20260422T065315
CREATED:20220429T134129Z
LAST-MODIFIED:20220429T134735Z
UID:245654-1652901300-1652904900@pole9.fr
SUMMARY:Soirée spéciale - Guy Grenard\, 30 ans de passion au service de l'Aïkido à St Rambert
DESCRIPTION:Démonstration et initiation Aïkido pour tous les publics\, par Guy Grenard\, 5ème dan.\nL’animateur a\, durant 30 ans\, animé avec passion la section Aïkido du Pôle 9.\n \nEntrée libre
URL:https://pole9.fr/event/soiree-speciale-guy-grenard-30-ans-de-passion-au-service-de-laikido-a-st-rambert/
CATEGORIES:évènement,Tout public
ATTACH;FMTTYPE=image/jpeg:https://pole9.fr/wp-content/uploads/2022/04/aikido3-scaled.jpg
END:VEVENT
BEGIN:VEVENT
DTSTART;TZID=Europe/Paris:20220518T203000
DTEND;TZID=Europe/Paris:20220518T230000
DTSTAMP:20260422T065315
CREATED:20220429T133701Z
LAST-MODIFIED:20220429T133822Z
UID:245647-1652905800-1652914800@pole9.fr
SUMMARY:Vernissage Expo photos rétrospective des 30 années de la section Aïkido du Pôle 9
DESCRIPTION:Découvrez en photo la section Aïkido du Pôle 9\, animée ces 30 dernières années par Guy Grenard\, 5ème dan. Expo visible du 10 au 21 mai.\nCet art martial japonais a pour but de développer l’harmonie\, le centrage\, l’intégrité\, le relâchement\, la fluidité\, la confiance en soi. Toutes les techniques d’aïkido s’inscrivent dans une série de mouvements circulaires\, destinés à rejeter toutes formes d’agressivité dans le vide. \nLes élèves des arts plastiques vous feront également découvrir leurs œuvres autour du Japon.  Entrée libre
URL:https://pole9.fr/event/vernissage-expo-photos-retrospective-des-30-annees-de-la-section-aikido-du-pole-9/
CATEGORIES:évènement,Journée spéciale,Tout public
ATTACH;FMTTYPE=image/jpeg:https://pole9.fr/wp-content/uploads/2022/04/aikido3-scaled.jpg
END:VEVENT
END:VCALENDAR