BEGIN:VCALENDAR
VERSION:2.0
PRODID:-//Pôle 9 - ECPv6.5.1//NONSGML v1.0//EN
CALSCALE:GREGORIAN
METHOD:PUBLISH
X-ORIGINAL-URL:https://pole9.fr
X-WR-CALDESC:évènements pour Pôle 9
REFRESH-INTERVAL;VALUE=DURATION:PT1H
X-Robots-Tag:noindex
X-PUBLISHED-TTL:PT1H
BEGIN:VTIMEZONE
TZID:Europe/Paris
BEGIN:DAYLIGHT
TZOFFSETFROM:+0100
TZOFFSETTO:+0200
TZNAME:CEST
DTSTART:20220327T010000
END:DAYLIGHT
BEGIN:STANDARD
TZOFFSETFROM:+0200
TZOFFSETTO:+0100
TZNAME:CET
DTSTART:20221030T010000
END:STANDARD
END:VTIMEZONE
BEGIN:VEVENT
DTSTART;TZID=Europe/Paris:20220903T140000
DTEND;TZID=Europe/Paris:20220903T180000
DTSTAMP:20260421T235922
CREATED:20220831T075910Z
LAST-MODIFIED:20220831T075910Z
UID:245916-1662213600-1662228000@pole9.fr
SUMMARY:Forum des associations de St Rambert
DESCRIPTION:Premier rendez-vous de l’année au Pôle 9\, avec un samedi après-midi pour vous permettre de rencontrer les acteurs des associations de St Rambert !
URL:https://pole9.fr/event/forum-des-associations-de-st-rambert/
LOCATION:Pôle 9 – MJC Centre Social\, 4 rue Sylvain Simondan\, Lyon\, 69009\, France
CATEGORIES:évènement
ATTACH;FMTTYPE=image/jpeg:https://pole9.fr/wp-content/uploads/2021/12/Forum.jpg
END:VEVENT
END:VCALENDAR