BEGIN:VCALENDAR
VERSION:2.0
PRODID:-//Pôle 9 - ECPv6.5.1//NONSGML v1.0//EN
CALSCALE:GREGORIAN
METHOD:PUBLISH
X-ORIGINAL-URL:https://pole9.fr
X-WR-CALDESC:évènements pour Pôle 9
REFRESH-INTERVAL;VALUE=DURATION:PT1H
X-Robots-Tag:noindex
X-PUBLISHED-TTL:PT1H
BEGIN:VTIMEZONE
TZID:Europe/Paris
BEGIN:DAYLIGHT
TZOFFSETFROM:+0100
TZOFFSETTO:+0200
TZNAME:CEST
DTSTART:20260329T010000
END:DAYLIGHT
BEGIN:STANDARD
TZOFFSETFROM:+0200
TZOFFSETTO:+0100
TZNAME:CET
DTSTART:20261025T010000
END:STANDARD
END:VTIMEZONE
BEGIN:VEVENT
DTSTART;TZID=Europe/Paris:20260326T190000
DTEND;TZID=Europe/Paris:20260326T190000
DTSTAMP:20260421T113634
CREATED:20260220T133158Z
LAST-MODIFIED:20260220T133158Z
UID:249387-1774551600-1774551600@pole9.fr
SUMMARY:Soirée CEFEDEM : Kintsugi
DESCRIPTION:gratuit – entrée libre -à partir de 12 ans \nKintsugi est une création contemporaine mêlant danse et musique autour d’un corps marqué par la violence et de son processus vers la reconstruction. \nInspirée du Kintsugi\, l’œuvre transforme les cicatrices en matière artistique : au fil des tableaux\, le corps se reconstruit en s’ornant de cordages dorés\, symbole de résilience et de revalorisation.\nInterprété par trois musicien.e.s du CEFEDEM (batterie\, MAO\, saxophones) et un·e danseur·euse\, le spectacle explore textures sonores\, objets détournés\, improvisation et traitements électro-acoustique.   \nUne mise en scène crue\, frontale et incarnée\, où mouvement\, tension dramatique et présence scénique révèlent la transformation intime du corps et de l’esprit.  \n Ella Roversi\, saxophoniste classique et contemporaine  \nJean Balavoine : batterie   \nEmeric Chan Mine : musicien et producteur en MAO   \nAnthéa Mitouart\, interprète et chorégraphe de formation classique et contemporaine  \nLou-Anne Daïna\, danseuse interprète contemporaine 
URL:https://pole9.fr/event/soiree-cefedem-kintsugi/
ATTACH;FMTTYPE=image/png:https://pole9.fr/wp-content/uploads/2026/02/kintsugi.png
END:VEVENT
END:VCALENDAR