BEGIN:VCALENDAR
VERSION:2.0
PRODID:-//Pôle 9 - ECPv6.5.1//NONSGML v1.0//EN
CALSCALE:GREGORIAN
METHOD:PUBLISH
X-ORIGINAL-URL:https://pole9.fr
X-WR-CALDESC:évènements pour Pôle 9
REFRESH-INTERVAL;VALUE=DURATION:PT1H
X-Robots-Tag:noindex
X-PUBLISHED-TTL:PT1H
BEGIN:VTIMEZONE
TZID:Europe/Paris
BEGIN:DAYLIGHT
TZOFFSETFROM:+0100
TZOFFSETTO:+0200
TZNAME:CEST
DTSTART:20260329T010000
END:DAYLIGHT
BEGIN:STANDARD
TZOFFSETFROM:+0200
TZOFFSETTO:+0100
TZNAME:CET
DTSTART:20261025T010000
END:STANDARD
END:VTIMEZONE
BEGIN:VEVENT
DTSTART;TZID=Europe/Paris:20260321T093000
DTEND;TZID=Europe/Paris:20260321T123000
DTSTAMP:20260421T113640
CREATED:20251121T102228Z
LAST-MODIFIED:20260311T152449Z
UID:249069-1774085400-1774096200@pole9.fr
SUMMARY:Le Dojo des figurines
DESCRIPTION:La ludothèque vous propose des jeux pour experts et initiés : de la peinture sur figurines\, des jeux de plateau\, le tout assaisonné de séances d’initiation aux jeux de rôle (JDR) pour les plus de 14 ans. Votre espace ludothèque pour tous vous accueille comme d’habitude  \nEntrée libre pour les adhérents au Pôle 9\, les enfants doivent être accompagnés par un adulte\, inscription conseillée pour les séances de JDR\, possibilité d’inscription sur place le jour J.
URL:https://pole9.fr/event/le-dojo-des-figurines/
ATTACH;FMTTYPE=image/png:https://pole9.fr/wp-content/uploads/2026/03/banniere-actu-a-la-une-site-internet-18-scaled.png
END:VEVENT
BEGIN:VEVENT
DTSTART;TZID=Europe/Paris:20260321T123000
DTEND;TZID=Europe/Paris:20260321T223000
DTSTAMP:20260421T113640
CREATED:20260303T133249Z
LAST-MODIFIED:20260303T133249Z
UID:249416-1774096200-1774132200@pole9.fr
SUMMARY:Sortie famille au parc animalier de Peaugres
DESCRIPTION:Au programme : \nVisite du parc l’après-midi\, puis découverte du festival des lumières à la tombée de la nuit. Pique nique tiré du sac (pour le repas du soir). \nTARIFS (selon le quotient familial) : \nEnfants de 5 à 12 euros \nAdultes de 8 à 18 euros \nDépart : terminus du 31 « cité Edouard Herriot » rue Albert Falsan à 12H30 \n2ème point de ramassage : arrêt du 31 « les rivières » à 12H35 \n3ème point de ramassage : arrêt S10 « porcher » rue pierre Termier à 12H40 \n4ème point de ramassage : terminus du 2 plateau de st Rambert à 12H45 \n5ème point de ramassage : station total Dargoire 107 rue de st Cyr à 12H50 \n6ème point de ramassage : arrêt de bus  » Rochecardon » à 12H55 \n  \n 
URL:https://pole9.fr/event/sortie-famille-au-parc-animalier-de-peaugres/
ATTACH;FMTTYPE=image/jpeg:https://pole9.fr/wp-content/uploads/2026/03/photo-safari-de-peaugres-1636050938.jpg
END:VEVENT
BEGIN:VEVENT
DTSTART;TZID=Europe/Paris:20260321T190000
DTEND;TZID=Europe/Paris:20260321T190000
DTSTAMP:20260421T113640
CREATED:20260218T111015Z
LAST-MODIFIED:20260218T111129Z
UID:249342-1774119600-1774119600@pole9.fr
SUMMARY:St Rambert à un incroyable talent
DESCRIPTION:La soirée Cabaret est de retour avec un nouveau nom ! C’est une soirée où le talent des habitant.e.s est mis à l’honneur et où la curiosité\, la découverte et la bienveillance sont de mise. Chanson\, danse\, magie humour… Un moment de partage artistique à passer en famille.  \nTarif : prix libre
URL:https://pole9.fr/event/st-rambert-a-un-incroyable-talent/
ATTACH;FMTTYPE=image/jpeg:https://pole9.fr/wp-content/uploads/2026/02/picture.jpg
END:VEVENT
END:VCALENDAR