BEGIN:VCALENDAR
VERSION:2.0
PRODID:-//Pôle 9 - ECPv6.5.1//NONSGML v1.0//EN
CALSCALE:GREGORIAN
METHOD:PUBLISH
X-ORIGINAL-URL:https://pole9.fr
X-WR-CALDESC:évènements pour Pôle 9
REFRESH-INTERVAL;VALUE=DURATION:PT1H
X-Robots-Tag:noindex
X-PUBLISHED-TTL:PT1H
BEGIN:VTIMEZONE
TZID:Europe/Paris
BEGIN:DAYLIGHT
TZOFFSETFROM:+0100
TZOFFSETTO:+0200
TZNAME:CEST
DTSTART:20260329T010000
END:DAYLIGHT
BEGIN:STANDARD
TZOFFSETFROM:+0200
TZOFFSETTO:+0100
TZNAME:CET
DTSTART:20261025T010000
END:STANDARD
END:VTIMEZONE
BEGIN:VEVENT
DTSTART;TZID=Europe/Paris:20260310T200000
DTEND;TZID=Europe/Paris:20260310T200000
DTSTAMP:20260421T115026
CREATED:20260218T110412Z
LAST-MODIFIED:20260303T151842Z
UID:249335-1773172800-1773172800@pole9.fr
SUMMARY:Concert Najib & friends & pâtisseries à la Chaufferie du Vergoin
DESCRIPTION:Mardi 10 mars à 20h Venez nous retrouver pour un moment de convivialité à la Chaufferie et écouter la musique de Najib : folk Rock acoustique avec une touche orientale accompagnée d’un chant en arabe littéraire et marocain. Gratuit. Pour toutes les générations. Apportez des pâtisseries à partager. Pyjamas acceptés pour les petits. \nChaufferie du Vergoin : 7 rue Albert Falsan\, Lyon 9
URL:https://pole9.fr/event/contes-orientaux-patisseries-a-la-chaufferie-du-vergoin/
ATTACH;FMTTYPE=image/jpeg:https://pole9.fr/wp-content/uploads/2026/02/Najib3.jpg
END:VEVENT
END:VCALENDAR