BEGIN:VCALENDAR
VERSION:2.0
PRODID:-//Pôle 9 - ECPv6.5.1//NONSGML v1.0//EN
CALSCALE:GREGORIAN
METHOD:PUBLISH
X-ORIGINAL-URL:https://pole9.fr
X-WR-CALDESC:évènements pour Pôle 9
REFRESH-INTERVAL;VALUE=DURATION:PT1H
X-Robots-Tag:noindex
X-PUBLISHED-TTL:PT1H
BEGIN:VTIMEZONE
TZID:Europe/Paris
BEGIN:DAYLIGHT
TZOFFSETFROM:+0100
TZOFFSETTO:+0200
TZNAME:CEST
DTSTART:20260329T010000
END:DAYLIGHT
BEGIN:STANDARD
TZOFFSETFROM:+0200
TZOFFSETTO:+0100
TZNAME:CET
DTSTART:20261025T010000
END:STANDARD
END:VTIMEZONE
BEGIN:VEVENT
DTSTART;TZID=Europe/Paris:20260304T150000
DTEND;TZID=Europe/Paris:20260304T170000
DTSTAMP:20260421T103638
CREATED:20260218T105641Z
LAST-MODIFIED:20260218T105641Z
UID:249327-1772636400-1772643600@pole9.fr
SUMMARY:SPECTACLE “LE GARÇON À LA VALISE”
DESCRIPTION:Le Théâtre Nouvelle Génération de Vaise s’invite au Pôle 9 pour la 4ème année consécutive et nous propose un spectacle fort autour d’une thématique cruellement d’actualité.  \nNafi et Krysia sont deux enfants migrants qui fuient la guerre\, guidés par les contes de leur enfance. À travers cette histoire sans origine spécifique ni religion\, Le Garçon à la valise questionne notre perception de la migration\, la perte de repère\, et comment l’imaginaire\, les récits et la culture peuvent nous aider à survivre. \nTarifs : de 5 à 10 €\nRéservations à la billetterie du TNG => lien vers la billetterie 
URL:https://pole9.fr/event/spectacle-le-garcon-a-la-valise/
ATTACH;FMTTYPE=image/png:https://pole9.fr/wp-content/uploads/2026/02/14_LE-GARCON-A-LA-VALISE-©Baptiste_Lobjoy-10-1520x646-1.png
END:VEVENT
END:VCALENDAR