BEGIN:VCALENDAR
VERSION:2.0
PRODID:-//Pôle 9 - ECPv6.5.1//NONSGML v1.0//EN
CALSCALE:GREGORIAN
METHOD:PUBLISH
X-WR-CALNAME:Pôle 9
X-ORIGINAL-URL:https://pole9.fr
X-WR-CALDESC:évènements pour Pôle 9
REFRESH-INTERVAL;VALUE=DURATION:PT1H
X-Robots-Tag:noindex
X-PUBLISHED-TTL:PT1H
BEGIN:VTIMEZONE
TZID:Europe/Paris
BEGIN:DAYLIGHT
TZOFFSETFROM:+0100
TZOFFSETTO:+0200
TZNAME:CEST
DTSTART:20260329T010000
END:DAYLIGHT
BEGIN:STANDARD
TZOFFSETFROM:+0200
TZOFFSETTO:+0100
TZNAME:CET
DTSTART:20261025T010000
END:STANDARD
END:VTIMEZONE
BEGIN:VEVENT
DTSTART;TZID=Europe/Paris:20260226T190000
DTEND;TZID=Europe/Paris:20260226T190000
DTSTAMP:20260421T101321
CREATED:20260223T171623Z
LAST-MODIFIED:20260223T171623Z
UID:249411-1772132400-1772132400@pole9.fr
SUMMARY:Soirée d’échanges & lancement des Ami·e·s de la Ferme
DESCRIPTION:La Ferme de Lyon & Saint-Cyr-au-Mont d’Or poursuit son développement depuis sa reprise en 2024. Lors de cette soirée\, Simon Pascault (Président de la coopérative) présentera : les évolutions de la ferme \, les projets à venir et le lancement de l’association des Ami·e·s de la Ferme. \n👉 Venez partager vos idées et participer à la construction du projet ! \n      Entrée libre \nVous ne pouvez pas venir ? Voici le questionnaire pour contribuer à distance :  https://forms.gle/btwwvpXyvcGtq13z7
URL:https://pole9.fr/event/soiree-dechanges-lancement-des-ami%c2%b7e%c2%b7s-de-la-ferme/
ATTACH;FMTTYPE=image/jpeg:https://pole9.fr/wp-content/uploads/2026/02/01002704923113-web-tete.jpg
END:VEVENT
END:VCALENDAR