BEGIN:VCALENDAR
VERSION:2.0
PRODID:-//Pôle 9 - ECPv6.5.1//NONSGML v1.0//EN
CALSCALE:GREGORIAN
METHOD:PUBLISH
X-ORIGINAL-URL:https://pole9.fr
X-WR-CALDESC:évènements pour Pôle 9
REFRESH-INTERVAL;VALUE=DURATION:PT1H
X-Robots-Tag:noindex
X-PUBLISHED-TTL:PT1H
BEGIN:VTIMEZONE

END:VTIMEZONE
BEGIN:VEVENT
DTSTART;TZID=Europe/Paris:20260420T110631
DTEND;TZID=Europe/Paris:20250709T000000
DTSTAMP:20260420T110631
CREATED:20250627T135300Z
LAST-MODIFIED:20250627T135300Z
UID:248459-0-1752019200@pole9.fr
SUMMARY:mercredi de l'été #1
DESCRIPTION:SPECTACLES ET INITIATION BMX – JORIS BRETAGNOLLES\nANIMATIONS SPORT\, NATURE\, INITIATION AUX ECHECS\, JEUX POUR TOUTE LA FAMILLE\nATELIER FRESQUE AVEC L’IMPRÉVISIBLE FABRIQUE\nPRÉVENTION SANTÉ SOLEIL\n21H MUSIQUE BRÉSILIENNE DIOGO CADAVAL\nbuvette et petite restauration sur place X autofinancement jeunes
URL:https://pole9.fr/event/mercredi-de-lete-1-2/
END:VEVENT
BEGIN:VEVENT
DTSTART;TZID=Europe/Paris:20250212T153000
DTEND;TZID=Europe/Paris:20250212T161500
DTSTAMP:20260420T110631
CREATED:20250205T095454Z
LAST-MODIFIED:20250205T095454Z
UID:247869-1739374200-1739376900@pole9.fr
SUMMARY:Spectacle Les Intempéries de Sami
DESCRIPTION:Le temps est capricieux chez Sami. Dans son appartement farfelu\, la météo s’accorde à l’humeur de son propriétaire et les meubles n’en font qu’à leur tête ! La boîte aux lettres ne veut pas distribuer son courrier\, les sandales réclament une promenade et le four fait tout brûler. Cette semaine chez Sami\, sont annoncés pluie\, brouillard et orage… Heureusement\, la visite de Camille\, la voisine\, ouvre toujours la porte au printemps. \nSur scène\, un très grand livre pop up s’ouvre. Les images s’animent\, se déplient et se déploient. Sami et son appartement prennent vie ! Lorsque les émotions s’échappent de Sami\, elles envahissent les illustrations\, se propagent dans l’appartement jusqu’à déborder du livre et envahir la scène. \nUne panoplie d’instruments anciens (basson\, flûtes traversières\, guitare\, duduk\, clarinette et guimbarde) accompagnent le quotidien de Sami de sonorités baroques et créent un véritable dialogue entre la narratrice\, le personnage et le livre. \nDurée 45 minutes\nConseillé à partir de 4 ans\nTarifs au choix : 5/8/10 euros
URL:https://pole9.fr/event/spectacle-les-intemperies-de-sami/
LOCATION:Pôle 9 – MJC Centre Social\, 4 rue Sylvain Simondan\, Lyon\, 69009\, France
END:VEVENT
END:VCALENDAR