BEGIN:VCALENDAR
VERSION:2.0
PRODID:-//Pôle 9 - ECPv6.5.1//NONSGML v1.0//EN
CALSCALE:GREGORIAN
METHOD:PUBLISH
X-ORIGINAL-URL:https://pole9.fr
X-WR-CALDESC:évènements pour Pôle 9
REFRESH-INTERVAL;VALUE=DURATION:PT1H
X-Robots-Tag:noindex
X-PUBLISHED-TTL:PT1H
BEGIN:VTIMEZONE

END:VTIMEZONE
BEGIN:VEVENT
DTSTART;TZID=Europe/Paris:20260420T142943
DTEND;TZID=Europe/Paris:20250709T000000
DTSTAMP:20260420T142943
CREATED:20250627T135300Z
LAST-MODIFIED:20250627T135300Z
UID:248459-0-1752019200@pole9.fr
SUMMARY:mercredi de l'été #1
DESCRIPTION:SPECTACLES ET INITIATION BMX – JORIS BRETAGNOLLES\nANIMATIONS SPORT\, NATURE\, INITIATION AUX ECHECS\, JEUX POUR TOUTE LA FAMILLE\nATELIER FRESQUE AVEC L’IMPRÉVISIBLE FABRIQUE\nPRÉVENTION SANTÉ SOLEIL\n21H MUSIQUE BRÉSILIENNE DIOGO CADAVAL\nbuvette et petite restauration sur place X autofinancement jeunes
URL:https://pole9.fr/event/mercredi-de-lete-1-2/
END:VEVENT
BEGIN:VEVENT
DTSTART;TZID=Europe/Paris:20250130T200000
DTEND;TZID=Europe/Paris:20250130T213000
DTSTAMP:20260420T142943
CREATED:20241220T102306Z
LAST-MODIFIED:20241220T102306Z
UID:247835-1738267200-1738272600@pole9.fr
SUMMARY:Conférence Gesticulée - Le Poil Incarné : pilosité et corps des femmes 
DESCRIPTION:De nos jours\, en apparence\, le poil est très peu présent sur le corps de la femme. Certains hommes pensent que\, chez la femme\, le poil n’existe pas\, d’autres qu’il ne doit pas exister.\nSelon les cultures\, on le fait disparaître ou on le vénère. Mais aujourd’hui\, qu’en est-il ?\nLe poil\, un prétexte pour de manière décalée\, révéler bien plus que ce qu’il n’y paraît. Le corps devient un réel enjeu et l’intime devient politique. \nDurée : 1h30\nA partir de 12 ans / adultes\nTarif : prix libre\, conscient et engagé\nBilletterie : https://www.helloasso.com/associations/pole-9-mjc-centre-social/evenements/conference-gesticulee-le-poil-incarne-pilosite-et-corps-des-femmes
URL:https://pole9.fr/event/conference-gesticulee-le-poil-incarne-pilosite-et-corps-des-femmes/
LOCATION:Pôle 9 – MJC Centre Social\, 4 rue Sylvain Simondan\, Lyon\, 69009\, France
CATEGORIES:Conférence
END:VEVENT
END:VCALENDAR