BEGIN:VCALENDAR
VERSION:2.0
PRODID:-//Pôle 9 - ECPv6.5.1//NONSGML v1.0//EN
CALSCALE:GREGORIAN
METHOD:PUBLISH
X-ORIGINAL-URL:https://pole9.fr
X-WR-CALDESC:évènements pour Pôle 9
REFRESH-INTERVAL;VALUE=DURATION:PT1H
X-Robots-Tag:noindex
X-PUBLISHED-TTL:PT1H
BEGIN:VTIMEZONE

END:VTIMEZONE
BEGIN:VEVENT
DTSTART;TZID=Europe/Paris:20260420T123631
DTEND;TZID=Europe/Paris:20250709T000000
DTSTAMP:20260420T123631
CREATED:20250627T135300Z
LAST-MODIFIED:20250627T135300Z
UID:248459-0-1752019200@pole9.fr
SUMMARY:mercredi de l'été #1
DESCRIPTION:SPECTACLES ET INITIATION BMX – JORIS BRETAGNOLLES\nANIMATIONS SPORT\, NATURE\, INITIATION AUX ECHECS\, JEUX POUR TOUTE LA FAMILLE\nATELIER FRESQUE AVEC L’IMPRÉVISIBLE FABRIQUE\nPRÉVENTION SANTÉ SOLEIL\n21H MUSIQUE BRÉSILIENNE DIOGO CADAVAL\nbuvette et petite restauration sur place X autofinancement jeunes
URL:https://pole9.fr/event/mercredi-de-lete-1-2/
END:VEVENT
BEGIN:VEVENT
DTSTART;TZID=Europe/Paris:20250125T090000
DTEND;TZID=Europe/Paris:20250125T130000
DTSTAMP:20260420T123631
CREATED:20241220T093651Z
LAST-MODIFIED:20241220T093651Z
UID:247830-1737795600-1737810000@pole9.fr
SUMMARY:Le dojo des figurines\, jeu et peinture
DESCRIPTION:Débutant.es ou initié.es\, venez partager un temps de jeu et de peinture dans le monde des miniatures et des figurines. \nConseillé à partir de 8 ans. Gratuit.
URL:https://pole9.fr/event/le-dojo-des-figurines-jeu-et-peinture/
LOCATION:Pôle 9 – MJC Centre Social\, 4 rue Sylvain Simondan\, Lyon\, 69009\, France
CATEGORIES:Gratuit
ATTACH;FMTTYPE=image/jpeg:https://pole9.fr/wp-content/uploads/2024/12/figurines-scaled.jpg
END:VEVENT
BEGIN:VEVENT
DTSTART;TZID=Europe/Paris:20250125T180000
DTEND;TZID=Europe/Paris:20250125T180000
DTSTAMP:20260420T123631
CREATED:20241220T092439Z
LAST-MODIFIED:20241220T092439Z
UID:247827-1737828000-1737828000@pole9.fr
SUMMARY:Concert de rentrée du Pôle musique
DESCRIPTION:Les élèves et les intervenant(e)s du Pôle musique vous ont concocté une setlist où les styles musicaux se croisent\, se décroisent !Des reprises adaptées et réarrangées de Billie Eilish\, Sting\, Deluxe\, Coldplay\, Nirvana\, Henri Salvador\, Dua Lipa… et bien d’autres surprises.Il paraît que vous pourrez même chanter sur scène ! \n\nEntrée gratuite
URL:https://pole9.fr/event/concert-de-rentree-du-pole-musique/
LOCATION:Pôle 9 – MJC Centre Social\, 4 rue Sylvain Simondan\, Lyon\, 69009\, France
CATEGORIES:Concert,Gratuit
ATTACH;FMTTYPE=image/jpeg:https://pole9.fr/wp-content/uploads/2024/01/unnamed-9.jpg
END:VEVENT
END:VCALENDAR