BEGIN:VCALENDAR
VERSION:2.0
PRODID:-//Pôle 9 - ECPv6.5.1//NONSGML v1.0//EN
CALSCALE:GREGORIAN
METHOD:PUBLISH
X-WR-CALNAME:Pôle 9
X-ORIGINAL-URL:https://pole9.fr
X-WR-CALDESC:évènements pour Pôle 9
REFRESH-INTERVAL;VALUE=DURATION:PT1H
X-Robots-Tag:noindex
X-PUBLISHED-TTL:PT1H
BEGIN:VTIMEZONE

END:VTIMEZONE
BEGIN:VEVENT
DTSTART;TZID=Europe/Paris:20260420T135130
DTEND;TZID=Europe/Paris:20250709T000000
DTSTAMP:20260420T135130
CREATED:20250627T135300Z
LAST-MODIFIED:20250627T135300Z
UID:248459-0-1752019200@pole9.fr
SUMMARY:mercredi de l'été #1
DESCRIPTION:SPECTACLES ET INITIATION BMX – JORIS BRETAGNOLLES\nANIMATIONS SPORT\, NATURE\, INITIATION AUX ECHECS\, JEUX POUR TOUTE LA FAMILLE\nATELIER FRESQUE AVEC L’IMPRÉVISIBLE FABRIQUE\nPRÉVENTION SANTÉ SOLEIL\n21H MUSIQUE BRÉSILIENNE DIOGO CADAVAL\nbuvette et petite restauration sur place X autofinancement jeunes
URL:https://pole9.fr/event/mercredi-de-lete-1-2/
END:VEVENT
BEGIN:VEVENT
DTSTART;TZID=Europe/Paris:20241224T080000
DTEND;TZID=Europe/Paris:20250102T000000
DTSTAMP:20260420T135130
CREATED:20241223T133512Z
LAST-MODIFIED:20241223T140520Z
UID:247837-1735027200-1735776000@pole9.fr
SUMMARY:Fermeture - Congés de Noël
DESCRIPTION:Bonne fin d’année à toutes et à tous !\nLe Pôle ferme du 24 décembre au 1er janvier inclus.\nRéouverture de l’accueil dès le jeudi 2 janvier 2025 à 9h\, et reprise des activités hebdomadaires le lundi 6 janvier.
URL:https://pole9.fr/event/fermeture-conges-de-noel/
LOCATION:Pôle 9 – MJC Centre Social\, 4 rue Sylvain Simondan\, Lyon\, 69009\, France
END:VEVENT
END:VCALENDAR