BEGIN:VCALENDAR
VERSION:2.0
PRODID:-//Pôle 9 - ECPv6.5.1//NONSGML v1.0//EN
CALSCALE:GREGORIAN
METHOD:PUBLISH
X-WR-CALNAME:Pôle 9
X-ORIGINAL-URL:https://pole9.fr
X-WR-CALDESC:évènements pour Pôle 9
REFRESH-INTERVAL;VALUE=DURATION:PT1H
X-Robots-Tag:noindex
X-PUBLISHED-TTL:PT1H
BEGIN:VTIMEZONE

END:VTIMEZONE
BEGIN:VEVENT
DTSTART;TZID=Europe/Paris:20260420T135130
DTEND;TZID=Europe/Paris:20250709T000000
DTSTAMP:20260420T135130
CREATED:20250627T135300Z
LAST-MODIFIED:20250627T135300Z
UID:248459-0-1752019200@pole9.fr
SUMMARY:mercredi de l'été #1
DESCRIPTION:SPECTACLES ET INITIATION BMX – JORIS BRETAGNOLLES\nANIMATIONS SPORT\, NATURE\, INITIATION AUX ECHECS\, JEUX POUR TOUTE LA FAMILLE\nATELIER FRESQUE AVEC L’IMPRÉVISIBLE FABRIQUE\nPRÉVENTION SANTÉ SOLEIL\n21H MUSIQUE BRÉSILIENNE DIOGO CADAVAL\nbuvette et petite restauration sur place X autofinancement jeunes
URL:https://pole9.fr/event/mercredi-de-lete-1-2/
END:VEVENT
BEGIN:VEVENT
DTSTART;TZID=Europe/Paris:20241214T110000
DTEND;TZID=Europe/Paris:20241214T113500
DTSTAMP:20260420T135130
CREATED:20241207T094007Z
LAST-MODIFIED:20241207T094131Z
UID:247792-1734174000-1734176100@pole9.fr
SUMMARY:Spectacle Echo du Large dès 6 mois
DESCRIPTION:Un bateau fait de bric et de broc\, une soif de voyage : il n’en faut pas plus à notre aventurière pour partir à la découverte de l’océan et des merveilles qu’il renferme.\nAu cours de son voyage\, elle fera la connaissance de personnages hauts en couleur : des crabes farceurs\, une pieuvre égarée\, un coquillage bavard… Ensemble\, ils vivront des moments inoubliables\, affronteront une tempête eUn bateau fait de bric et de broc\, une soif de voyage : il n’en faut pas plus à notre aventurière pour partir à la découverte de l’océan et des merveilles qu’il renferme.\nAu cours de son voyage\, elle fera la connaissance de personnages hauts en couleur : des crabes farceurs\, une pieuvre égarée\, un coquillage bavard… Ensemble\, ils vivront des moments inoubliables\, affronteront une tempête et tisseront des liens d’amitié forts…\nLevez l’ancre ! Hissez les voiles ! L’aventure commence ici !\nUn voyage initiatique et musical qui transportera les petits spectateurs comme les plus grands vers des horizons enchantés.\n​\nPublic : spectacle familial accessible dès 6 mois\nDurée : 35 minutes
URL:https://pole9.fr/event/spectacle-echo-du-large-des-6-mois/
CATEGORIES:En famille,Spectacle
ATTACH;FMTTYPE=image/jpeg:https://pole9.fr/wp-content/uploads/2024/11/scarabee©-Gerard-Gachignard.jpg
END:VEVENT
BEGIN:VEVENT
DTSTART;TZID=Europe/Paris:20241214T201500
DTEND;TZID=Europe/Paris:20241214T214500
DTSTAMP:20260420T135130
CREATED:20241207T095158Z
LAST-MODIFIED:20241207T095211Z
UID:247797-1734207300-1734212700@pole9.fr
SUMMARY:Spectacle Théâtre d'improvisation
DESCRIPTION:C’est le retour de la compagnie en résidence au Pôle 9 pour un nouveau spectacle : « Avec les Chaussettes\, on choisit sa famille. »\nRires\, émotions\, bon moment garanti !\nRéservation conseillée au Pôle 9\nTarif à prix libre
URL:https://pole9.fr/event/spectacle-theatre-dimprovisation/
LOCATION:Pôle 9 – MJC Centre Social\, 4 rue Sylvain Simondan\, Lyon\, 69009\, France
CATEGORIES:En famille,Tout public
END:VEVENT
END:VCALENDAR