BEGIN:VCALENDAR
VERSION:2.0
PRODID:-//Pôle 9 - ECPv6.5.1//NONSGML v1.0//EN
CALSCALE:GREGORIAN
METHOD:PUBLISH
X-WR-CALNAME:Pôle 9
X-ORIGINAL-URL:https://pole9.fr
X-WR-CALDESC:évènements pour Pôle 9
REFRESH-INTERVAL;VALUE=DURATION:PT1H
X-Robots-Tag:noindex
X-PUBLISHED-TTL:PT1H
BEGIN:VTIMEZONE

END:VTIMEZONE
BEGIN:VEVENT
DTSTART;TZID=Europe/Paris:20260420T135338
DTEND;TZID=Europe/Paris:20250709T000000
DTSTAMP:20260420T135338
CREATED:20250627T135300Z
LAST-MODIFIED:20250627T135300Z
UID:248459-0-1752019200@pole9.fr
SUMMARY:mercredi de l'été #1
DESCRIPTION:SPECTACLES ET INITIATION BMX – JORIS BRETAGNOLLES\nANIMATIONS SPORT\, NATURE\, INITIATION AUX ECHECS\, JEUX POUR TOUTE LA FAMILLE\nATELIER FRESQUE AVEC L’IMPRÉVISIBLE FABRIQUE\nPRÉVENTION SANTÉ SOLEIL\n21H MUSIQUE BRÉSILIENNE DIOGO CADAVAL\nbuvette et petite restauration sur place X autofinancement jeunes
URL:https://pole9.fr/event/mercredi-de-lete-1-2/
END:VEVENT
BEGIN:VEVENT
DTSTART;TZID=Europe/Paris:20241128T180000
DTEND;TZID=Europe/Paris:20241128T210000
DTSTAMP:20260420T135338
CREATED:20241105T133407Z
LAST-MODIFIED:20241105T133407Z
UID:247772-1732816800-1732827600@pole9.fr
SUMMARY:Jeudi au Bar du Pôle 9 / DIY Tetrapak
DESCRIPTION:Apprenez à réutiliser votre brique de lait en carton\, en fabriquant un portefeuille avec. \nGratuit\, ouvert à toutes et tous. \n 
URL:https://pole9.fr/event/jeudi-au-bar-du-pole-9-diy-tetrapak/
LOCATION:Pôle 9 – MJC Centre Social\, 4 rue Sylvain Simondan\, Lyon\, 69009\, France
ATTACH;FMTTYPE=image/jpeg:https://pole9.fr/wp-content/uploads/2024/11/Upcycling-Tetra-Pak_2.jpg
END:VEVENT
END:VCALENDAR