BEGIN:VCALENDAR
VERSION:2.0
PRODID:-//Pôle 9 - ECPv6.5.1//NONSGML v1.0//EN
CALSCALE:GREGORIAN
METHOD:PUBLISH
X-ORIGINAL-URL:https://pole9.fr
X-WR-CALDESC:évènements pour Pôle 9
REFRESH-INTERVAL;VALUE=DURATION:PT1H
X-Robots-Tag:noindex
X-PUBLISHED-TTL:PT1H
BEGIN:VTIMEZONE

END:VTIMEZONE
BEGIN:VEVENT
DTSTART;TZID=Europe/Paris:20260420T150755
DTEND;TZID=Europe/Paris:20250709T000000
DTSTAMP:20260420T150755
CREATED:20250627T135300Z
LAST-MODIFIED:20250627T135300Z
UID:248459-0-1752019200@pole9.fr
SUMMARY:mercredi de l'été #1
DESCRIPTION:SPECTACLES ET INITIATION BMX – JORIS BRETAGNOLLES\nANIMATIONS SPORT\, NATURE\, INITIATION AUX ECHECS\, JEUX POUR TOUTE LA FAMILLE\nATELIER FRESQUE AVEC L’IMPRÉVISIBLE FABRIQUE\nPRÉVENTION SANTÉ SOLEIL\n21H MUSIQUE BRÉSILIENNE DIOGO CADAVAL\nbuvette et petite restauration sur place X autofinancement jeunes
URL:https://pole9.fr/event/mercredi-de-lete-1-2/
END:VEVENT
BEGIN:VEVENT
DTSTART;TZID=Europe/Paris:20241122T200000
DTEND;TZID=Europe/Paris:20241122T200000
DTSTAMP:20260420T150755
CREATED:20241105T133004Z
LAST-MODIFIED:20241105T133522Z
UID:247767-1732305600-1732305600@pole9.fr
SUMMARY:Théâtre : "Post Scriptum"- Compagnie La Tête Ailleurs
DESCRIPTION:Hier ils fêtaient la fin d’année scolaire\, aujourd’hui ils célèbrent un mariage\, demain ils se retrouvent pour passer une semaine de vacances. L’amitié n’est pas un long fleuve tranquille… Amour\, promesses et espoir… Mais aussi trahisons\, oublis et mensonges.\nNe comptez par sur Lulu\, Vir\, Steph et Jo pour rendre la vie plus simple à Thierry et JB\, leurs amis d’enfance…\nUne comédie hilarante sur l’amour et l’amitié. \nTarif à prix libre – Billetterie :\nhttps://www.helloasso.com/associations/pole-9-mjc-centre-social/evenements/theatre-post-scriptum
URL:https://pole9.fr/event/theatre-post-scriptum-compagnie-la-tete-ailleurs/
LOCATION:Pôle 9 – MJC Centre Social\, 4 rue Sylvain Simondan\, Lyon\, 69009\, France
CATEGORIES:Théâtre
ATTACH;FMTTYPE=image/jpeg:https://pole9.fr/wp-content/uploads/2024/11/post-scriptum.jpg
END:VEVENT
END:VCALENDAR