BEGIN:VCALENDAR
VERSION:2.0
PRODID:-//Pôle 9 - ECPv6.5.1//NONSGML v1.0//EN
CALSCALE:GREGORIAN
METHOD:PUBLISH
X-ORIGINAL-URL:https://pole9.fr
X-WR-CALDESC:évènements pour Pôle 9
REFRESH-INTERVAL;VALUE=DURATION:PT1H
X-Robots-Tag:noindex
X-PUBLISHED-TTL:PT1H
BEGIN:VTIMEZONE

END:VTIMEZONE
BEGIN:VEVENT
DTSTART;TZID=Europe/Paris:20260420T162048
DTEND;TZID=Europe/Paris:20250709T000000
DTSTAMP:20260420T162048
CREATED:20250627T135300Z
LAST-MODIFIED:20250627T135300Z
UID:248459-0-1752019200@pole9.fr
SUMMARY:mercredi de l'été #1
DESCRIPTION:SPECTACLES ET INITIATION BMX – JORIS BRETAGNOLLES\nANIMATIONS SPORT\, NATURE\, INITIATION AUX ECHECS\, JEUX POUR TOUTE LA FAMILLE\nATELIER FRESQUE AVEC L’IMPRÉVISIBLE FABRIQUE\nPRÉVENTION SANTÉ SOLEIL\n21H MUSIQUE BRÉSILIENNE DIOGO CADAVAL\nbuvette et petite restauration sur place X autofinancement jeunes
URL:https://pole9.fr/event/mercredi-de-lete-1-2/
END:VEVENT
BEGIN:VEVENT
DTSTART;TZID=Europe/Paris:20241022T143000
DTEND;TZID=Europe/Paris:20241022T170000
DTSTAMP:20260420T162048
CREATED:20240919T093540Z
LAST-MODIFIED:20240919T095132Z
UID:247657-1729607400-1729616400@pole9.fr
SUMMARY:Ateliers parents / enfants : “les veilleuses d’halloween” 
DESCRIPTION:Bricoler à 4 mains des petites lampes d’Halloween qui aideront à apprivoiser nos peurs. \nSur inscription à l’accueil à partir du 1/10. \n3 euros par enfant à partir de 5 ans.  
URL:https://pole9.fr/event/ateliers-parents-enfants-les-veilleuses-dhalloween/
LOCATION:Pôle 9 – MJC Centre Social\, 4 rue Sylvain Simondan\, Lyon\, 69009\, France
CATEGORIES:Atelier parents/enfants
END:VEVENT
END:VCALENDAR