BEGIN:VCALENDAR
VERSION:2.0
PRODID:-//Pôle 9 - ECPv6.5.1//NONSGML v1.0//EN
CALSCALE:GREGORIAN
METHOD:PUBLISH
X-WR-CALNAME:Pôle 9
X-ORIGINAL-URL:https://pole9.fr
X-WR-CALDESC:évènements pour Pôle 9
REFRESH-INTERVAL;VALUE=DURATION:PT1H
X-Robots-Tag:noindex
X-PUBLISHED-TTL:PT1H
BEGIN:VTIMEZONE

END:VTIMEZONE
BEGIN:VEVENT
DTSTART;TZID=Europe/Paris:20260420T161603
DTEND;TZID=Europe/Paris:20250709T000000
DTSTAMP:20260420T161603
CREATED:20250627T135300Z
LAST-MODIFIED:20250627T135300Z
UID:248459-0-1752019200@pole9.fr
SUMMARY:mercredi de l'été #1
DESCRIPTION:SPECTACLES ET INITIATION BMX – JORIS BRETAGNOLLES\nANIMATIONS SPORT\, NATURE\, INITIATION AUX ECHECS\, JEUX POUR TOUTE LA FAMILLE\nATELIER FRESQUE AVEC L’IMPRÉVISIBLE FABRIQUE\nPRÉVENTION SANTÉ SOLEIL\n21H MUSIQUE BRÉSILIENNE DIOGO CADAVAL\nbuvette et petite restauration sur place X autofinancement jeunes
URL:https://pole9.fr/event/mercredi-de-lete-1-2/
END:VEVENT
BEGIN:VEVENT
DTSTART;TZID=Europe/Paris:20241021T143000
DTEND;TZID=Europe/Paris:20241021T143000
DTSTAMP:20260420T161603
CREATED:20240919T084655Z
LAST-MODIFIED:20240928T132806Z
UID:247647-1729521000-1729521000@pole9.fr
SUMMARY:Spectacle “Je suis tous les dieux” / Danse
DESCRIPTION:C’est une première ! les Subsistances programme en salle polyvalente un spectacle de danse pour tous les publics à partir de 6 ans pendant les vacances d’automne 2024.\n“Je suis tous les dieux” nous invite dans un monde fantasmagorique où se mêlent mots\, gestes et musique. Au fil de ses métamorphoses et de ses récits\, elle laisse apparaître des personnages magiques et des figures sacrées. Dans son décor merveilleux qui fait se rencontrer des allégories de nuages et de montagnes\, elle évolue pour incarner en voix et en pas les signes de cette danse. Elle est l’amante\, l’idole\, les dieux du Panthéon indien\, un monstre\, des animaux…\nJe suis tous les Dieux est un conte chorégraphique qui tisse des liens magnifiques entre écriture contemporaine et danse traditionnelle indienne. \nDurée 35 minutes – Tous publics – A partir de 6 ans\nTarifs : 12€ / 8€ / 5€ \nBilletterie directement sur le site des Subsistances : https://les-subs.notre-billetterie.com/ \n 
URL:https://pole9.fr/event/spectacle-je-suis-tous-les-dieux-danse/
LOCATION:Pôle 9 – MJC Centre Social\, 4 rue Sylvain Simondan\, Lyon\, 69009\, France
CATEGORIES:dès 6 ans,Spectacle,Tout public
ATTACH;FMTTYPE=image/jpeg:https://pole9.fr/wp-content/uploads/2024/09/SpectacleJesuistouslesdieux.jpg
END:VEVENT
BEGIN:VEVENT
DTSTART;TZID=Europe/Paris:20241021T183000
DTEND;TZID=Europe/Paris:20241021T183000
DTSTAMP:20260420T161603
CREATED:20240928T133408Z
LAST-MODIFIED:20240928T133752Z
UID:247687-1729535400-1729535400@pole9.fr
SUMMARY:Spectacle "Je suis tous les dieux" / danse
DESCRIPTION:C’est une première\, les Subsistances programme en salle polyvalente un spectacle de danse pour tous les publics à partir de 6 ans pendant les vacances d’automne 2024.  \n“Je suis tous les dieux” nous invite dans un monde fantasmagorique où se mêlent mots\, gestes et musique. Au fil de ses métamorphoses et de ses récits\, elle laisse apparaître des personnages magiques et des figures sacrées. Dans son décor merveilleux qui fait se rencontrer des allégories de nuages et de montagnes\, elle évolue pour incarner en voix et en pas les signes de cette danse. Elle est l’amante\, l’idole\, les dieux du Panthéon indien\, un monstre\, des animaux… Je suis tous les Dieux est un conte chorégraphique qui tisse des liens magnifiques entre écriture contemporaine et danse traditionnelle indienne. \nDurée 35 minutes – Tous publics – A partir de 6 ans \nTarifs : 12/8/5€(5 euros étant un tarif réduit pour les adhérents du Pôle 9)\n \nBilletterie directement sur le site des Subsistances https://les-subs.notre-billetterie.com/
URL:https://pole9.fr/event/spectacle-je-suis-tous-les-dieux/
LOCATION:Pôle 9 – MJC Centre Social\, 4 rue Sylvain Simondan\, Lyon\, 69009\, France
CATEGORIES:dès 6 ans,En famille,Spectacle,Tout public
ATTACH;FMTTYPE=image/jpeg:https://pole9.fr/wp-content/uploads/2024/09/SpectacleJesuistouslesdieux.jpg
END:VEVENT
END:VCALENDAR