BEGIN:VCALENDAR
VERSION:2.0
PRODID:-//Pôle 9 - ECPv6.5.1//NONSGML v1.0//EN
CALSCALE:GREGORIAN
METHOD:PUBLISH
X-WR-CALNAME:Pôle 9
X-ORIGINAL-URL:https://pole9.fr
X-WR-CALDESC:évènements pour Pôle 9
REFRESH-INTERVAL;VALUE=DURATION:PT1H
X-Robots-Tag:noindex
X-PUBLISHED-TTL:PT1H
BEGIN:VTIMEZONE

END:VTIMEZONE
BEGIN:VEVENT
DTSTART;TZID=Europe/Paris:20260420T161941
DTEND;TZID=Europe/Paris:20250709T000000
DTSTAMP:20260420T161941
CREATED:20250627T135300Z
LAST-MODIFIED:20250627T135300Z
UID:248459-0-1752019200@pole9.fr
SUMMARY:mercredi de l'été #1
DESCRIPTION:SPECTACLES ET INITIATION BMX – JORIS BRETAGNOLLES\nANIMATIONS SPORT\, NATURE\, INITIATION AUX ECHECS\, JEUX POUR TOUTE LA FAMILLE\nATELIER FRESQUE AVEC L’IMPRÉVISIBLE FABRIQUE\nPRÉVENTION SANTÉ SOLEIL\n21H MUSIQUE BRÉSILIENNE DIOGO CADAVAL\nbuvette et petite restauration sur place X autofinancement jeunes
URL:https://pole9.fr/event/mercredi-de-lete-1-2/
END:VEVENT
BEGIN:VEVENT
DTSTART;TZID=Europe/Paris:20241016T143000
DTEND;TZID=Europe/Paris:20241016T180000
DTSTAMP:20260420T161941
CREATED:20240927T095707Z
LAST-MODIFIED:20240927T095716Z
UID:247667-1729089000-1729101600@pole9.fr
SUMMARY:Mikado et Jeu de Go
DESCRIPTION:Le rendez-vous ludique à ne pas manquer où la ludothèque prend un format XXL !Retrouvez plusieurs espaces pour jouer\, pour tous les âges !\nUn temps en famille ou entre ami.e.s à partager autour des nouvelles actualités ludiques et culturelles.==> Gilles\, joueur de Go vous accueillera et pourra vous faire découvrir cet art martial de l’esprit en quelques minutes !\nGratuit – Ouvert aux http://xn--adhrent-dya.es/ du Pôle 9 à jour d’inscription.
URL:https://pole9.fr/event/mikado-et-jeu-de-go/
LOCATION:Pôle 9 – MJC Centre Social\, 4 rue Sylvain Simondan\, Lyon\, 69009\, France
CATEGORIES:En famille,Gratuit,jeux pour tous,ludothèque
ATTACH;FMTTYPE=image/jpeg:https://pole9.fr/wp-content/uploads/2023/11/jeux-societe-quebec.jpg
END:VEVENT
END:VCALENDAR