BEGIN:VCALENDAR
VERSION:2.0
PRODID:-//Pôle 9 - ECPv6.5.1//NONSGML v1.0//EN
CALSCALE:GREGORIAN
METHOD:PUBLISH
X-ORIGINAL-URL:https://pole9.fr
X-WR-CALDESC:évènements pour Pôle 9
REFRESH-INTERVAL;VALUE=DURATION:PT1H
X-Robots-Tag:noindex
X-PUBLISHED-TTL:PT1H
BEGIN:VTIMEZONE

END:VTIMEZONE
BEGIN:VEVENT
DTSTART;TZID=Europe/Paris:20260420T162047
DTEND;TZID=Europe/Paris:20250709T000000
DTSTAMP:20260420T162047
CREATED:20250627T135300Z
LAST-MODIFIED:20250627T135300Z
UID:248459-0-1752019200@pole9.fr
SUMMARY:mercredi de l'été #1
DESCRIPTION:SPECTACLES ET INITIATION BMX – JORIS BRETAGNOLLES\nANIMATIONS SPORT\, NATURE\, INITIATION AUX ECHECS\, JEUX POUR TOUTE LA FAMILLE\nATELIER FRESQUE AVEC L’IMPRÉVISIBLE FABRIQUE\nPRÉVENTION SANTÉ SOLEIL\n21H MUSIQUE BRÉSILIENNE DIOGO CADAVAL\nbuvette et petite restauration sur place X autofinancement jeunes
URL:https://pole9.fr/event/mercredi-de-lete-1-2/
END:VEVENT
BEGIN:VEVENT
DTSTART;TZID=Europe/Paris:20241008T200000
DTEND;TZID=Europe/Paris:20241008T200000
DTSTAMP:20260420T162047
CREATED:20240919T082541Z
LAST-MODIFIED:20241002T080934Z
UID:247638-1728417600-1728417600@pole9.fr
SUMMARY:Conférence - La Ferme de Lyon et Saint-Cyr-Au-Mont-d'Or
DESCRIPTION:A l’occasion de cette soirée\, Simon Pascault – repreneur de la Ferme suite à la retraite de « Pierrot » Perraud présentera :  \n\nle fonctionnement de la ferme aujourd’hui\nles productions de la ferme aujourd’hui et les évolutions prévues pour des productions plus locales et plus respectueuses de l’environnement \nune “ ferme de quartier” encore plus ancrée dans Saint Rambert et Saint Cyr au mont d’or\nUne organisation pour permettre à chacun de s’approprier cette ferme\n\nEntrée gratuite. Réservation conseillée au 04 78 83 29 68 ou par email : accueil@pole9.fr ou sur place. 
URL:https://pole9.fr/event/conference-la-ferme-de-lyon-et-saint-cyr-au-mont-dor/
LOCATION:Pôle 9 – MJC Centre Social\, 4 rue Sylvain Simondan\, Lyon\, 69009\, France
CATEGORIES:Conférence,Gratuit
ATTACH;FMTTYPE=image/jpeg:https://pole9.fr/wp-content/uploads/2024/09/ferme.jpg
END:VEVENT
END:VCALENDAR