BEGIN:VCALENDAR
VERSION:2.0
PRODID:-//Pôle 9 - ECPv6.5.1//NONSGML v1.0//EN
CALSCALE:GREGORIAN
METHOD:PUBLISH
X-ORIGINAL-URL:https://pole9.fr
X-WR-CALDESC:évènements pour Pôle 9
REFRESH-INTERVAL;VALUE=DURATION:PT1H
X-Robots-Tag:noindex
X-PUBLISHED-TTL:PT1H
BEGIN:VTIMEZONE

END:VTIMEZONE
BEGIN:VEVENT
DTSTART;TZID=Europe/Paris:20260420T162122
DTEND;TZID=Europe/Paris:20250709T000000
DTSTAMP:20260420T162122
CREATED:20250627T135300Z
LAST-MODIFIED:20250627T135300Z
UID:248459-0-1752019200@pole9.fr
SUMMARY:mercredi de l'été #1
DESCRIPTION:SPECTACLES ET INITIATION BMX – JORIS BRETAGNOLLES\nANIMATIONS SPORT\, NATURE\, INITIATION AUX ECHECS\, JEUX POUR TOUTE LA FAMILLE\nATELIER FRESQUE AVEC L’IMPRÉVISIBLE FABRIQUE\nPRÉVENTION SANTÉ SOLEIL\n21H MUSIQUE BRÉSILIENNE DIOGO CADAVAL\nbuvette et petite restauration sur place X autofinancement jeunes
URL:https://pole9.fr/event/mercredi-de-lete-1-2/
END:VEVENT
BEGIN:VEVENT
DTSTART;TZID=Europe/Paris:20241005T200000
DTEND;TZID=Europe/Paris:20241005T203000
DTSTAMP:20260420T162122
CREATED:20240919T081941Z
LAST-MODIFIED:20240928T134536Z
UID:247635-1728158400-1728160200@pole9.fr
SUMMARY:Soirée poésie et guitare
DESCRIPTION:Bienvenue pour une soirée poésie avec la lecture musicale de « Non Lieu » par Clément Bollenot et le guitariste Lucas Mendez.\n« Non-lieu est le récit d’une parenthèse d’espace et de temps dans laquelle les réalités se mêlent\, se suspendent\, se superposent. À travers une lecture musicale du recueil initialement publié aux éditions L’Ail des ours\, le poète Clément Bollenot et le guitariste Lucas Mendez vous invitent à embarquer pour un étrange voyage dont vous ne sortirez pas indemne.  Le narrateur prend place dans un train qui attend sur le quai d’une gare qui n’existe que par sa présence. Le train démarre et se transforme en monstre aux yeux jaunes qui traverse tunnels\, villes fantômes\, marges et périphéries. De l’autre côté de la fenêtre\, le monde défile\, s’efface\, se brouille alors qu’un funambule marche sur le rail. Seule dans une ville au cœur d’un immeuble perforé par la voie ferrée\, une femme vit au rythme du passage des trains. Quand ils font trembler les murs\, elle trouve refuge dans sa salle de bain. Jusqu’au jour où elle osera sortir sur le palier. »\nDurée 30 minutes – Tarif à prix libre\nBar du Pôle 9 ouvert \nAccueil à partir de 18H30\nNous aimerions vous présenter en images les spectacles et soirées culturelles qui jalonneront la saison.\nUne soirée conviviale pour ne rien manquer des temps culture du Pôle 9.
URL:https://pole9.fr/event/soiree-poesie/
LOCATION:Pôle 9 – MJC Centre Social\, 4 rue Sylvain Simondan\, Lyon\, 69009\, France
CATEGORIES:Sortie familles,Tout public
END:VEVENT
END:VCALENDAR