BEGIN:VCALENDAR
VERSION:2.0
PRODID:-//Pôle 9 - ECPv6.5.1//NONSGML v1.0//EN
CALSCALE:GREGORIAN
METHOD:PUBLISH
X-ORIGINAL-URL:https://pole9.fr
X-WR-CALDESC:évènements pour Pôle 9
REFRESH-INTERVAL;VALUE=DURATION:PT1H
X-Robots-Tag:noindex
X-PUBLISHED-TTL:PT1H
BEGIN:VTIMEZONE

END:VTIMEZONE
BEGIN:VEVENT
DTSTART;TZID=Europe/Paris:20260420T202455
DTEND;TZID=Europe/Paris:20250709T000000
DTSTAMP:20260420T202455
CREATED:20250627T135300Z
LAST-MODIFIED:20250627T135300Z
UID:248459-0-1752019200@pole9.fr
SUMMARY:mercredi de l'été #1
DESCRIPTION:SPECTACLES ET INITIATION BMX – JORIS BRETAGNOLLES\nANIMATIONS SPORT\, NATURE\, INITIATION AUX ECHECS\, JEUX POUR TOUTE LA FAMILLE\nATELIER FRESQUE AVEC L’IMPRÉVISIBLE FABRIQUE\nPRÉVENTION SANTÉ SOLEIL\n21H MUSIQUE BRÉSILIENNE DIOGO CADAVAL\nbuvette et petite restauration sur place X autofinancement jeunes
URL:https://pole9.fr/event/mercredi-de-lete-1-2/
END:VEVENT
BEGIN:VEVENT
DTSTART;TZID=Europe/Paris:20240721T150000
DTEND;TZID=Europe/Paris:20240721T220000
DTSTAMP:20260420T202455
CREATED:20240702T082539Z
LAST-MODIFIED:20240721T083450Z
UID:247531-1721574000-1721599200@pole9.fr
SUMMARY:Festival Les Dimanches de l’Ile Barbe ANNULATION
DESCRIPTION:En raison de conditions météo défavorables et ce jusque 15h\, nous sommes dans l’obligation d’annuler cette journée de festival.\nNous sommes tristes de ne pas pouvoir vous retrouver.\nNous vous donnons rendez-vous en 2025 pour une édition ensoleillée !
URL:https://pole9.fr/event/festival-les-dimanches-de-lile-barbe-2eme-journee/
LOCATION:L’Ile Barbe\, Lyon\, 69009\, France
CATEGORIES:Festival Les Dimanches de l'Ile Barbe,Gratuit
ATTACH;FMTTYPE=image/jpeg:https://pole9.fr/wp-content/uploads/2024/07/nuage-triste-1.jpg
END:VEVENT
END:VCALENDAR