BEGIN:VCALENDAR
VERSION:2.0
PRODID:-//Pôle 9 - ECPv6.5.1//NONSGML v1.0//EN
CALSCALE:GREGORIAN
METHOD:PUBLISH
X-ORIGINAL-URL:https://pole9.fr
X-WR-CALDESC:évènements pour Pôle 9
REFRESH-INTERVAL;VALUE=DURATION:PT1H
X-Robots-Tag:noindex
X-PUBLISHED-TTL:PT1H
BEGIN:VTIMEZONE

END:VTIMEZONE
BEGIN:VEVENT
DTSTART;TZID=Europe/Paris:20260420T202448
DTEND;TZID=Europe/Paris:20250709T000000
DTSTAMP:20260420T202448
CREATED:20250627T135300Z
LAST-MODIFIED:20250627T135300Z
UID:248459-0-1752019200@pole9.fr
SUMMARY:mercredi de l'été #1
DESCRIPTION:SPECTACLES ET INITIATION BMX – JORIS BRETAGNOLLES\nANIMATIONS SPORT\, NATURE\, INITIATION AUX ECHECS\, JEUX POUR TOUTE LA FAMILLE\nATELIER FRESQUE AVEC L’IMPRÉVISIBLE FABRIQUE\nPRÉVENTION SANTÉ SOLEIL\n21H MUSIQUE BRÉSILIENNE DIOGO CADAVAL\nbuvette et petite restauration sur place X autofinancement jeunes
URL:https://pole9.fr/event/mercredi-de-lete-1-2/
END:VEVENT
BEGIN:VEVENT
DTSTART;TZID=Europe/Paris:20240717T180000
DTEND;TZID=Europe/Paris:20240717T220000
DTSTAMP:20260420T202448
CREATED:20240702T083015Z
LAST-MODIFIED:20240702T083144Z
UID:247534-1721239200-1721253600@pole9.fr
SUMMARY:Les mercredis de l’été à la Dargoire - "Brésil Brésil"
DESCRIPTION:18h : batucada des enfants de la Maison de l’Enfance avec les ados du Pôle 9. \n– atelier aménagement d’abreuvoirs ET NICHOIRS pour les oiseauX\n– ateliers fabrication de masques et de maracas – jeux / ludothèque18h/20h Cuisinons ensemble des tartines d’été \n21h : concert musique brésilienne Diogo Cadaval \nGRATUIT – buvette et tartines sur place
URL:https://pole9.fr/event/les-mercredis-de-lete-a-la-dargoire-bresil-bresil/
LOCATION:La Dargoire\, LYON\, 69009\, France
CATEGORIES:En famille,Gratuit,Journée spéciale
END:VEVENT
END:VCALENDAR