BEGIN:VCALENDAR
VERSION:2.0
PRODID:-//Pôle 9 - ECPv6.5.1//NONSGML v1.0//EN
CALSCALE:GREGORIAN
METHOD:PUBLISH
X-WR-CALNAME:Pôle 9
X-ORIGINAL-URL:https://pole9.fr
X-WR-CALDESC:évènements pour Pôle 9
REFRESH-INTERVAL;VALUE=DURATION:PT1H
X-Robots-Tag:noindex
X-PUBLISHED-TTL:PT1H
BEGIN:VTIMEZONE

END:VTIMEZONE
BEGIN:VEVENT
DTSTART;TZID=Europe/Paris:20260420T202236
DTEND;TZID=Europe/Paris:20250709T000000
DTSTAMP:20260420T202236
CREATED:20250627T135300Z
LAST-MODIFIED:20250627T135300Z
UID:248459-0-1752019200@pole9.fr
SUMMARY:mercredi de l'été #1
DESCRIPTION:SPECTACLES ET INITIATION BMX – JORIS BRETAGNOLLES\nANIMATIONS SPORT\, NATURE\, INITIATION AUX ECHECS\, JEUX POUR TOUTE LA FAMILLE\nATELIER FRESQUE AVEC L’IMPRÉVISIBLE FABRIQUE\nPRÉVENTION SANTÉ SOLEIL\n21H MUSIQUE BRÉSILIENNE DIOGO CADAVAL\nbuvette et petite restauration sur place X autofinancement jeunes
URL:https://pole9.fr/event/mercredi-de-lete-1-2/
END:VEVENT
BEGIN:VEVENT
DTSTART;TZID=Europe/Paris:20240707T150000
DTEND;TZID=Europe/Paris:20240707T220000
DTSTAMP:20260420T202236
CREATED:20240702T082143Z
LAST-MODIFIED:20240702T082251Z
UID:247528-1720364400-1720389600@pole9.fr
SUMMARY:Festival Les Dimanches de l’Ile Barbe (1ère journée)
DESCRIPTION:15h/18h : Ateliers création d’une broche musique et tatoo éphémère tribal \nPrêt de jeux de pétanque et mölkky \n15/19h Ludothèque XXL en plein air pour toutes et tous sans limite d’âge \n16h30 : RONDE[s] et MOMENTUM (danse)*\nLa ronde est une tradition\, la plus ancienne forme de danse collective qui nous soit parvenue. Une ode à la communauté et à l’égalité\, où l’individu peut sentir qu’il fait partie de quelque chose de plus grand que lui. Du folklore à la contemporanéité\, la danse du Jeune Ballet Calabash célèbre l’expression de la joie\, un élan de vie. Momentum est un voyage à couper le souffle\, un moment de bonheur partagé. \n18h : Arba Canté – Chants polyphoniques\nLa rencontre de quatre femmes\, quatre voix qui s’entremêlent. Elles visitent a cappella des chants traditionnels du monde\, en passant par la méditerranée\, les pays de l’Est\, l’Afrique mais aussi des compositions originales inspirées de sonorités d’origines multiples. \n19h45 : Chicharron – Chicha & Rock fusion\nLe quintet propose une véritable fusion entre la Chicha péruvienne des 60’\, le Rock progressif 70’\, les musiques afro-péruviennes et les belles mélodies andines en y ajoutant toujours une touche de Rock et de Cumbia\, le cocktail est explosif\, baroque et surprenant. \nLe Pont des arts\, expo de dessins d’enfants des  accueils périscolaires des Écoles des St Rambert \nSpectacles gratuits\nBoissons artisanales et locale à la vente\nCrêpes et galettes bretonnes bio / Madamann\nEsquimaux de la Conserverie Les Cousins
URL:https://pole9.fr/event/festival-les-dimanches-de-lile-barbe-1ere-journee/
LOCATION:L’Ile Barbe\, Lyon\, 69009\, France
CATEGORIES:Festival Les Dimanches de l'Ile Barbe,Gratuit
END:VEVENT
END:VCALENDAR