BEGIN:VCALENDAR
VERSION:2.0
PRODID:-//Pôle 9 - ECPv6.5.1//NONSGML v1.0//EN
CALSCALE:GREGORIAN
METHOD:PUBLISH
X-ORIGINAL-URL:https://pole9.fr
X-WR-CALDESC:évènements pour Pôle 9
REFRESH-INTERVAL;VALUE=DURATION:PT1H
X-Robots-Tag:noindex
X-PUBLISHED-TTL:PT1H
BEGIN:VTIMEZONE

END:VTIMEZONE
BEGIN:VEVENT
DTSTART;TZID=Europe/Paris:20260420T202456
DTEND;TZID=Europe/Paris:20250709T000000
DTSTAMP:20260420T202456
CREATED:20250627T135300Z
LAST-MODIFIED:20250627T135300Z
UID:248459-0-1752019200@pole9.fr
SUMMARY:mercredi de l'été #1
DESCRIPTION:SPECTACLES ET INITIATION BMX – JORIS BRETAGNOLLES\nANIMATIONS SPORT\, NATURE\, INITIATION AUX ECHECS\, JEUX POUR TOUTE LA FAMILLE\nATELIER FRESQUE AVEC L’IMPRÉVISIBLE FABRIQUE\nPRÉVENTION SANTÉ SOLEIL\n21H MUSIQUE BRÉSILIENNE DIOGO CADAVAL\nbuvette et petite restauration sur place X autofinancement jeunes
URL:https://pole9.fr/event/mercredi-de-lete-1-2/
END:VEVENT
BEGIN:VEVENT
DTSTART;TZID=Europe/Paris:20240703T190000
DTEND;TZID=Europe/Paris:20240703T190000
DTSTAMP:20260420T202456
CREATED:20240702T081643Z
LAST-MODIFIED:20240702T081643Z
UID:247526-1720033200-1720033200@pole9.fr
SUMMARY:Sortie observation Martinets
DESCRIPTION:Avec la Ligue de protection des oiseaux \nIls passent les trois quarts de leur vie à voler et ils nichent peut-être sous votre toit… Connaissez-vous vos voisins du dessus\, les martinets ? Partons ensemble à leur découverte.\nCette balade dans le quartier du Vergoin (St Rambert\, Lyon 9)\, sur les traces des martinets\, sera l’occasion d’évoquer le plan de sauvegarde hirondelles et martinets de la métropole de Lyon\, de découvrir les caractéristiques de ces oiseaux si particuliers\, d’observer les martinets et peut-être même de repérer certains de leurs sites de nidification. Jumelles bienvenues !\nInfos pratiques :\nRDV devant le local associatif du Vergoin dit «la Chaufferie»\nGRATUIT – A partir de 10 ans\, si enfant non accompagné par un adulte.
URL:https://pole9.fr/event/sortie-observation-martinets/
LOCATION:La Chaufferie du Vergoin\, 7 rue Albert Falsan\, Lyon\, 69009\, France
CATEGORIES:Eco-citoyenneté,Gratuit
END:VEVENT
END:VCALENDAR