BEGIN:VCALENDAR
VERSION:2.0
PRODID:-//Pôle 9 - ECPv6.5.1//NONSGML v1.0//EN
CALSCALE:GREGORIAN
METHOD:PUBLISH
X-ORIGINAL-URL:https://pole9.fr
X-WR-CALDESC:évènements pour Pôle 9
REFRESH-INTERVAL;VALUE=DURATION:PT1H
X-Robots-Tag:noindex
X-PUBLISHED-TTL:PT1H
BEGIN:VTIMEZONE

END:VTIMEZONE
BEGIN:VEVENT
DTSTART;TZID=Europe/Paris:20260420T214727
DTEND;TZID=Europe/Paris:20250709T000000
DTSTAMP:20260420T214727
CREATED:20250627T135300Z
LAST-MODIFIED:20250627T135300Z
UID:248459-0-1752019200@pole9.fr
SUMMARY:mercredi de l'été #1
DESCRIPTION:SPECTACLES ET INITIATION BMX – JORIS BRETAGNOLLES\nANIMATIONS SPORT\, NATURE\, INITIATION AUX ECHECS\, JEUX POUR TOUTE LA FAMILLE\nATELIER FRESQUE AVEC L’IMPRÉVISIBLE FABRIQUE\nPRÉVENTION SANTÉ SOLEIL\n21H MUSIQUE BRÉSILIENNE DIOGO CADAVAL\nbuvette et petite restauration sur place X autofinancement jeunes
URL:https://pole9.fr/event/mercredi-de-lete-1-2/
END:VEVENT
BEGIN:VEVENT
DTSTART;TZID=Europe/Paris:20240629T150000
DTEND;TZID=Europe/Paris:20240629T164000
DTSTAMP:20260420T214727
CREATED:20240529T085025Z
LAST-MODIFIED:20240529T085025Z
UID:247377-1719673200-1719679200@pole9.fr
SUMMARY:Contes ô bout du Bec - Alice Bernard
DESCRIPTION:« Cri-cri\, c’est un oiseau si petit qu’il n’a qu’une seule plume. Mais quand il ouvre son minuscule bec\, il en sort un chant qui fait danser les montagnes\, sourire la lune\, frémir la surface des océans. »\nCes contes\, chants et comptines parlent d’oiseaux.\nDans un tourbillon de plumes multicolores\, les émotions traversent les personnages haut en couleur. Percussions et sanza se glissent entre les mots\, rythment les histoires.\nDans le cadre du Festival Entre Rhône et Saône\nOù : Sur la pointe de l’Ile Barbe\nDurée 40 minutes – Gratuit – Sans réservation
URL:https://pole9.fr/event/contes-o-bout-du-bec-alice-bernard/
LOCATION:L’Ile Barbe\, Lyon\, 69009\, France
CATEGORIES:Contes,Gratuit,Spectacle
END:VEVENT
BEGIN:VEVENT
DTSTART;TZID=Europe/Paris:20240629T160000
DTEND;TZID=Europe/Paris:20240629T173000
DTSTAMP:20260420T214727
CREATED:20240529T085830Z
LAST-MODIFIED:20240529T085830Z
UID:247380-1719676800-1719682200@pole9.fr
SUMMARY:Atelier créatif Aménagements pour oiseaux
DESCRIPTION:Les oiseaux ont besoin d’un coup de main pour faciliter leur vie en ville. Cet atelier vise à fabriquer de petits objets qui faciliteront leur installation dans votre quartier.\nEmparons-nous d’objets du quotidien et de matériaux recyclés afin de créer de petits objets à installer sur votre balcon ou dans votre jardin pour faciliter l’installation des oiseaux près de chez vous.\nDans le cadre du Festival Entre Rhône et Saône.\nRDV Sur la pointe de l’Ile Barbe \nDurée 1h30 – Gratuit – sur réservation sur https://entre-rhone-et-saone.fr/
URL:https://pole9.fr/event/atelier-creatif-amenagements-pour-oiseaux/
LOCATION:L’Ile Barbe\, Lyon\, 69009\, France
CATEGORIES:Eco-citoyenneté,Gratuit,Tout public
END:VEVENT
BEGIN:VEVENT
DTSTART;TZID=Europe/Paris:20240629T170000
DTEND;TZID=Europe/Paris:20240629T170000
DTSTAMP:20260420T214727
CREATED:20240529T091132Z
LAST-MODIFIED:20240529T091744Z
UID:247383-1719680400-1719680400@pole9.fr
SUMMARY:Balade nature à la découverte des oiseaux de l’Ile Barbe avec la LPO
DESCRIPTION:Balade avec jumelles autour du cou en bord de Saône avec la LPO (Ligue Protectrice des Oiseaux). L’observation est de mise pour se familiariser avec les oiseaux de bord de rivière et les espèces plus “communes” que vous pouvez apercevoir de vos balcons ou dans vos jardins. \nDans le cadre du Festival Entre Rhône et Saône.\nRDV Sur la pointe de l’Ile Barbe > 1er départ à 17h\, 2nd départ à 19h.\nDurée 2h – Gratuit – sur réservation sur https://entre-rhone-et-saone.fr/
URL:https://pole9.fr/event/balade-nature-a-la-decouverte-des-oiseaux-de-lile-barbe-avec-la-lpo/
LOCATION:L’Ile Barbe\, Lyon\, 69009\, France
CATEGORIES:Eco-citoyenneté,En famille,Gratuit
END:VEVENT
END:VCALENDAR