BEGIN:VCALENDAR
VERSION:2.0
PRODID:-//Pôle 9 - ECPv6.5.1//NONSGML v1.0//EN
CALSCALE:GREGORIAN
METHOD:PUBLISH
X-ORIGINAL-URL:https://pole9.fr
X-WR-CALDESC:évènements pour Pôle 9
REFRESH-INTERVAL;VALUE=DURATION:PT1H
X-Robots-Tag:noindex
X-PUBLISHED-TTL:PT1H
BEGIN:VTIMEZONE

END:VTIMEZONE
BEGIN:VEVENT
DTSTART;TZID=Europe/Paris:20260420T214326
DTEND;TZID=Europe/Paris:20250709T000000
DTSTAMP:20260420T214326
CREATED:20250627T135300Z
LAST-MODIFIED:20250627T135300Z
UID:248459-0-1752019200@pole9.fr
SUMMARY:mercredi de l'été #1
DESCRIPTION:SPECTACLES ET INITIATION BMX – JORIS BRETAGNOLLES\nANIMATIONS SPORT\, NATURE\, INITIATION AUX ECHECS\, JEUX POUR TOUTE LA FAMILLE\nATELIER FRESQUE AVEC L’IMPRÉVISIBLE FABRIQUE\nPRÉVENTION SANTÉ SOLEIL\n21H MUSIQUE BRÉSILIENNE DIOGO CADAVAL\nbuvette et petite restauration sur place X autofinancement jeunes
URL:https://pole9.fr/event/mercredi-de-lete-1-2/
END:VEVENT
BEGIN:VEVENT
DTSTART;TZID=Europe/Paris:20240620T180000
DTEND;TZID=Europe/Paris:20240620T200000
DTSTAMP:20260420T214326
CREATED:20240517T124116Z
LAST-MODIFIED:20240517T124116Z
UID:247345-1718906400-1718913600@pole9.fr
SUMMARY:Sortie observation Martinets avec la LPO
DESCRIPTION:Ils passent les trois quarts de leur vie à voler et ils nichent peut-être sous votre toit…Connaissez-vous vos voisins du dessus\, les martinets ?\nPartons ensemble à leur découverte.\nCette balade dans le quartier de Saint-Rambert\, sur les traces des martinets\, sera l’occasion d’évoquer le plan de sauvegarde hirondelles et martinets de la métropole de Lyon\, de découvrir les caractéristiques de ces oiseaux si particuliers\, d’observer les martinets et peut-être même de repérer certains de leurs sites de nidification. \nJumelles bienvenues ! \nGratuit – Réservation obligatoire auprès de l’accueil du Pôle 9 : 04 78 83 29 68 – accueil@pole9.fr\nDépart Chaufferie du Vergoin\nOrganisé en partenariat avec le Pôle 9 et soutenu par la Métropole de Lyon.
URL:https://pole9.fr/event/sortie-observation-martinets-avec-la-lpo-2/
LOCATION:La Chaufferie du Vergoin\, 7 rue Albert Falsan\, Lyon\, 69009\, France
CATEGORIES:Eco-citoyenneté,Gratuit
END:VEVENT
END:VCALENDAR