BEGIN:VCALENDAR
VERSION:2.0
PRODID:-//Pôle 9 - ECPv6.5.1//NONSGML v1.0//EN
CALSCALE:GREGORIAN
METHOD:PUBLISH
X-WR-CALNAME:Pôle 9
X-ORIGINAL-URL:https://pole9.fr
X-WR-CALDESC:évènements pour Pôle 9
REFRESH-INTERVAL;VALUE=DURATION:PT1H
X-Robots-Tag:noindex
X-PUBLISHED-TTL:PT1H
BEGIN:VTIMEZONE

END:VTIMEZONE
BEGIN:VEVENT
DTSTART;TZID=Europe/Paris:20260421T003902
DTEND;TZID=Europe/Paris:20250709T000000
DTSTAMP:20260421T003902
CREATED:20250627T135300Z
LAST-MODIFIED:20250627T135300Z
UID:248459-0-1752019200@pole9.fr
SUMMARY:mercredi de l'été #1
DESCRIPTION:SPECTACLES ET INITIATION BMX – JORIS BRETAGNOLLES\nANIMATIONS SPORT\, NATURE\, INITIATION AUX ECHECS\, JEUX POUR TOUTE LA FAMILLE\nATELIER FRESQUE AVEC L’IMPRÉVISIBLE FABRIQUE\nPRÉVENTION SANTÉ SOLEIL\n21H MUSIQUE BRÉSILIENNE DIOGO CADAVAL\nbuvette et petite restauration sur place X autofinancement jeunes
URL:https://pole9.fr/event/mercredi-de-lete-1-2/
END:VEVENT
BEGIN:VEVENT
DTSTART;TZID=Europe/Paris:20240412T090000
DTEND;TZID=Europe/Paris:20240525T170000
DTSTAMP:20260421T003902
CREATED:20240402T120017Z
LAST-MODIFIED:20240402T120017Z
UID:247265-1712912400-1716656400@pole9.fr
SUMMARY:Exposition Les martinets et les hirondelles font le printemps (LPO)
DESCRIPTION:Vous avez forcément dû faire l’observation au moins une fois de ces deux espèces d’oiseaux que sont les Hirondelles et les Martinets \nIls se ressemblent sur certains aspects mais attention\, quand on creuse bien\, ils sont tout à fait différents. Il n’y a pas d’hirondelles à Saint Rambert\, mais beaucoup\, beaucoup de martinets. Cette exposition vous permettra de découvrir le parcours de ces deux espèces extraordinaires à tous points de vue.
URL:https://pole9.fr/event/exposition-les-martinets-et-les-hirondelles-font-le-printemps-lpo/
LOCATION:Pôle 9 – MJC Centre Social\, 4 rue Sylvain Simondan\, Lyon\, 69009\, France
CATEGORIES:Eco-citoyenneté,Exposition,Gratuit
END:VEVENT
BEGIN:VEVENT
DTSTART;TZID=Europe/Paris:20240425T100000
DTEND;TZID=Europe/Paris:20240425T100000
DTSTAMP:20260421T003902
CREATED:20240402T130042Z
LAST-MODIFIED:20240402T130652Z
UID:247300-1714039200-1714039200@pole9.fr
SUMMARY:Sortie au Parc de la Tête d'Or
DESCRIPTION:Sortie de proximité au parc de la Tête d’Or.\nAu programme : le matin un petit coucou aux animaux puis petite pause pique-nique tiré du sac et après midi mini-golf. \nDépart en TCL en direction du parc (prévoir ses titres de transport).     \nTarif : 3 euros par personne.\nInscription à l’accueil à partir du 3 Avril.  \n 
URL:https://pole9.fr/event/sortie-au-parc-de-la-tete-dor/
LOCATION:Extérieur
CATEGORIES:Sortie familles
END:VEVENT
END:VCALENDAR