BEGIN:VCALENDAR
VERSION:2.0
PRODID:-//Pôle 9 - ECPv6.5.1//NONSGML v1.0//EN
CALSCALE:GREGORIAN
METHOD:PUBLISH
X-WR-CALNAME:Pôle 9
X-ORIGINAL-URL:https://pole9.fr
X-WR-CALDESC:évènements pour Pôle 9
REFRESH-INTERVAL;VALUE=DURATION:PT1H
X-Robots-Tag:noindex
X-PUBLISHED-TTL:PT1H
BEGIN:VTIMEZONE

END:VTIMEZONE
BEGIN:VEVENT
DTSTART;TZID=Europe/Paris:20260421T003458
DTEND;TZID=Europe/Paris:20250709T000000
DTSTAMP:20260421T003458
CREATED:20250627T135300Z
LAST-MODIFIED:20250627T135300Z
UID:248459-0-1752019200@pole9.fr
SUMMARY:mercredi de l'été #1
DESCRIPTION:SPECTACLES ET INITIATION BMX – JORIS BRETAGNOLLES\nANIMATIONS SPORT\, NATURE\, INITIATION AUX ECHECS\, JEUX POUR TOUTE LA FAMILLE\nATELIER FRESQUE AVEC L’IMPRÉVISIBLE FABRIQUE\nPRÉVENTION SANTÉ SOLEIL\n21H MUSIQUE BRÉSILIENNE DIOGO CADAVAL\nbuvette et petite restauration sur place X autofinancement jeunes
URL:https://pole9.fr/event/mercredi-de-lete-1-2/
END:VEVENT
BEGIN:VEVENT
DTSTART;TZID=Europe/Paris:20240412T090000
DTEND;TZID=Europe/Paris:20240525T170000
DTSTAMP:20260421T003458
CREATED:20240402T120017Z
LAST-MODIFIED:20240402T120017Z
UID:247265-1712912400-1716656400@pole9.fr
SUMMARY:Exposition Les martinets et les hirondelles font le printemps (LPO)
DESCRIPTION:Vous avez forcément dû faire l’observation au moins une fois de ces deux espèces d’oiseaux que sont les Hirondelles et les Martinets \nIls se ressemblent sur certains aspects mais attention\, quand on creuse bien\, ils sont tout à fait différents. Il n’y a pas d’hirondelles à Saint Rambert\, mais beaucoup\, beaucoup de martinets. Cette exposition vous permettra de découvrir le parcours de ces deux espèces extraordinaires à tous points de vue.
URL:https://pole9.fr/event/exposition-les-martinets-et-les-hirondelles-font-le-printemps-lpo/
LOCATION:Pôle 9 – MJC Centre Social\, 4 rue Sylvain Simondan\, Lyon\, 69009\, France
CATEGORIES:Eco-citoyenneté,Exposition,Gratuit
END:VEVENT
BEGIN:VEVENT
DTSTART;TZID=Europe/Paris:20240412T173000
DTEND;TZID=Europe/Paris:20240412T193000
DTSTAMP:20260421T003458
CREATED:20240402T120348Z
LAST-MODIFIED:20240402T120348Z
UID:247268-1712943000-1712950200@pole9.fr
SUMMARY:Vente de couscous à emporter 
DESCRIPTION:Déguster l’authenticité et les saveurs de ce couscous fait maison par les SuperMamans et soutenez leur projet de séjour en famille en Ardèche. \n15 euros la part avec dessert – tarte poire et amande. \nCommande et règlement uniquement en espèces à faire à l’accueil\, jusqu’au 9 avril.
URL:https://pole9.fr/event/vente-de-couscous-a-emporter/
LOCATION:Pôle 9 – MJC Centre Social\, 4 rue Sylvain Simondan\, Lyon\, 69009\, France
CATEGORIES:évènement
END:VEVENT
BEGIN:VEVENT
DTSTART;TZID=Europe/Paris:20240412T180000
DTEND;TZID=Europe/Paris:20240412T180000
DTSTAMP:20260421T003458
CREATED:20240402T115206Z
LAST-MODIFIED:20240402T115206Z
UID:247257-1712944800-1712944800@pole9.fr
SUMMARY:Apéros Vigie Oiseaux
DESCRIPTION:De nombreux oiseaux ont élu domicile dans notre quartier de Saint Rambert. Au printemps\, les envolées du nid des oisillons restent parfois compliquées.\nVous pouvez aider\, veiller à ce que ce moment crucial se passe bien pour les nouvelles générations d’oiseaux qui prennent leur envol. \nOn vous explique comment autour d’un apéro !
URL:https://pole9.fr/event/aperos-vigie-oiseaux/
LOCATION:Pôle 9 – MJC Centre Social\, 4 rue Sylvain Simondan\, Lyon\, 69009\, France
CATEGORIES:Eco-citoyenneté,En famille
END:VEVENT
BEGIN:VEVENT
DTSTART;TZID=Europe/Paris:20240412T190000
DTEND;TZID=Europe/Paris:20240412T190000
DTSTAMP:20260421T003458
CREATED:20240402T115708Z
LAST-MODIFIED:20240405T064820Z
UID:247262-1712948400-1712948400@pole9.fr
SUMMARY:Atelier conférence de la Ligue pour la Protection des Oiseaux (LPO)
DESCRIPTION:Reconnaître et protéger les martinets et les hirondelles de St Rambert\nReconnaître ces oiseaux que je rencontre au quotidien dans mon quartier\, et apprendre quels sont leurs besoins afin d’y répondre au mieux.\nC’est ce que propose la LPO (Ligue pour la protection des Oiseaux) lors de cette soirée ludique et participative. \nGratuit – sur réservation à l’accueil du Pôle 9
URL:https://pole9.fr/event/atelier-conference-de-la-ligue-protectrice-des-oiseaux/
LOCATION:Pôle 9 – MJC Centre Social\, 4 rue Sylvain Simondan\, Lyon\, 69009\, France
CATEGORIES:Conférence,Eco-citoyenneté
END:VEVENT
END:VCALENDAR