BEGIN:VCALENDAR
VERSION:2.0
PRODID:-//Pôle 9 - ECPv6.5.1//NONSGML v1.0//EN
CALSCALE:GREGORIAN
METHOD:PUBLISH
X-WR-CALNAME:Pôle 9
X-ORIGINAL-URL:https://pole9.fr
X-WR-CALDESC:évènements pour Pôle 9
REFRESH-INTERVAL;VALUE=DURATION:PT1H
X-Robots-Tag:noindex
X-PUBLISHED-TTL:PT1H
BEGIN:VTIMEZONE

END:VTIMEZONE
BEGIN:VEVENT
DTSTART;TZID=Europe/Paris:20260421T015943
DTEND;TZID=Europe/Paris:20250709T000000
DTSTAMP:20260421T015943
CREATED:20250627T135300Z
LAST-MODIFIED:20250627T135300Z
UID:248459-0-1752019200@pole9.fr
SUMMARY:mercredi de l'été #1
DESCRIPTION:SPECTACLES ET INITIATION BMX – JORIS BRETAGNOLLES\nANIMATIONS SPORT\, NATURE\, INITIATION AUX ECHECS\, JEUX POUR TOUTE LA FAMILLE\nATELIER FRESQUE AVEC L’IMPRÉVISIBLE FABRIQUE\nPRÉVENTION SANTÉ SOLEIL\n21H MUSIQUE BRÉSILIENNE DIOGO CADAVAL\nbuvette et petite restauration sur place X autofinancement jeunes
URL:https://pole9.fr/event/mercredi-de-lete-1-2/
END:VEVENT
BEGIN:VEVENT
DTSTART;TZID=Europe/Paris:20240311T100000
DTEND;TZID=Europe/Paris:20240328T183000
DTSTAMP:20260421T015943
CREATED:20240228T154218Z
LAST-MODIFIED:20240229T085054Z
UID:247174-1710151200-1711650600@pole9.fr
SUMMARY:Exposition Peinture - Angèle FONSECA 
DESCRIPTION:“Je m’appelle Angèle FONSECA\, j’habite à Saint-Cyr-au-Mont-d’Or. J’aime profondément la peinture\, je peins les images qui flottent dans ma tête.\nÇa permet de m’exprimer\, de vider mon esprit\, c’est comme une thérapie. Au début\, je peignais pour moi\, pour le plaisir.\nEn 2015 j’ai eu l’occasion d’exposer pour la Biennale Hors Norme de Lyon.\nC’est important pour moi d’exposer et montrer qui je suis. La peinture c’est ma vie.” \nVernissage : vendredi 15 mars à 17h.
URL:https://pole9.fr/event/exposition-peinture-angele-fonseca/
LOCATION:Pôle 9 – MJC Centre Social\, 4 rue Sylvain Simondan\, Lyon\, 69009\, France
CATEGORIES:Exposition,Gratuit
ATTACH;FMTTYPE=image/png:https://pole9.fr/wp-content/uploads/2024/02/angele-4.png
END:VEVENT
BEGIN:VEVENT
DTSTART;TZID=Europe/Paris:20240327T143000
DTEND;TZID=Europe/Paris:20240327T170000
DTSTAMP:20260421T015943
CREATED:20240321T091322Z
LAST-MODIFIED:20240321T092152Z
UID:247240-1711549800-1711558800@pole9.fr
SUMMARY:Atelier parent-enfant apprenti chocolatier
DESCRIPTION:Venez préparer à 4 mains des petits chocolats. Gourmand(e)s\, ne pas s’abstenir !\n3 euros par enfant et gratuit pour l’accompagnant adulte.\nInscription à l’accueil
URL:https://pole9.fr/event/atelier-parent-enfant-apprenti-chocolatier/
LOCATION:Pôle 9 – MJC Centre Social\, 4 rue Sylvain Simondan\, Lyon\, 69009\, France
CATEGORIES:Atelier parents/enfants
END:VEVENT
BEGIN:VEVENT
DTSTART;TZID=Europe/Paris:20240327T150000
DTEND;TZID=Europe/Paris:20240327T160000
DTSTAMP:20260421T015943
CREATED:20240229T080042Z
LAST-MODIFIED:20240229T080241Z
UID:247187-1711551600-1711555200@pole9.fr
SUMMARY:Théâtre - J'ai trop d'amis
DESCRIPTION:C’est une rentrée importante la classe de sixième ! L’occasion de nouer de nouvelles amitiés… à condition de savoir faire le tri entre vrais et faux amis.\nMolière du meilleur spectacle jeune public 2022\, cette pièce irrésistible\, drôle et tendre\, nous projette dans la préadolescence\, le sourire aux lèvres. \nEntrer en 6ème\, c’est franchir les portes d’un monde nouveau\, avec impatience et appréhension. On quitte les visages familiers du primaire pour se tourner vers l’inconnu et toutes ses nouvelles têtes. Avec ou sans casquette\, bientôt chacune portera une étiquette : le garçon populaire\, l’intello\, la déléguée ou encore la chanteuse… Il faut se forger sans tarder une bonne réputation !\nPas facile\, quand on ne connaît pas encore les règles du collège. Le moindre faux pas risque de froisser « les gens de la classe »\, ces trente têtes qu’on ne veut surtout pas se mettre à dos. Ce ne sont pas les délicieux babillages de la petite soeur\, qui entre tout juste à l’école maternelle\, qui pourront aider le collégien dérouté !\nTrois comédiennes\, caustiques à souhait\, interprètent les six rôles de J’ai trop d’amis. Loin d’être enfermés entre quatre murs\, les personnages quittent le milieu scolaire pour investir d’autres lieux\, plus propices aux confidences\, grâce à quelques manipulations habiles d’une scène-boîte à secrets. Ce spectacle familial offre de grands éclats de rire aux futurs\, anciens ou actuels collégiens… \nA partir de 8 ans – Durée 45 minutes \nDavid Lescot – Cie du Kaïros\nProposition du Théâtre Nouvelle Génération de Vaise \nRéservations auprès du TNG au 04 72 53 15 15 / https://www.tng-lyon.fr/evenement/jai-trop-damis/
URL:https://pole9.fr/event/theatre-jai-trop-damis/
LOCATION:Pôle 9 – MJC Centre Social\, 4 rue Sylvain Simondan\, Lyon\, 69009\, France
CATEGORIES:Théâtre
END:VEVENT
END:VCALENDAR